Workbook

Sheet 표지
B10: 2023년 2분기
B11: Factsheet
B16: Contents
B18: I. 경영실적 Highlights
B20: Ⅱ. 보험료 현황 (Premium)
B22: Ⅲ. 종목별 보험손익 (UW Income)
B24: Ⅳ. 요약 손익계산서
B26: Ⅴ. 요약 재무상태표

Sheet Highlight
B1: I. 경영실적 Highlights
B4: 1. 보험료
K5: (단위:백만원)
B6: 구 분 | D6: 2023.1Q | E6: 2023 | J6: 2022
E7: 23.2Q | H7: 23.2Q 누계 | J7: 22.2Q | K7: 22.2Q 누계
F8: QoQ | G8: YoY | I8: YoY
B9: 장 기 | D9: 526622.1 | E9: 542771.68 | F9: 0.030666364 | G9: 0.10678236 | H9: 1069393.8 | I9: 0.095055988 | J9: 490405.07 | K9: 976565.39
B10: 일 반 | D10: 33305.628 | E10: 40553.338 | F10: 0.21761217 | G10: -0.038381729 | H10: 73858.966 | I10: -0.029090591 | J10: 42171.971 | K10: 76071.943
B11: 자 동 차 | D11: 35436.598 | E11: 31982.659 | F11: -0.097468112 | G11: -0.081064445 | H11: 67419.257 | I11: -0.092721148 | J11: 34804.029 | K11: 74309.301
B12: 총 계 | D12: 595364.32 | E12: 615307.68 | F12: 0.033497735 | G12: 0.084469872 | H12: 1210672 | I12: 0.074293994 | J12: 567381.07 | K12: 1126946.6
B13: 주) 원수보험료 기준
B15: 2. 손 익
K16: (단위:백만원)
B17: 구 분 | D17: 2023.1Q | E17: 2023 | J17: 2022
E18: 23.2Q | H18: 23.2Q 누계 | J18: 22.2Q | K18: 22.2Q 누계
F19: QoQ | G19: YoY | I19: YoY
B20: 보 험 손 익 | D20: 46982.71 | E20: 55914.913 | F20: 0.1901168 | G20: 0.21416177 | H20: 102897.62 | I20: 0.024428206 | J20: 46052.276 | K20: 100443.96
B21: - 장 기 | D21: 41589.771 | E21: 54438.629 | F21: 0.30894274 | G21: 0.18475382 | H21: 96028.4 | I21: 0.0029998327 | J21: 45949.317 | K21: 95741.192
C22: CSM 상각 | D22: 41025.948 | E22: 43313.283 | F22: 0.05575337 | G22: 0.10153051 | H22: 84339.23 | I22: 0.096422896 | J22: 39321.001 | K22: 76922.172
C23: RA 변동 | D23: 4627.1133 | E23: 4860.4814 | F23: 0.050434918 | G23: -0.16586744 | H23: 9487.5947 | I23: -0.16086607 | J23: 5826.9891 | K23: 11306.413
B24: - 일 반 | D24: 3519.1575 | E24: 2226.9782 | F24: -0.36718426 | G24: - | H24: 5746.1357 | I24: -0.29220101 | J24: -599.88842 | K24: 8118.3158
B25: - 자동차 | D25: 1873.7819 | E25: -750.69431 | F25: -1.4006306 | G25: -2.0680759 | H25: 1123.0876 | I25: -0.61675559 | J25: 702.84733 | K25: 2930.4735
B26: 투 자 손 익 | D26: 58047.354 | E26: -8488.0606 | F26: -1.1462265 | G26: - | H26: 49559.293 | I26: - | J26: -50618.61 | K26: -90593.109
B27: 영업외손익 | D27: -1627.6362 | E27: 256.89663 | F27: - | G27: - | H27: -1370.7396 | I27: - | J27: -345.97173 | K27: -1383.3551
B28: 당기순이익 | D28: 79374.582 | E28: 33597.165 | F28: -0.5767264 | G28: - | H28: 112971.75 | I28: 16.261073 | J28: -3960.7392 | K28: 6544.8854
B30: 3. 재 무
K31: (단위:백만원)
B32: 구 분 | D32: 2023. 3월 말 | H32: 2023. 6월 말
K33: (YTD)
B34: 총 자산 | D34: 14619371 | H34: 13601366 | K34: -0.069633985
B35: CSM 잔액 | D35: 1894926.9 | H35: 1963350.5 | K35: 0.036108854
B36: 자기자본 | D36: 1417967.5 | H36: 1451130.5 | K36: 0.023387721
B37: 지급여력비율 (K-ICS) | D37: 1.783 | H37: 산출중 | K37: -
B38: 주) CSM 잔액 : 원수 기준
B39: 주) 지급여력비율 : 경과조치 적용후 기준임 / 23년 6월말 기준은 확정 후 추후 공시 예정임

Sheet Premium
B1: II. 보험료 현황
M4: (단위:백만원)
B5: 구 분 | E5: 2023. 1Q | F5: 2023 | L5: 2022
F6: 23.2Q | I6: 23.2Q 누계 | L6: 22.2Q | M6: 22.2Q 누계
G7: QoQ | H7: YoY | J7: 구성비 | K7: YoY | N7: 구성비
B8: 장 기 | E8: 526622.1 | F8: 542771.68 | G8: 0.030666364 | H8: 0.10678236 | I8: 1069393.8 | J8: 0.88330595 | K8: 0.095055988 | L8: 490405.07 | M8: 976565.39 | N8: 0.86655868
C9: 보장성 | E9: 505047.68 | F9: 522690.02 | G9: 0.034932033 | H9: 0.13849542 | I9: 1027737.7 | J9: 0.84889855 | K9: 0.12869648 | L9: 459105.95 | M9: 910552.77 | N9: 0.80798216
C10: 저축성 | E10: 21574.415 | F10: 20081.658 | G10: -0.069191103 | H10: -0.35839547 | I10: 41656.073 | J10: 0.034407398 | K10: -0.36896803 | L10: 31299.121 | M10: 66012.618 | N10: 0.058576525
B11: 일 반 | E11: 33305.628 | F11: 40553.338 | G11: 0.21761217 | H11: -0.038381729 | I11: 73858.966 | J11: 0.061006586 | K11: -0.029090591 | L11: 42171.971 | M11: 76071.943 | N11: 0.067502703
B12: 자 동 차 | E12: 35436.598 | F12: 31982.659 | G12: -0.097468112 | H12: -0.081064445 | I12: 67419.257 | J12: 0.055687467 | K12: -0.092721148 | L12: 34804.029 | M12: 74309.301 | N12: 0.065938615
B13: 합 계 | E13: 595364.32 | F13: 615307.68 | G13: 0.033497735 | H13: 0.084469872 | I13: 1210672 | J13: 1 | K13: 0.074293994 | L13: 567381.07 | M13: 1126946.6 | N13: 1
B14: 주) 원수보험료 기준 | H14: =(F14-L14)/L14 -> #DIV/0!
B16: ※ 장기보험 신규 월납 실적
B17: 보장성 | E17: 10863.025 | F17: 8498.8886 | G17: -0.21763152 | H17: 0.40102586 | I17: 19361.914 | J17: 0.99371822 | K17: 0.708085 | L17: 6066.1897 | M17: 11335.451 | N17: 0.98705284
B18: 저축성 | E18: 89.7092 | F18: 32.687 | G18: -0.6356338 | H18: -0.61789389 | I18: 122.3962 | J18: 0.0062817826 | K18: -0.17681976 | L18: 85.5443 | M18: 148.687 | N18: 0.012947162
B19: 합 계 | E19: 10952.735 | F19: 8531.5756 | G19: -0.2210552 | H19: 0.38685705 | I19: 19484.31 | J19: 1 | K19: 0.696628 | L19: 6151.734 | M19: 11484.138 | N19: 1
B20: 주) 1. 보장성 : 재물 포함, 2. 저축성 : 연금 포함

Sheet UW Income
B1: III. 종목별 보험손익
L4: (단위:백만원)
B5: 구 분 | E5: 2023.1Q | F5: 2023 | K5: 2022
F6: 23.2Q | I6: 23.2Q 누계 | K6: 22.2Q | L6: 22.2Q 누계
G7: QoQ | H7: YoY | J7: YoY
B8: 장기 | C8: CSM 상각 (+) | E8: 41025.948 | F8: 43313.283 | G8: 0.05575337 | H8: 0.10153051 | I8: 84339.23 | J8: 0.096422896 | K8: 39321.001 | L8: 76922.172
C9: RA 변동 (+) | E9: 4627.1133 | F9: 4860.4814 | G9: 0.050434918 | H9: -0.16586744 | I9: 9487.5947 | J9: -0.16086607 | K9: 5826.9891 | L9: 11306.413
C10: 예상대비 실제 차이 (+) | E10: 9728.6503 | F10: 18100.099 | G10: 0.86049437 | H10: 0.2779031 | I10: 27828.749 | J10: -0.036294769 | K10: 14163.906 | L10: 28876.827
C11: - 보험금 예실차 | E11: 9916.773 | F11: 18770.655 | G11: 0.89281883 | H11: 0.043849228 | I11: 28687.428 | J11: -0.1339078 | K11: 17982.151 | L11: 33122.833
C12: - 사업비 예실차 | E12: -188.12267 | F12: -670.55548 | G12: - | H12: - | I12: -858.67815 | J12: - | K12: -3818.2454 | L12: -4246.0062
C13: 재보험 손익 (+) | E13: -4735.9648 | F13: -6448.5628 | G13: - | H13: - | I13: -11184.528 | J13: - | K13: -6687.7765 | L13: -10342.803
C14: 기타사업비 등 (-) | E14: 9055.9757 | F14: 5386.6714 | G14: -0.40518044 | H14: -0.1929842 | I14: 14442.647 | J14: 0.31041657 | K14: 6674.8029 | L14: 11021.417
C15: 보 험 손 익 | E15: 41589.771 | F15: 54438.629 | G15: 0.30894274 | H15: 0.18475382 | I15: 96028.4 | J15: 0.0029998327 | K15: 45949.317 | L15: 95741.192
B16: 일반 | C16: 보험영업수익 (+) | E16: 16574.594 | F16: 13371.928 | G16: -0.19322741 | H16: -0.21511382 | I16: 29946.521 | J16: -0.22756553 | K16: 17036.773 | L16: 38769.012
C17: 보험영업비용 (-) | E17: 13055.436 | F17: 11144.95 | G17: -0.14633648 | H17: -0.36808055 | I17: 24200.386 | J17: -0.34587754 | K17: 17636.662 | L17: 36996.72
C18: 보 험 손 익 | E18: 3519.1575 | F18: 2226.9782 | G18: -0.36718426 | H18: - | I18: 5746.1357 | J18: 2.2422066 | K18: -599.88842 | L18: 1772.2916
B19: 자동차 | C19: 보험영업수익 (+) | E19: 28141.63 | F19: 28250.959 | G19: 0.0038849631 | H19: -0.18987106 | I19: 56392.589 | J19: -0.22063463 | K19: 34872.176 | L19: 72357.062
C20: 보험영업비용 (-) | E20: 26267.848 | F20: 29001.653 | G20: 0.10407421 | H20: -0.15123725 | I20: 55269.501 | J20: -0.2039145 | K20: 34169.329 | L20: 69426.589
C21: 보 험 손 익 | E21: 1873.7819 | F21: -750.69431 | G21: -1.4006306 | H21: -2.0680759 | I21: 1123.0876 | J21: -0.61675559 | K21: 702.84733 | L21: 2930.4735
B22: 보 험 손 익 합계 | E22: 46982.71 | F22: 55914.913 | G22: 0.1901168 | H22: 0.21416177 | I22: 102897.62 | J22: 0.024428206 | K22: 46052.276 | L22: 100443.96
B23: 주) 1. (장기보험) 사업비 예실차 : 손해조사비, 보험료무관체결비, 유지비, 투자관리비 예실차
B24: 2. (장기보험) 기타사업비 등 : 간접비, 손실요소관련비용 등
B25: 3. (일반,자동차보험) 발생손해액 : 발생보험금, 발생사고요소조정, 발생손해조사비 등
B26: 4. (일반,자동차보험) 보험영업수익 : 보험수익-재보험서비스비용
B27: 5. (일반,자동차보험) 보험영업비용 : 보험서비스비용-재보험수익+기타사업비용

Sheet IS
B1: IV. 요약 손익계산서
B4: 본 페이지는 DART 공시 제79기 반기보고서 > III. 재무에 관한 사항 1. 요약재무정보를 참고하여 주시기 바랍니다.

Sheet BS
B1: V. 요약 재무상태표
B4: 본 페이지는 DART 공시 제79기 반기보고서 > III. 재무에 관한 사항 1. 요약재무정보를 참고하여 주시기 바랍니다.

Sheet >>경영기획팀back

Sheet 월별
H6: 202112 | I6: =+H7 -> 202203 | J6: =+I7 -> 202206 | K6: =+J7 -> 202209 | L6: =+K7 -> 202212 | M6: =+L7 -> 202303 | N6: =+M7 -> 202306 | O6: =+N7 -> 202309
H7: 202203 | I7: =+H7+3 -> 202206 | J7: =+I7+3 -> 202209 | K7: =+J7+3 -> 202212 | L7: =+H7+100 -> 202303 | M7: =+I7+100 -> 202306 | N7: =+J7+100 -> 202309 | O7: =+K7+100 -> 202312
H8: 2022 | I8: 2022 | J8: 2022 | K8: 2022 | L8: 2023 | M8: 2023 | N8: 2023 | O8: 2023 | Q8: =+VALUE(LEFT(Q11,4)) -> 2022 | R8: =+VALUE(LEFT(R11,4)) -> 2022 | S8: =+VALUE(LEFT(S11,4)) -> 2022 | T8: =+VALUE(LEFT(T11,4)) -> 2022 | U8: =+VALUE(LEFT(U11,4)) -> 2022 | V8: =+VALUE(LEFT(V11,4)) -> 2022 | W8: =+VALUE(LEFT(W11,4)) -> 2022 | X8: =+VALUE(LEFT(X11,4)) -> 2022 | ... AN8: =+VALUE(LEFT(AN11,4)) -> 2023
C9: (단위 : 백만원) | H9: 1Q | I9: 2Q | J9: 3Q | K9: 4Q | L9: 1Q | M9: 2Q | N9: 3Q | O9: 4Q | Q9: 1Q | R9: 1Q | S9: 1Q | T9: 2Q | U9: 2Q | V9: 2Q | W9: 3Q | X9: 3Q | Y9: 3Q | Z9: 4Q | AA9: 4Q | AB9: 4Q | AC9: 1Q | AD9: 1Q | AE9: 1Q | AF9: 2Q | AG9: 2Q | AH9: 2Q | AI9: 3Q | AJ9: 3Q | AK9: 3Q | AL9: 4Q | AM9: 4Q | AN9: 4Q
C10: 1. 보험료
A11: 2022 | B11: 2023 | C11: 구분 | H11: 2022 | L11: 2023 | Q11: 202201 | R11: =+Q11+1 -> 202202 | S11: =+R11+1 -> 202203 | T11: =+S11+1 -> 202204 | U11: =+T11+1 -> 202205 | V11: =+U11+1 -> 202206 | W11: =+V11+1 -> 202207 | X11: =+W11+1 -> 202208 | Y11: =+X11+1 -> 202209 | ... AB11: =+AA11+1 -> 202212 | AC11: =+Q11+100 -> 202301 | AD11: =+R11+100 -> 202302 | AE11: =+S11+100 -> 202303 | AF11: =+T11+100 -> 202304 | AG11: =+U11+100 -> 202305 | AH11: =+V11+100 -> 202306 | AI11: =+W11+100 -> 202307 | AJ11: =+X11+100 -> 202308 | ... AN11: =+AB11+100 -> 202312
A12: 2Q누계 | B12: 2Q누계 | H12: 1Q | I12: 2Q | J12: 3Q | K12: 4Q | L12: 1Q | M12: 2Q | N12: 3Q | O12: 4Q
A13: =+H13+I13 -> 976565.39 | B13: =+L13+M13 -> 1069393.8 | C13: 장기 | H13: =+SUMIFS($Q13:$AN13,$Q$8:$AN$8,H$8,$Q$9:$AN$9,H$9) -> 486160.32 | I13: =+SUMIFS($Q13:$AN13,$Q$8:$AN$8,I$8,$Q$9:$AN$9,I$9) -> 490405.07 | J13: =+SUMIFS($Q13:$AN13,$Q$8:$AN$8,J$8,$Q$9:$AN$9,J$9) -> 499449.79 | K13: =+SUMIFS($Q13:$AN13,$Q$8:$AN$8,K$8,$Q$9:$AN$9,K$9) -> 574600.4 | L13: =+SUMIFS($Q13:$AN13,$Q$8:$AN$8,L$8,$Q$9:$AN$9,L$9) -> 526622.1 | M13: =+SUMIFS($Q13:$AN13,$Q$8:$AN$8,M$8,$Q$9:$AN$9,M$9) -> 542771.68 | N13: =+SUMIFS($Q13:$AN13,$Q$8:$AN$8,N$8,$Q$9:$AN$9,N$9) -> 0 | O13: =+SUMIFS($Q13:$AN13,$Q$8:$AN$8,O$8,$Q$9:$AN$9,O$9) -> 0 | Q13: =+SUMIFS('R'!$G:$G,'R'!$B:$B,월별!Q$11)/1000000 -> 161679.66 | R13: =+SUMIFS('R'!$G:$G,'R'!$B:$B,월별!R$11)/1000000 -> 160373.36 | S13: =+SUMIFS('R'!$G:$G,'R'!$B:$B,월별!S$11)/1000000 -> 164107.3 | T13: =+SUMIFS('R'!$G:$G,'R'!$B:$B,월별!T$11)/1000000 -> 162960.55 | U13: =+SUMIFS('R'!$G:$G,'R'!$B:$B,월별!U$11)/1000000 -> 163462.15 | V13: =+SUMIFS('R'!$G:$G,'R'!$B:$B,월별!V$11)/1000000 -> 163982.37 | W13: =+SUMIFS('R'!$G:$G,'R'!$B:$B,월별!W$11)/1000000 -> 165823.04 | X13: =+SUMIFS('R'!$G:$G,'R'!$B:$B,월별!X$11)/1000000 -> 166170.62 | ... AH13: =+SUMIFS('R'!$G:$G,'R'!$B:$B,월별!AH$11)/1000000 -> 182963.12
A14: =+H14+I14 -> 11484.138 | B14: =+L14+M14 -> 19484.31 | D14: 신규월납 | H14: =+SUMIFS($Q14:$AN14,$Q$8:$AN$8,H$8,$Q$9:$AN$9,H$9) -> 5332.4041 | I14: =+SUMIFS($Q14:$AN14,$Q$8:$AN$8,I$8,$Q$9:$AN$9,I$9) -> 6151.734 | J14: =+SUMIFS($Q14:$AN14,$Q$8:$AN$8,J$8,$Q$9:$AN$9,J$9) -> 8179.6113 | K14: =+SUMIFS($Q14:$AN14,$Q$8:$AN$8,K$8,$Q$9:$AN$9,K$9) -> 8855.5615 | L14: =+SUMIFS($Q14:$AN14,$Q$8:$AN$8,L$8,$Q$9:$AN$9,L$9) -> 10952.735 | M14: =+SUMIFS($Q14:$AN14,$Q$8:$AN$8,M$8,$Q$9:$AN$9,M$9) -> 8531.5756 | N14: =+SUMIFS($Q14:$AN14,$Q$8:$AN$8,N$8,$Q$9:$AN$9,N$9) -> 0 | O14: =+SUMIFS($Q14:$AN14,$Q$8:$AN$8,O$8,$Q$9:$AN$9,O$9) -> 0 | Q14: =+SUMIFS('R'!$G:$G,'R'!$B:$B,월별!Q$11,'R'!$F:$F,"Y",'R'!$E:$E,"10")/1000000 -> 1575.1103 | R14: =+SUMIFS('R'!$G:$G,'R'!$B:$B,월별!R$11,'R'!$F:$F,"Y",'R'!$E:$E,"10")/1000000 -> 1530.7436 | S14: =+SUMIFS('R'!$G:$G,'R'!$B:$B,월별!S$11,'R'!$F:$F,"Y",'R'!$E:$E,"10")/1000000 -> 2226.5502 | T14: =+SUMIFS('R'!$G:$G,'R'!$B:$B,월별!T$11,'R'!$F:$F,"Y",'R'!$E:$E,"10")/1000000 -> 1859.1214 | U14: =+SUMIFS('R'!$G:$G,'R'!$B:$B,월별!U$11,'R'!$F:$F,"Y",'R'!$E:$E,"10")/1000000 -> 2005.5925 | V14: =+SUMIFS('R'!$G:$G,'R'!$B:$B,월별!V$11,'R'!$F:$F,"Y",'R'!$E:$E,"10")/1000000 -> 2287.0201 | W14: =+SUMIFS('R'!$G:$G,'R'!$B:$B,월별!W$11,'R'!$F:$F,"Y",'R'!$E:$E,"10")/1000000 -> 2642.3031 | X14: =+SUMIFS('R'!$G:$G,'R'!$B:$B,월별!X$11,'R'!$F:$F,"Y",'R'!$E:$E,"10")/1000000 -> 2649.7983 | ... AH14: =+SUMIFS('R'!$G:$G,'R'!$B:$B,월별!AH$11,'R'!$F:$F,"Y",'R'!$E:$E,"10")/1000000 -> 3386.0545
A15: =+H15+I15 -> 76071.943 | B15: =+L15+M15 -> 73858.966 | C15: 일반 | H15: =+SUMIFS($Q15:$AN15,$Q$8:$AN$8,H$8,$Q$9:$AN$9,H$9) -> 33899.973 | I15: =+SUMIFS($Q15:$AN15,$Q$8:$AN$8,I$8,$Q$9:$AN$9,I$9) -> 42171.971 | J15: =+SUMIFS($Q15:$AN15,$Q$8:$AN$8,J$8,$Q$9:$AN$9,J$9) -> 31894.665 | K15: =+SUMIFS($Q15:$AN15,$Q$8:$AN$8,K$8,$Q$9:$AN$9,K$9) -> 32764.057 | L15: =+SUMIFS($Q15:$AN15,$Q$8:$AN$8,L$8,$Q$9:$AN$9,L$9) -> 33305.628 | M15: =+SUMIFS($Q15:$AN15,$Q$8:$AN$8,M$8,$Q$9:$AN$9,M$9) -> 40553.338 | N15: =+SUMIFS($Q15:$AN15,$Q$8:$AN$8,N$8,$Q$9:$AN$9,N$9) -> 0 | O15: =+SUMIFS($Q15:$AN15,$Q$8:$AN$8,O$8,$Q$9:$AN$9,O$9) -> 0 | Q15: =+'[1]K-IFRS_당월'!GD5 -> 16655.657 | R15: =+'[1]K-IFRS_당월'!GE5 -> 6880.6089 | S15: =+'[1]K-IFRS_당월'!GF5 -> 10363.707 | T15: =+'[1]K-IFRS_당월'!GG5 -> 11195.858 | U15: =+'[1]K-IFRS_당월'!GH5 -> 9008.2238 | V15: =+'[1]K-IFRS_당월'!GI5 -> 21967.889 | W15: =+'[1]K-IFRS_당월'!GJ5 -> 15276.625 | X15: =+'[1]K-IFRS_당월'!GK5 -> 7861.4188 | ... AH15: =+'[1]K-IFRS_당월'!GU5 -> 20677.629
A16: =+H16+I16 -> 74309.301 | B16: =+L16+M16 -> 67419.257 | C16: 자동차 | H16: =+SUMIFS($Q16:$AN16,$Q$8:$AN$8,H$8,$Q$9:$AN$9,H$9) -> 39505.272 | I16: =+SUMIFS($Q16:$AN16,$Q$8:$AN$8,I$8,$Q$9:$AN$9,I$9) -> 34804.029 | J16: =+SUMIFS($Q16:$AN16,$Q$8:$AN$8,J$8,$Q$9:$AN$9,J$9) -> 32561.484 | K16: =+SUMIFS($Q16:$AN16,$Q$8:$AN$8,K$8,$Q$9:$AN$9,K$9) -> 30988.353 | L16: =+SUMIFS($Q16:$AN16,$Q$8:$AN$8,L$8,$Q$9:$AN$9,L$9) -> 35436.598 | M16: =+SUMIFS($Q16:$AN16,$Q$8:$AN$8,M$8,$Q$9:$AN$9,M$9) -> 31982.659 | N16: =+SUMIFS($Q16:$AN16,$Q$8:$AN$8,N$8,$Q$9:$AN$9,N$9) -> 0 | O16: =+SUMIFS($Q16:$AN16,$Q$8:$AN$8,O$8,$Q$9:$AN$9,O$9) -> 0 | Q16: =+'[1]K-IFRS_당월'!GD16 -> 14178.193 | R16: =+'[1]K-IFRS_당월'!GE16 -> 11934.633 | S16: =+'[1]K-IFRS_당월'!GF16 -> 13392.446 | T16: =+'[1]K-IFRS_당월'!GG16 -> 11769.173 | U16: =+'[1]K-IFRS_당월'!GH16 -> 11588.794 | V16: =+'[1]K-IFRS_당월'!GI16 -> 11446.062 | W16: =+'[1]K-IFRS_당월'!GJ16 -> 10847.355 | X16: =+'[1]K-IFRS_당월'!GK16 -> 11506.804 | ... AH16: =+'[1]K-IFRS_당월'!GU16 -> 10135.811
A17: =+H17+I17 -> 1126946.6 | B17: =+L17+M17 -> 1210672 | C17: 합계 | H17: =+H16+H15+H13 -> 559565.56 | I17: =+I16+I15+I13 -> 567381.07 | J17: =+J16+J15+J13 -> 563905.94 | K17: =+K16+K15+K13 -> 638352.81 | L17: =+L16+L15+L13 -> 595364.32 | M17: =+M16+M15+M13 -> 615307.68 | N17: =+N16+N15+N13 -> 0 | O17: =+O16+O15+O13 -> 0 | Q17: =+Q16+Q15+Q13 -> 192513.51 | R17: =+R16+R15+R13 -> 179188.6 | S17: =+S16+S15+S13 -> 187863.45 | T17: =+T16+T15+T13 -> 185925.58 | U17: =+U16+U15+U13 -> 184059.17 | V17: =+V16+V15+V13 -> 197396.32 | W17: =+W16+W15+W13 -> 191947.02 | X17: =+X16+X15+X13 -> 185538.85 | ... AH17: =+AH16+AH15+AH13 -> 213776.56
A19: =+H19+I19 -> 11484.138 | B19: =+L19+M19 -> 19484.31 | C19: 장기 신규월납 | H19: =+H14 -> 5332.4041 | I19: =+I14 -> 6151.734 | J19: =+J14 -> 8179.6113 | K19: =+K14 -> 8855.5615 | L19: =+L14 -> 10952.735 | M19: =+M14 -> 8531.5756 | N19: =+N14 -> 0 | O19: =+O14 -> 0 | Q19: =+Q14 -> 1575.1103 | R19: =+R14 -> 1530.7436 | S19: =+S14 -> 2226.5502 | T19: =+T14 -> 1859.1214 | U19: =+U14 -> 2005.5925 | V19: =+V14 -> 2287.0201 | W19: =+W14 -> 2642.3031 | X19: =+X14 -> 2649.7983 | ... AH19: =+AH14 -> 3386.0545
A20: =+H20+I20 -> 11335.451 | B20: =+L20+M20 -> 19361.914 | D20: 보장성 | H20: =+H23+H24 -> 5269.2614 | I20: =+I23+I24 -> 6066.1897 | J20: =+J23+J24 -> 8116.551 | K20: =+K23+K24 -> 8809.1053 | L20: =+L23+L24 -> 10863.025 | M20: =+M23+M24 -> 8498.8886 | N20: =+N23+N24 -> 0 | O20: =+O23+O24 -> 0 | Q20: =+Q23+Q24 -> 1537.3995 | R20: =+R23+R24 -> 1521.2782 | S20: =+S23+S24 -> 2210.5837 | T20: =+T23+T24 -> 1834.9014 | U20: =+U23+U24 -> 1968.8225 | V20: =+V23+V24 -> 2262.4658 | W20: =+W23+W24 -> 2618.5178 | X20: =+X23+X24 -> 2621.5499 | ... AH20: =+AH23+AH24 -> 3377.4721
A21: =+H21+I21 -> 148.687 | B21: =+L21+M21 -> 122.3962 | D21: 저축성 | H21: =+H25 -> 63.1427 | I21: =+I25 -> 85.5443 | J21: =+J25 -> 63.0603 | K21: =+K25 -> 46.4562 | L21: =+L25 -> 89.7092 | M21: =+M25 -> 32.687 | N21: =+N25 -> 0 | O21: =+O25 -> 0 | Q21: =+Q25 -> 37.7108 | R21: =+R25 -> 9.4654 | S21: =+S25 -> 15.9665 | T21: =+T25 -> 24.22 | U21: =+U25 -> 36.77 | V21: =+V25 -> 24.5543 | W21: =+W25 -> 23.7853 | X21: =+X25 -> 28.2484 | ... AH21: =+AH25 -> 8.5824
D23: 보장 | H23: =+SUMIFS($Q23:$AN23,$Q$8:$AN$8,H$8,$Q$9:$AN$9,H$9) -> 5209.354 | I23: =+SUMIFS($Q23:$AN23,$Q$8:$AN$8,I$8,$Q$9:$AN$9,I$9) -> 6013.3136 | J23: =+SUMIFS($Q23:$AN23,$Q$8:$AN$8,J$8,$Q$9:$AN$9,J$9) -> 8062.1804 | K23: =+SUMIFS($Q23:$AN23,$Q$8:$AN$8,K$8,$Q$9:$AN$9,K$9) -> 8770.7595 | L23: =+SUMIFS($Q23:$AN23,$Q$8:$AN$8,L$8,$Q$9:$AN$9,L$9) -> 10810.304 | M23: =+SUMIFS($Q23:$AN23,$Q$8:$AN$8,M$8,$Q$9:$AN$9,M$9) -> 8445.3097 | N23: =+SUMIFS($Q23:$AN23,$Q$8:$AN$8,N$8,$Q$9:$AN$9,N$9) -> 0 | O23: =+SUMIFS($Q23:$AN23,$Q$8:$AN$8,O$8,$Q$9:$AN$9,O$9) -> 0 | Q23: =+SUMIFS('R'!$G:$G,'R'!$B:$B,월별!Q$11,'R'!$F:$F,"Y",'R'!$E:$E,"10",'R'!$C:$C,월별!$D23)/1000000 -> 1515.6499 | R23: =+SUMIFS('R'!$G:$G,'R'!$B:$B,월별!R$11,'R'!$F:$F,"Y",'R'!$E:$E,"10",'R'!$C:$C,월별!$D23)/1000000 -> 1501.5421 | S23: =+SUMIFS('R'!$G:$G,'R'!$B:$B,월별!S$11,'R'!$F:$F,"Y",'R'!$E:$E,"10",'R'!$C:$C,월별!$D23)/1000000 -> 2192.1619 | T23: =+SUMIFS('R'!$G:$G,'R'!$B:$B,월별!T$11,'R'!$F:$F,"Y",'R'!$E:$E,"10",'R'!$C:$C,월별!$D23)/1000000 -> 1817.0042 | U23: =+SUMIFS('R'!$G:$G,'R'!$B:$B,월별!U$11,'R'!$F:$F,"Y",'R'!$E:$E,"10",'R'!$C:$C,월별!$D23)/1000000 -> 1951.3577 | V23: =+SUMIFS('R'!$G:$G,'R'!$B:$B,월별!V$11,'R'!$F:$F,"Y",'R'!$E:$E,"10",'R'!$C:$C,월별!$D23)/1000000 -> 2244.9517 | W23: =+SUMIFS('R'!$G:$G,'R'!$B:$B,월별!W$11,'R'!$F:$F,"Y",'R'!$E:$E,"10",'R'!$C:$C,월별!$D23)/1000000 -> 2597.5211 | X23: =+SUMIFS('R'!$G:$G,'R'!$B:$B,월별!X$11,'R'!$F:$F,"Y",'R'!$E:$E,"10",'R'!$C:$C,월별!$D23)/1000000 -> 2605.9244 | ... AH23: =+SUMIFS('R'!$G:$G,'R'!$B:$B,월별!AH$11,'R'!$F:$F,"Y",'R'!$E:$E,"10",'R'!$C:$C,월별!$D23)/1000000 -> 3364.593
D24: 재물 | H24: =+SUMIFS($Q24:$AN24,$Q$8:$AN$8,H$8,$Q$9:$AN$9,H$9) -> 59.907438 | I24: =+SUMIFS($Q24:$AN24,$Q$8:$AN$8,I$8,$Q$9:$AN$9,I$9) -> 52.876055 | J24: =+SUMIFS($Q24:$AN24,$Q$8:$AN$8,J$8,$Q$9:$AN$9,J$9) -> 54.370607 | K24: =+SUMIFS($Q24:$AN24,$Q$8:$AN$8,K$8,$Q$9:$AN$9,K$9) -> 38.345743 | L24: =+SUMIFS($Q24:$AN24,$Q$8:$AN$8,L$8,$Q$9:$AN$9,L$9) -> 52.721254 | M24: =+SUMIFS($Q24:$AN24,$Q$8:$AN$8,M$8,$Q$9:$AN$9,M$9) -> 53.578954 | N24: =+SUMIFS($Q24:$AN24,$Q$8:$AN$8,N$8,$Q$9:$AN$9,N$9) -> 0 | O24: =+SUMIFS($Q24:$AN24,$Q$8:$AN$8,O$8,$Q$9:$AN$9,O$9) -> 0 | Q24: =+SUMIFS('R'!$G:$G,'R'!$B:$B,월별!Q$11,'R'!$F:$F,"Y",'R'!$E:$E,"10",'R'!$C:$C,월별!$D24)/1000000 -> 21.749584 | R24: =+SUMIFS('R'!$G:$G,'R'!$B:$B,월별!R$11,'R'!$F:$F,"Y",'R'!$E:$E,"10",'R'!$C:$C,월별!$D24)/1000000 -> 19.736097 | S24: =+SUMIFS('R'!$G:$G,'R'!$B:$B,월별!S$11,'R'!$F:$F,"Y",'R'!$E:$E,"10",'R'!$C:$C,월별!$D24)/1000000 -> 18.421757 | T24: =+SUMIFS('R'!$G:$G,'R'!$B:$B,월별!T$11,'R'!$F:$F,"Y",'R'!$E:$E,"10",'R'!$C:$C,월별!$D24)/1000000 -> 17.89715 | U24: =+SUMIFS('R'!$G:$G,'R'!$B:$B,월별!U$11,'R'!$F:$F,"Y",'R'!$E:$E,"10",'R'!$C:$C,월별!$D24)/1000000 -> 17.464805 | V24: =+SUMIFS('R'!$G:$G,'R'!$B:$B,월별!V$11,'R'!$F:$F,"Y",'R'!$E:$E,"10",'R'!$C:$C,월별!$D24)/1000000 -> 17.5141 | W24: =+SUMIFS('R'!$G:$G,'R'!$B:$B,월별!W$11,'R'!$F:$F,"Y",'R'!$E:$E,"10",'R'!$C:$C,월별!$D24)/1000000 -> 20.996716 | X24: =+SUMIFS('R'!$G:$G,'R'!$B:$B,월별!X$11,'R'!$F:$F,"Y",'R'!$E:$E,"10",'R'!$C:$C,월별!$D24)/1000000 -> 15.625521 | ... AH24: =+SUMIFS('R'!$G:$G,'R'!$B:$B,월별!AH$11,'R'!$F:$F,"Y",'R'!$E:$E,"10",'R'!$C:$C,월별!$D24)/1000000 -> 12.879067
D25: 저축 | H25: =+SUMIFS($Q25:$AN25,$Q$8:$AN$8,H$8,$Q$9:$AN$9,H$9) -> 63.1427 | I25: =+SUMIFS($Q25:$AN25,$Q$8:$AN$8,I$8,$Q$9:$AN$9,I$9) -> 85.5443 | J25: =+SUMIFS($Q25:$AN25,$Q$8:$AN$8,J$8,$Q$9:$AN$9,J$9) -> 63.0603 | K25: =+SUMIFS($Q25:$AN25,$Q$8:$AN$8,K$8,$Q$9:$AN$9,K$9) -> 46.4562 | L25: =+SUMIFS($Q25:$AN25,$Q$8:$AN$8,L$8,$Q$9:$AN$9,L$9) -> 89.7092 | M25: =+SUMIFS($Q25:$AN25,$Q$8:$AN$8,M$8,$Q$9:$AN$9,M$9) -> 32.687 | N25: =+SUMIFS($Q25:$AN25,$Q$8:$AN$8,N$8,$Q$9:$AN$9,N$9) -> 0 | O25: =+SUMIFS($Q25:$AN25,$Q$8:$AN$8,O$8,$Q$9:$AN$9,O$9) -> 0 | Q25: =+SUMIFS('R'!$G:$G,'R'!$B:$B,월별!Q$11,'R'!$F:$F,"Y",'R'!$E:$E,"10",'R'!$C:$C,월별!$D25)/1000000 -> 37.7108 | R25: =+SUMIFS('R'!$G:$G,'R'!$B:$B,월별!R$11,'R'!$F:$F,"Y",'R'!$E:$E,"10",'R'!$C:$C,월별!$D25)/1000000 -> 9.4654 | S25: =+SUMIFS('R'!$G:$G,'R'!$B:$B,월별!S$11,'R'!$F:$F,"Y",'R'!$E:$E,"10",'R'!$C:$C,월별!$D25)/1000000 -> 15.9665 | T25: =+SUMIFS('R'!$G:$G,'R'!$B:$B,월별!T$11,'R'!$F:$F,"Y",'R'!$E:$E,"10",'R'!$C:$C,월별!$D25)/1000000 -> 24.22 | U25: =+SUMIFS('R'!$G:$G,'R'!$B:$B,월별!U$11,'R'!$F:$F,"Y",'R'!$E:$E,"10",'R'!$C:$C,월별!$D25)/1000000 -> 36.77 | V25: =+SUMIFS('R'!$G:$G,'R'!$B:$B,월별!V$11,'R'!$F:$F,"Y",'R'!$E:$E,"10",'R'!$C:$C,월별!$D25)/1000000 -> 24.5543 | W25: =+SUMIFS('R'!$G:$G,'R'!$B:$B,월별!W$11,'R'!$F:$F,"Y",'R'!$E:$E,"10",'R'!$C:$C,월별!$D25)/1000000 -> 23.7853 | X25: =+SUMIFS('R'!$G:$G,'R'!$B:$B,월별!X$11,'R'!$F:$F,"Y",'R'!$E:$E,"10",'R'!$C:$C,월별!$D25)/1000000 -> 28.2484 | ... AH25: =+SUMIFS('R'!$G:$G,'R'!$B:$B,월별!AH$11,'R'!$F:$F,"Y",'R'!$E:$E,"10",'R'!$C:$C,월별!$D25)/1000000 -> 8.5824
C28: 2. 손익
C29: 구분 | H29: 2022 | L29: 2023 | Q29: 202201 | R29: =+Q29+1 -> 202202 | S29: =+R29+1 -> 202203 | T29: =+S29+1 -> 202204 | U29: =+T29+1 -> 202205 | V29: =+U29+1 -> 202206 | W29: =+V29+1 -> 202207 | X29: =+W29+1 -> 202208 | Y29: =+X29+1 -> 202209 | ... AB29: =+AA29+1 -> 202212 | AC29: =+Q29+100 -> 202301 | AD29: =+R29+100 -> 202302 | AE29: =+S29+100 -> 202303 | AF29: =+T29+100 -> 202304 | AG29: =+U29+100 -> 202305 | AH29: =+V29+100 -> 202306 | AI29: =+W29+100 -> 202307 | AJ29: =+X29+100 -> 202308 | ... AN29: =+AB29+100 -> 202312
H30: 1Q | I30: 2Q | J30: 3Q | K30: 4Q | L30: 1Q | M30: 2Q | N30: 3Q | O30: 4Q
A31: =+H31+I31 -> 100443.96 | B31: =+L31+M31 -> 102897.62 | C31: 보험손익 | H31: =+SUMIFS($Q31:$AN31,$Q$8:$AN$8,H$8,$Q$9:$AN$9,H$9) -> 54391.682 | I31: =+SUMIFS($Q31:$AN31,$Q$8:$AN$8,I$8,$Q$9:$AN$9,I$9) -> 46052.276 | J31: =+SUMIFS($Q31:$AN31,$Q$8:$AN$8,J$8,$Q$9:$AN$9,J$9) -> 52444.335 | K31: =+SUMIFS($Q31:$AN31,$Q$8:$AN$8,K$8,$Q$9:$AN$9,K$9) -> 17044.781 | L31: =+SUMIFS($Q31:$AN31,$Q$8:$AN$8,L$8,$Q$9:$AN$9,L$9) -> 46982.71 | M31: =+SUMIFS($Q31:$AN31,$Q$8:$AN$8,M$8,$Q$9:$AN$9,M$9) -> 55914.913 | N31: =+SUMIFS($Q31:$AN31,$Q$8:$AN$8,N$8,$Q$9:$AN$9,N$9) -> 0 | O31: =+SUMIFS($Q31:$AN31,$Q$8:$AN$8,O$8,$Q$9:$AN$9,O$9) -> 0 | Q31: =+Q32+Q48+Q56 -> 0 | R31: =+R32+R48+R56 -> 0 | S31: =+S32+S48+S56 -> 54391.682 | T31: =+T32+T48+T56 -> 0 | U31: =+U32+U48+U56 -> 0 | V31: =+V32+V48+V56 -> 46052.276 | W31: =+W32+W48+W56 -> 0 | X31: =+X32+X48+X56 -> 0 | ... AN31: =+AN32+AN48+AN56 -> 0
A32: =+H32+I32 -> 95741.192 | B32: =+L32+M32 -> 96028.4 | D32: 장기보험 | H32: =+SUMIFS($Q32:$AN32,$Q$8:$AN$8,H$8,$Q$9:$AN$9,H$9) -> 49791.875 | I32: =+SUMIFS($Q32:$AN32,$Q$8:$AN$8,I$8,$Q$9:$AN$9,I$9) -> 45949.317 | J32: =+SUMIFS($Q32:$AN32,$Q$8:$AN$8,J$8,$Q$9:$AN$9,J$9) -> 51697.28 | K32: =+SUMIFS($Q32:$AN32,$Q$8:$AN$8,K$8,$Q$9:$AN$9,K$9) -> 36904.995 | L32: =+SUMIFS($Q32:$AN32,$Q$8:$AN$8,L$8,$Q$9:$AN$9,L$9) -> 41589.771 | M32: =+SUMIFS($Q32:$AN32,$Q$8:$AN$8,M$8,$Q$9:$AN$9,M$9) -> 54438.629 | N32: =+SUMIFS($Q32:$AN32,$Q$8:$AN$8,N$8,$Q$9:$AN$9,N$9) -> 0 | O32: =+SUMIFS($Q32:$AN32,$Q$8:$AN$8,O$8,$Q$9:$AN$9,O$9) -> 0 | Q32: =+Q33+Q34+Q35+Q43-Q44 -> 0 | R32: =+R33+R34+R35+R43-R44 -> 0 | S32: =+S33+S34+S35+S43-S44 -> 49791.875 | T32: =+T33+T34+T35+T43-T44 -> 0 | U32: =+U33+U34+U35+U43-U44 -> 0 | V32: =+V33+V34+V35+V43-V44 -> 45949.317 | W32: =+W33+W34+W35+W43-W44 -> 0 | X32: =+X33+X34+X35+X43-X44 -> 0 | ... AN32: =+AN33+AN34+AN35+AN43-AN44 -> 0
A33: =+H33+I33 -> 76922.172 | B33: =+L33+M33 -> 84339.23 | E33: CSM상각 | H33: =+SUMIFS($Q33:$AN33,$Q$8:$AN$8,H$8,$Q$9:$AN$9,H$9) -> 37601.17 | I33: =+SUMIFS($Q33:$AN33,$Q$8:$AN$8,I$8,$Q$9:$AN$9,I$9) -> 39321.001 | J33: =+SUMIFS($Q33:$AN33,$Q$8:$AN$8,J$8,$Q$9:$AN$9,J$9) -> 40752.417 | K33: =+SUMIFS($Q33:$AN33,$Q$8:$AN$8,K$8,$Q$9:$AN$9,K$9) -> 39788.39 | L33: =+SUMIFS($Q33:$AN33,$Q$8:$AN$8,L$8,$Q$9:$AN$9,L$9) -> 41025.948 | M33: =+SUMIFS($Q33:$AN33,$Q$8:$AN$8,M$8,$Q$9:$AN$9,M$9) -> 43313.283 | N33: =+SUMIFS($Q33:$AN33,$Q$8:$AN$8,N$8,$Q$9:$AN$9,N$9) -> 0 | O33: =+SUMIFS($Q33:$AN33,$Q$8:$AN$8,O$8,$Q$9:$AN$9,O$9) -> 0 | S33: =+'[2]실적(당월)'!O89 -> 37601.17 | V33: =+'[2]실적(당월)'!P89 -> 39321.001 | Y33: =+'[2]실적(당월)'!Q89 -> 40752.417 | AB33: =+'[2]실적(당월)'!R89 -> 39788.39 | AC33: =+'[2]실적(당월)'!S89 -> 13344.977 | AD33: =+'[2]실적(당월)'!T89 -> 13623.057 | AE33: =+'[2]실적(당월)'!U89 -> 14057.914 | AF33: =+'[2]실적(당월)'!V89 -> 14342.513 | AG33: =+'[2]실적(당월)'!W89 -> 14161.914 | AH33: =+'[2]실적(당월)'!X89 -> 14808.856
A34: =+H34+I34 -> 11306.413 | B34: =+L34+M34 -> 9487.5947 | E34: RA변동 | H34: =+SUMIFS($Q34:$AN34,$Q$8:$AN$8,H$8,$Q$9:$AN$9,H$9) -> 5479.4238 | I34: =+SUMIFS($Q34:$AN34,$Q$8:$AN$8,I$8,$Q$9:$AN$9,I$9) -> 5826.9891 | J34: =+SUMIFS($Q34:$AN34,$Q$8:$AN$8,J$8,$Q$9:$AN$9,J$9) -> 5719.1427 | K34: =+SUMIFS($Q34:$AN34,$Q$8:$AN$8,K$8,$Q$9:$AN$9,K$9) -> 5217.3595 | L34: =+SUMIFS($Q34:$AN34,$Q$8:$AN$8,L$8,$Q$9:$AN$9,L$9) -> 4627.1133 | M34: =+SUMIFS($Q34:$AN34,$Q$8:$AN$8,M$8,$Q$9:$AN$9,M$9) -> 4860.4814 | N34: =+SUMIFS($Q34:$AN34,$Q$8:$AN$8,N$8,$Q$9:$AN$9,N$9) -> 0 | O34: =+SUMIFS($Q34:$AN34,$Q$8:$AN$8,O$8,$Q$9:$AN$9,O$9) -> 0 | S34: =+'[2]실적(당월)'!O93 -> 5479.4238 | V34: =+'[2]실적(당월)'!P93 -> 5826.9891 | Y34: =+'[2]실적(당월)'!Q93 -> 5719.1427 | AB34: =+'[2]실적(당월)'!R93 -> 5217.3595 | AC34: =+'[2]실적(당월)'!S93 -> 1736.765 | AD34: =+'[2]실적(당월)'!T93 -> 1461.1722 | AE34: =+'[2]실적(당월)'!U93 -> 1429.1761 | AF34: =+'[2]실적(당월)'!V93 -> 1793.139 | AG34: =+'[2]실적(당월)'!W93 -> 1523.9465 | AH34: =+'[2]실적(당월)'!X93 -> 1543.3959
A35: =+H35+I35 -> 28876.827 | B35: =+L35+M35 -> 27828.749 | E35: 예실차 | H35: =+SUMIFS($Q35:$AN35,$Q$8:$AN$8,H$8,$Q$9:$AN$9,H$9) -> 14712.921 | I35: =+SUMIFS($Q35:$AN35,$Q$8:$AN$8,I$8,$Q$9:$AN$9,I$9) -> 14163.906 | J35: =+SUMIFS($Q35:$AN35,$Q$8:$AN$8,J$8,$Q$9:$AN$9,J$9) -> 14028.034 | K35: =+SUMIFS($Q35:$AN35,$Q$8:$AN$8,K$8,$Q$9:$AN$9,K$9) -> 62.35913 | L35: =+SUMIFS($Q35:$AN35,$Q$8:$AN$8,L$8,$Q$9:$AN$9,L$9) -> 9728.6503 | M35: =+SUMIFS($Q35:$AN35,$Q$8:$AN$8,M$8,$Q$9:$AN$9,M$9) -> 18100.099 | N35: =+SUMIFS($Q35:$AN35,$Q$8:$AN$8,N$8,$Q$9:$AN$9,N$9) -> 0 | O35: =+SUMIFS($Q35:$AN35,$Q$8:$AN$8,O$8,$Q$9:$AN$9,O$9) -> 0 | Q35: =+Q36+Q39 -> 0 | R35: =+R36+R39 -> 0 | S35: =+S36+S39 -> 14712.921 | T35: =+T36+T39 -> 0 | U35: =+U36+U39 -> 0 | V35: =+V36+V39 -> 14163.906 | W35: =+W36+W39 -> 0 | X35: =+X36+X39 -> 0 | ... AN35: =+AN36+AN39 -> 0
A36: =+H36+I36 -> 33122.833 | B36: =+L36+M36 -> 28687.428 | F36: 보험금 | H36: =+SUMIFS($Q36:$AN36,$Q$8:$AN$8,H$8,$Q$9:$AN$9,H$9) -> 15140.682 | I36: =+SUMIFS($Q36:$AN36,$Q$8:$AN$8,I$8,$Q$9:$AN$9,I$9) -> 17982.151 | J36: =+SUMIFS($Q36:$AN36,$Q$8:$AN$8,J$8,$Q$9:$AN$9,J$9) -> 17780.674 | K36: =+SUMIFS($Q36:$AN36,$Q$8:$AN$8,K$8,$Q$9:$AN$9,K$9) -> 5168.6799 | L36: =+SUMIFS($Q36:$AN36,$Q$8:$AN$8,L$8,$Q$9:$AN$9,L$9) -> 9916.773 | M36: =+SUMIFS($Q36:$AN36,$Q$8:$AN$8,M$8,$Q$9:$AN$9,M$9) -> 18770.655 | N36: =+SUMIFS($Q36:$AN36,$Q$8:$AN$8,N$8,$Q$9:$AN$9,N$9) -> 0 | O36: =+SUMIFS($Q36:$AN36,$Q$8:$AN$8,O$8,$Q$9:$AN$9,O$9) -> 0 | Q36: =+Q37+Q38 -> 0 | R36: =+R37+R38 -> 0 | S36: =+S37+S38 -> 15140.682 | T36: =+T37+T38 -> 0 | U36: =+U37+U38 -> 0 | V36: =+V37+V38 -> 17982.151 | W36: =+W37+W38 -> 0 | X36: =+X37+X38 -> 0 | ... AN36: =+AN37+AN38 -> 0
A37: =+H37+I37 -> 31355.855 | B37: =+L37+M37 -> 27237.915 | G37: 보험금 | H37: =+SUMIFS($Q37:$AN37,$Q$8:$AN$8,H$8,$Q$9:$AN$9,H$9) -> 14402.622 | I37: =+SUMIFS($Q37:$AN37,$Q$8:$AN$8,I$8,$Q$9:$AN$9,I$9) -> 16953.233 | J37: =+SUMIFS($Q37:$AN37,$Q$8:$AN$8,J$8,$Q$9:$AN$9,J$9) -> 17029.9 | K37: =+SUMIFS($Q37:$AN37,$Q$8:$AN$8,K$8,$Q$9:$AN$9,K$9) -> 4509.5823 | L37: =+SUMIFS($Q37:$AN37,$Q$8:$AN$8,L$8,$Q$9:$AN$9,L$9) -> 9239.9406 | M37: =+SUMIFS($Q37:$AN37,$Q$8:$AN$8,M$8,$Q$9:$AN$9,M$9) -> 17997.974 | N37: =+SUMIFS($Q37:$AN37,$Q$8:$AN$8,N$8,$Q$9:$AN$9,N$9) -> 0 | O37: =+SUMIFS($Q37:$AN37,$Q$8:$AN$8,O$8,$Q$9:$AN$9,O$9) -> 0 | S37: =+'[2]실적(당월)'!O94-('[2]실적(당월)'!O100+'[2]실적(당월)'!O105) -> 14402.622 | V37: =+'[2]실적(당월)'!P94-('[2]실적(당월)'!P100+'[2]실적(당월)'!P105) -> 16953.233 | Y37: =+'[2]실적(당월)'!Q94-('[2]실적(당월)'!Q100+'[2]실적(당월)'!Q105) -> 17029.9 | AB37: =+'[2]실적(당월)'!R94-('[2]실적(당월)'!R100+'[2]실적(당월)'!R105) -> 4509.5823 | AC37: =+'[2]실적(당월)'!S94-('[2]실적(당월)'!S100+'[2]실적(당월)'!S105) -> 2024.7341 | AD37: =+'[2]실적(당월)'!T94-('[2]실적(당월)'!T100+'[2]실적(당월)'!T105) -> 520.36954 | AE37: =+'[2]실적(당월)'!U94-('[2]실적(당월)'!U100+'[2]실적(당월)'!U105) -> 6694.8369 | AF37: =+'[2]실적(당월)'!V94-('[2]실적(당월)'!V100+'[2]실적(당월)'!V105) -> 7140.2661 | AG37: =+'[2]실적(당월)'!W94-('[2]실적(당월)'!W100+'[2]실적(당월)'!W105) -> 4701.1582 | AH37: =+'[2]실적(당월)'!X94-('[2]실적(당월)'!X100+'[2]실적(당월)'!X105) -> 6156.5499
A38: =+H38+I38 -> 1766.9783 | B38: =+L38+M38 -> 1449.5128 | G38: 손조비 | H38: =+SUMIFS($Q38:$AN38,$Q$8:$AN$8,H$8,$Q$9:$AN$9,H$9) -> 738.06059 | I38: =+SUMIFS($Q38:$AN38,$Q$8:$AN$8,I$8,$Q$9:$AN$9,I$9) -> 1028.9177 | J38: =+SUMIFS($Q38:$AN38,$Q$8:$AN$8,J$8,$Q$9:$AN$9,J$9) -> 750.77438 | K38: =+SUMIFS($Q38:$AN38,$Q$8:$AN$8,K$8,$Q$9:$AN$9,K$9) -> 659.0976 | L38: =+SUMIFS($Q38:$AN38,$Q$8:$AN$8,L$8,$Q$9:$AN$9,L$9) -> 676.83236 | M38: =+SUMIFS($Q38:$AN38,$Q$8:$AN$8,M$8,$Q$9:$AN$9,M$9) -> 772.68042 | N38: =+SUMIFS($Q38:$AN38,$Q$8:$AN$8,N$8,$Q$9:$AN$9,N$9) -> 0 | O38: =+SUMIFS($Q38:$AN38,$Q$8:$AN$8,O$8,$Q$9:$AN$9,O$9) -> 0 | S38: =+'[2]실적(당월)'!O95-'[2]실적(당월)'!O111 -> 738.06059 | V38: =+'[2]실적(당월)'!P95-'[2]실적(당월)'!P111 -> 1028.9177 | Y38: =+'[2]실적(당월)'!Q95-'[2]실적(당월)'!Q111 -> 750.77438 | AB38: =+'[2]실적(당월)'!R95-'[2]실적(당월)'!R111 -> 659.0976 | AC38: =+'[2]실적(당월)'!S95-'[2]실적(당월)'!S111 -> 258.10804 | AD38: =+'[2]실적(당월)'!T95-'[2]실적(당월)'!T111 -> 179.00923 | AE38: =+'[2]실적(당월)'!U95-'[2]실적(당월)'!U111 -> 239.71509 | AF38: =+'[2]실적(당월)'!V95-'[2]실적(당월)'!V111 -> 279.85212 | AG38: =+'[2]실적(당월)'!W95-'[2]실적(당월)'!W111 -> 267.65315 | AH38: =+'[2]실적(당월)'!X95-'[2]실적(당월)'!X111 -> 225.17516
A39: =+H39+I39 -> -4246.0062 | B39: =+L39+M39 -> -858.67815 | F39: 사업비 | H39: =+SUMIFS($Q39:$AN39,$Q$8:$AN$8,H$8,$Q$9:$AN$9,H$9) -> -427.76078 | I39: =+SUMIFS($Q39:$AN39,$Q$8:$AN$8,I$8,$Q$9:$AN$9,I$9) -> -3818.2454 | J39: =+SUMIFS($Q39:$AN39,$Q$8:$AN$8,J$8,$Q$9:$AN$9,J$9) -> -3752.6403 | K39: =+SUMIFS($Q39:$AN39,$Q$8:$AN$8,K$8,$Q$9:$AN$9,K$9) -> -5106.3207 | L39: =+SUMIFS($Q39:$AN39,$Q$8:$AN$8,L$8,$Q$9:$AN$9,L$9) -> -188.12267 | M39: =+SUMIFS($Q39:$AN39,$Q$8:$AN$8,M$8,$Q$9:$AN$9,M$9) -> -670.55548 | N39: =+SUMIFS($Q39:$AN39,$Q$8:$AN$8,N$8,$Q$9:$AN$9,N$9) -> 0 | O39: =+SUMIFS($Q39:$AN39,$Q$8:$AN$8,O$8,$Q$9:$AN$9,O$9) -> 0 | Q39: =+Q40+Q41+Q42 -> 0 | R39: =+R40+R41+R42 -> 0 | S39: =+S40+S41+S42 -> -427.76078 | T39: =+T40+T41+T42 -> 0 | U39: =+U40+U41+U42 -> 0 | V39: =+V40+V41+V42 -> -3818.2454 | W39: =+W40+W41+W42 -> 0 | X39: =+X40+X41+X42 -> 0 | ... AN39: =+AN40+AN41+AN42 -> 0
A40: =+H40+I40 -> -4531.0455 | B40: =+L40+M40 -> -1780.2972 | G40: 무관체결비 | H40: =+SUMIFS($Q40:$AN40,$Q$8:$AN$8,H$8,$Q$9:$AN$9,H$9) -> -2234.5442 | I40: =+SUMIFS($Q40:$AN40,$Q$8:$AN$8,I$8,$Q$9:$AN$9,I$9) -> -2296.5013 | J40: =+SUMIFS($Q40:$AN40,$Q$8:$AN$8,J$8,$Q$9:$AN$9,J$9) -> -2151.3222 | K40: =+SUMIFS($Q40:$AN40,$Q$8:$AN$8,K$8,$Q$9:$AN$9,K$9) -> -2483.294 | L40: =+SUMIFS($Q40:$AN40,$Q$8:$AN$8,L$8,$Q$9:$AN$9,L$9) -> -577.07875 | M40: =+SUMIFS($Q40:$AN40,$Q$8:$AN$8,M$8,$Q$9:$AN$9,M$9) -> -1203.2185 | N40: =+SUMIFS($Q40:$AN40,$Q$8:$AN$8,N$8,$Q$9:$AN$9,N$9) -> 0 | O40: =+SUMIFS($Q40:$AN40,$Q$8:$AN$8,O$8,$Q$9:$AN$9,O$9) -> 0 | S40: =+'[2]실적(당월)'!O96-'[2]실적(당월)'!O113 -> -2234.5442 | V40: =+'[2]실적(당월)'!P96-'[2]실적(당월)'!P113 -> -2296.5013 | Y40: =+'[2]실적(당월)'!Q96-'[2]실적(당월)'!Q113 -> -2151.3222 | AB40: =+'[2]실적(당월)'!R96-'[2]실적(당월)'!R113 -> -2483.294 | AC40: =+'[2]실적(당월)'!S96-'[2]실적(당월)'!S113 -> -327.83561 | AD40: =+'[2]실적(당월)'!T96-'[2]실적(당월)'!T113 -> -47.91728 | AE40: =+'[2]실적(당월)'!U96-'[2]실적(당월)'!U113 -> -201.32585 | AF40: =+'[2]실적(당월)'!V96-'[2]실적(당월)'!V113 -> -576.79208 | AG40: =+'[2]실적(당월)'!W96-'[2]실적(당월)'!W113 -> -240.29192 | AH40: =+'[2]실적(당월)'!X96-'[2]실적(당월)'!X113 -> -386.13448
A41: =+H41+I41 -> -223.36267 | B41: =+L41+M41 -> 1031.178 | G41: 유지비 | H41: =+SUMIFS($Q41:$AN41,$Q$8:$AN$8,H$8,$Q$9:$AN$9,H$9) -> 1558.0447 | I41: =+SUMIFS($Q41:$AN41,$Q$8:$AN$8,I$8,$Q$9:$AN$9,I$9) -> -1781.4073 | J41: =+SUMIFS($Q41:$AN41,$Q$8:$AN$8,J$8,$Q$9:$AN$9,J$9) -> -1832.1477 | K41: =+SUMIFS($Q41:$AN41,$Q$8:$AN$8,K$8,$Q$9:$AN$9,K$9) -> -2748.3488 | L41: =+SUMIFS($Q41:$AN41,$Q$8:$AN$8,L$8,$Q$9:$AN$9,L$9) -> 421.01851 | M41: =+SUMIFS($Q41:$AN41,$Q$8:$AN$8,M$8,$Q$9:$AN$9,M$9) -> 610.15954 | N41: =+SUMIFS($Q41:$AN41,$Q$8:$AN$8,N$8,$Q$9:$AN$9,N$9) -> 0 | O41: =+SUMIFS($Q41:$AN41,$Q$8:$AN$8,O$8,$Q$9:$AN$9,O$9) -> 0 | S41: =+'[2]실적(당월)'!O97-'[2]실적(당월)'!O114 -> 1558.0447 | V41: =+'[2]실적(당월)'!P97-'[2]실적(당월)'!P114 -> -1781.4073 | Y41: =+'[2]실적(당월)'!Q97-'[2]실적(당월)'!Q114 -> -1832.1477 | AB41: =+'[2]실적(당월)'!R97-'[2]실적(당월)'!R114 -> -2748.3488 | AC41: =+'[2]실적(당월)'!S97-'[2]실적(당월)'!S114 -> -701.86625 | AD41: =+'[2]실적(당월)'!T97-'[2]실적(당월)'!T114 -> -229.935 | AE41: =+'[2]실적(당월)'!U97-'[2]실적(당월)'!U114 -> 1352.8198 | AF41: =+'[2]실적(당월)'!V97-'[2]실적(당월)'!V114 -> -229.1134 | AG41: =+'[2]실적(당월)'!W97-'[2]실적(당월)'!W114 -> 304.07918 | AH41: =+'[2]실적(당월)'!X97-'[2]실적(당월)'!X114 -> 535.19376
A42: =+H42+I42 -> 508.40198 | B42: =+L42+M42 -> -109.55896 | G42: 투자관리비 | H42: =+SUMIFS($Q42:$AN42,$Q$8:$AN$8,H$8,$Q$9:$AN$9,H$9) -> 248.73871 | I42: =+SUMIFS($Q42:$AN42,$Q$8:$AN$8,I$8,$Q$9:$AN$9,I$9) -> 259.66327 | J42: =+SUMIFS($Q42:$AN42,$Q$8:$AN$8,J$8,$Q$9:$AN$9,J$9) -> 230.82955 | K42: =+SUMIFS($Q42:$AN42,$Q$8:$AN$8,K$8,$Q$9:$AN$9,K$9) -> 125.32207 | L42: =+SUMIFS($Q42:$AN42,$Q$8:$AN$8,L$8,$Q$9:$AN$9,L$9) -> -32.062427 | M42: =+SUMIFS($Q42:$AN42,$Q$8:$AN$8,M$8,$Q$9:$AN$9,M$9) -> -77.496533 | N42: =+SUMIFS($Q42:$AN42,$Q$8:$AN$8,N$8,$Q$9:$AN$9,N$9) -> 0 | O42: =+SUMIFS($Q42:$AN42,$Q$8:$AN$8,O$8,$Q$9:$AN$9,O$9) -> 0 | S42: =+'[2]실적(당월)'!O98-'[2]실적(당월)'!O115 -> 248.73871 | V42: =+'[2]실적(당월)'!P98-'[2]실적(당월)'!P115 -> 259.66327 | Y42: =+'[2]실적(당월)'!Q98-'[2]실적(당월)'!Q115 -> 230.82955 | AB42: =+'[2]실적(당월)'!R98-'[2]실적(당월)'!R115 -> 125.32207 | AC42: =+'[2]실적(당월)'!S98-'[2]실적(당월)'!S115 -> -59.21679 | AD42: =+'[2]실적(당월)'!T98-'[2]실적(당월)'!T115 -> -4.039187 | AE42: =+'[2]실적(당월)'!U98-'[2]실적(당월)'!U115 -> 31.19355 | AF42: =+'[2]실적(당월)'!V98-'[2]실적(당월)'!V115 -> 6.850659 | AG42: =+'[2]실적(당월)'!W98-'[2]실적(당월)'!W115 -> -52.344052 | AH42: =+'[2]실적(당월)'!X98-'[2]실적(당월)'!X115 -> -32.00314
A43: =+H43+I43 -> -10342.803 | B43: =+L43+M43 -> -11184.528 | E43: 재보험손익 | H43: =+SUMIFS($Q43:$AN43,$Q$8:$AN$8,H$8,$Q$9:$AN$9,H$9) -> -3655.0265 | I43: =+SUMIFS($Q43:$AN43,$Q$8:$AN$8,I$8,$Q$9:$AN$9,I$9) -> -6687.7765 | J43: =+SUMIFS($Q43:$AN43,$Q$8:$AN$8,J$8,$Q$9:$AN$9,J$9) -> -3821.2064 | K43: =+SUMIFS($Q43:$AN43,$Q$8:$AN$8,K$8,$Q$9:$AN$9,K$9) -> -4902.2751 | L43: =+SUMIFS($Q43:$AN43,$Q$8:$AN$8,L$8,$Q$9:$AN$9,L$9) -> -4735.9648 | M43: =+SUMIFS($Q43:$AN43,$Q$8:$AN$8,M$8,$Q$9:$AN$9,M$9) -> -6448.5628 | N43: =+SUMIFS($Q43:$AN43,$Q$8:$AN$8,N$8,$Q$9:$AN$9,N$9) -> 0 | O43: =+SUMIFS($Q43:$AN43,$Q$8:$AN$8,O$8,$Q$9:$AN$9,O$9) -> 0 | S43: =+'[2]실적(당월)'!O117 -> -3655.0265 | V43: =+'[2]실적(당월)'!P117 -> -6687.7765 | Y43: =+'[2]실적(당월)'!Q117 -> -3821.2064 | AB43: =+'[2]실적(당월)'!R117 -> -4902.2751 | AC43: =+'[2]실적(당월)'!S117 -> -4285.1759 | AD43: =+'[2]실적(당월)'!T117 -> -1131.8851 | AE43: =+'[2]실적(당월)'!U117 -> 681.09626 | AF43: =+'[2]실적(당월)'!V117 -> -4389.1513 | AG43: =+'[2]실적(당월)'!W117 -> -381.87669 | AH43: =+'[2]실적(당월)'!X117 -> -1677.5348
A44: =+H44+I44 -> 11021.417 | B44: =+L44+M44 -> 14442.647 | E44: 기타사업비 등 | H44: =+SUMIFS($Q44:$AN44,$Q$8:$AN$8,H$8,$Q$9:$AN$9,H$9) -> 4346.6138 | I44: =+SUMIFS($Q44:$AN44,$Q$8:$AN$8,I$8,$Q$9:$AN$9,I$9) -> 6674.8029 | J44: =+SUMIFS($Q44:$AN44,$Q$8:$AN$8,J$8,$Q$9:$AN$9,J$9) -> 4981.1083 | K44: =+SUMIFS($Q44:$AN44,$Q$8:$AN$8,K$8,$Q$9:$AN$9,K$9) -> 3260.8385 | L44: =+SUMIFS($Q44:$AN44,$Q$8:$AN$8,L$8,$Q$9:$AN$9,L$9) -> 9055.9757 | M44: =+SUMIFS($Q44:$AN44,$Q$8:$AN$8,M$8,$Q$9:$AN$9,M$9) -> 5386.6714 | N44: =+SUMIFS($Q44:$AN44,$Q$8:$AN$8,N$8,$Q$9:$AN$9,N$9) -> 0 | O44: =+SUMIFS($Q44:$AN44,$Q$8:$AN$8,O$8,$Q$9:$AN$9,O$9) -> 0 | Q44: =+Q45+Q46+Q47 -> 0 | R44: =+R45+R46+R47 -> 0 | S44: =+S45+S46+S47 -> 4346.6138 | T44: =+T45+T46+T47 -> 0 | U44: =+U45+U46+U47 -> 0 | V44: =+V45+V46+V47 -> 6674.8029 | W44: =+W45+W46+W47 -> 0 | X44: =+X45+X46+X47 -> 0 | ... AN44: =+AN45+AN46+AN47 -> 0
A45: =+H45+I45 -> 2584.2186 | B45: =+L45+M45 -> 8535.1783 | F45: 간접비 | H45: =+SUMIFS($Q45:$AN45,$Q$8:$AN$8,H$8,$Q$9:$AN$9,H$9) -> 1556.6562 | I45: =+SUMIFS($Q45:$AN45,$Q$8:$AN$8,I$8,$Q$9:$AN$9,I$9) -> 1027.5624 | J45: =+SUMIFS($Q45:$AN45,$Q$8:$AN$8,J$8,$Q$9:$AN$9,J$9) -> 1921.9373 | K45: =+SUMIFS($Q45:$AN45,$Q$8:$AN$8,K$8,$Q$9:$AN$9,K$9) -> 2667.3324 | L45: =+SUMIFS($Q45:$AN45,$Q$8:$AN$8,L$8,$Q$9:$AN$9,L$9) -> 4365.1806 | M45: =+SUMIFS($Q45:$AN45,$Q$8:$AN$8,M$8,$Q$9:$AN$9,M$9) -> 4169.9977 | N45: =+SUMIFS($Q45:$AN45,$Q$8:$AN$8,N$8,$Q$9:$AN$9,N$9) -> 0 | O45: =+SUMIFS($Q45:$AN45,$Q$8:$AN$8,O$8,$Q$9:$AN$9,O$9) -> 0 | S45: =+'[2]실적(당월)'!O116 -> 1556.6562 | V45: =+'[2]실적(당월)'!P116 -> 1027.5624 | Y45: =+'[2]실적(당월)'!Q116 -> 1921.9373 | AB45: =+'[2]실적(당월)'!R116 -> 2667.3324 | AC45: =+'[2]실적(당월)'!S116 -> 2695.5387 | AD45: =+'[2]실적(당월)'!T116 -> 2200.1914 | AE45: =+'[2]실적(당월)'!U116 -> -530.54951 | AF45: =+'[2]실적(당월)'!V116 -> 1477.9338 | AG45: =+'[2]실적(당월)'!W116 -> 1578.9874 | AH45: =+'[2]실적(당월)'!X116 -> 1113.0765
A46: =+H46+I46 -> 13296.995 | B46: =+L46+M46 -> 5695.0108 | F46: 손실비용(원수) | H46: =+SUMIFS($Q46:$AN46,$Q$8:$AN$8,H$8,$Q$9:$AN$9,H$9) -> 5200.3439 | I46: =+SUMIFS($Q46:$AN46,$Q$8:$AN$8,I$8,$Q$9:$AN$9,I$9) -> 8096.6512 | J46: =+SUMIFS($Q46:$AN46,$Q$8:$AN$8,J$8,$Q$9:$AN$9,J$9) -> 5285.8227 | K46: =+SUMIFS($Q46:$AN46,$Q$8:$AN$8,K$8,$Q$9:$AN$9,K$9) -> 4017.319 | L46: =+SUMIFS($Q46:$AN46,$Q$8:$AN$8,L$8,$Q$9:$AN$9,L$9) -> 4570.2309 | M46: =+SUMIFS($Q46:$AN46,$Q$8:$AN$8,M$8,$Q$9:$AN$9,M$9) -> 1124.7798 | N46: =+SUMIFS($Q46:$AN46,$Q$8:$AN$8,N$8,$Q$9:$AN$9,N$9) -> 0 | O46: =+SUMIFS($Q46:$AN46,$Q$8:$AN$8,O$8,$Q$9:$AN$9,O$9) -> 0 | S46: =+'[2]실적(당월)'!O112 -> 5200.3439 | V46: =+'[2]실적(당월)'!P112 -> 8096.6512 | Y46: =+'[2]실적(당월)'!Q112 -> 5285.8227 | AB46: =+'[2]실적(당월)'!R112 -> 4017.319 | AC46: =+'[2]실적(당월)'!S112 -> 4522.0618 | AD46: =+'[2]실적(당월)'!T112 -> 26.10173 | AE46: =+'[2]실적(당월)'!U112 -> 22.067362 | AF46: =+'[2]실적(당월)'!V112 -> 790.48345 | AG46: =+'[2]실적(당월)'!W112 -> 240.65057 | AH46: =+'[2]실적(당월)'!X112 -> 93.64582
A47: =+H47+I47 -> -4859.7969 | B47: =+L47+M47 -> 212.45808 | F47: 기타사업비_영업외잡손실가계정 | H47: =+SUMIFS($Q47:$AN47,$Q$8:$AN$8,H$8,$Q$9:$AN$9,H$9) -> -2410.3863 | I47: =+SUMIFS($Q47:$AN47,$Q$8:$AN$8,I$8,$Q$9:$AN$9,I$9) -> -2449.4107 | J47: =+SUMIFS($Q47:$AN47,$Q$8:$AN$8,J$8,$Q$9:$AN$9,J$9) -> -2226.6517 | K47: =+SUMIFS($Q47:$AN47,$Q$8:$AN$8,K$8,$Q$9:$AN$9,K$9) -> -3423.8129 | L47: =+SUMIFS($Q47:$AN47,$Q$8:$AN$8,L$8,$Q$9:$AN$9,L$9) -> 120.56416 | M47: =+SUMIFS($Q47:$AN47,$Q$8:$AN$8,M$8,$Q$9:$AN$9,M$9) -> 91.893918 | N47: =+SUMIFS($Q47:$AN47,$Q$8:$AN$8,N$8,$Q$9:$AN$9,N$9) -> 0 | O47: =+SUMIFS($Q47:$AN47,$Q$8:$AN$8,O$8,$Q$9:$AN$9,O$9) -> 0 | S47: ='[2]실적(당월)'!O195 -> -2410.3863 | V47: ='[2]실적(당월)'!P195 -> -2449.4107 | Y47: ='[2]실적(당월)'!Q195 -> -2226.6517 | AB47: ='[2]실적(당월)'!R195 -> -3423.8129 | AC47: ='[2]실적(당월)'!S195 -> 0.399207 | AD47: ='[2]실적(당월)'!T195 -> 766.73376 | AE47: ='[2]실적(당월)'!U195 -> -646.56881 | AF47: ='[2]실적(당월)'!V195 -> 434.59955 | AG47: ='[2]실적(당월)'!W195 -> -324.12721 | AH47: ='[2]실적(당월)'!X195 -> -18.578426
A48: =+H48+I48 -> 1772.2916 | B48: =+L48+M48 -> 5746.1357 | D48: 일반보험 | H48: =+SUMIFS($Q48:$AN48,$Q$8:$AN$8,H$8,$Q$9:$AN$9,H$9) -> 2372.1801 | I48: =+SUMIFS($Q48:$AN48,$Q$8:$AN$8,I$8,$Q$9:$AN$9,I$9) -> -599.88842 | J48: =+SUMIFS($Q48:$AN48,$Q$8:$AN$8,J$8,$Q$9:$AN$9,J$9) -> -1639.5897 | K48: =+SUMIFS($Q48:$AN48,$Q$8:$AN$8,K$8,$Q$9:$AN$9,K$9) -> -9759.4345 | L48: =+SUMIFS($Q48:$AN48,$Q$8:$AN$8,L$8,$Q$9:$AN$9,L$9) -> 3519.1575 | M48: =+SUMIFS($Q48:$AN48,$Q$8:$AN$8,M$8,$Q$9:$AN$9,M$9) -> 2226.9782 | N48: =+SUMIFS($Q48:$AN48,$Q$8:$AN$8,N$8,$Q$9:$AN$9,N$9) -> 0 | O48: =+SUMIFS($Q48:$AN48,$Q$8:$AN$8,O$8,$Q$9:$AN$9,O$9) -> 0 | Q48: =+Q49-Q52 -> 0 | R48: =+R49-R52 -> 0 | S48: =+S49-S52 -> 2372.1801 | T48: =+T49-T52 -> 0 | U48: =+U49-U52 -> 0 | V48: =+V49-V52 -> -599.88842 | W48: =+W49-W52 -> 0 | X48: =+X49-X52 -> 0 | ... AN48: =+AN49-AN52 -> 0
A49: =+H49+I49 -> 38769.012 | B49: =+L49+M49 -> 29946.521 | E49: 보험영업수익 | H49: =+SUMIFS($Q49:$AN49,$Q$8:$AN$8,H$8,$Q$9:$AN$9,H$9) -> 21732.239 | I49: =+SUMIFS($Q49:$AN49,$Q$8:$AN$8,I$8,$Q$9:$AN$9,I$9) -> 17036.773 | J49: =+SUMIFS($Q49:$AN49,$Q$8:$AN$8,J$8,$Q$9:$AN$9,J$9) -> 19564.783 | K49: =+SUMIFS($Q49:$AN49,$Q$8:$AN$8,K$8,$Q$9:$AN$9,K$9) -> 19545.856 | L49: =+SUMIFS($Q49:$AN49,$Q$8:$AN$8,L$8,$Q$9:$AN$9,L$9) -> 16574.594 | M49: =+SUMIFS($Q49:$AN49,$Q$8:$AN$8,M$8,$Q$9:$AN$9,M$9) -> 13371.928 | N49: =+SUMIFS($Q49:$AN49,$Q$8:$AN$8,N$8,$Q$9:$AN$9,N$9) -> 0 | O49: =+SUMIFS($Q49:$AN49,$Q$8:$AN$8,O$8,$Q$9:$AN$9,O$9) -> 0 | Q49: =+Q50-Q51 -> 0 | R49: =+R50-R51 -> 0 | S49: =+S50-S51 -> 21732.239 | T49: =+T50-T51 -> 0 | U49: =+U50-U51 -> 0 | V49: =+V50-V51 -> 17036.773 | W49: =+W50-W51 -> 0 | X49: =+X50-X51 -> 0 | ... AN49: =+AN50-AN51 -> 0
...

Sheet Q
C3: SELECT 기준년월 | K3: 보종월 | O3: 수입보험료
C4: , (CASE WHEN 보종중분류코드 = '21' THEN '보장' | K4: 증권번호 | O4: 증권번호
C5: WHEN 보종중분류코드 = '22' THEN '재물' | O5: 입금원인코드 = '01' << 신계약
C6: WHEN 보종중분류코드 = '23' THEN '저축'
C7: ELSE '기타' END) AS 보종중분류
C8: , (CASE WHEN 보종소분류코드 = '2A' THEN '상해'
C9: WHEN 보종소분류코드 = '2B' THEN '질병'
C10: WHEN 보종소분류코드 = '2C' THEN '운전자'
C11: WHEN 보종소분류코드 = '2G' THEN '재물'
C12: WHEN 보종소분류코드 = '2D' THEN '저축성'
C13: WHEN 보종소분류코드 = '2F' THEN '연금'
C14: ELSE '기타' END) AS 보종소분류
C15: , 납입방법구분코드, 장기신규여부
C16: , SUM(원수실적) AS 원수보험료
C17: FROM mart.마트_마케팅_영관_보종월명세
... C22: ORDER BY 기준년월, 보종중분류, 보종소분류, 납입방법구분코드, 장기신규여부

Sheet R
B1: 기준년월 | C1: 보종중분류 | D1: 보종소분류 | E1: 납입방법구분코드 | F1: 장기신규여부 | G1: 원수보험료 | J1: 신규(월납환산)보험료
B2: 202201 | C2: 보장 | D2: 상해 | E2: 0 | F2: Y | G2: 150376 | I2: =+VLOOKUP($E2,$N$2:$P$7,3,0) -> 일시납 | J2: =+IF(E2=0,0,G2/I2) -> 0 | N2: 0 | O2: 일시납 | P2: 일시납
B3: 202201 | C3: 보장 | D3: 상해 | E3: 10 | F3: N | G3: 114865900014 | I3: =+VLOOKUP($E3,$N$2:$P$7,3,0) -> 1 | J3: =+IF(E3=0,0,G3/I3) -> 114865900014 | N3: 10 | O3: 월납 | P3: 1
B4: 202201 | C4: 보장 | D4: 상해 | E4: 10 | F4: Y | G4: 954523885 | I4: =+VLOOKUP($E4,$N$2:$P$7,3,0) -> 1 | J4: =+IF(E4=0,0,G4/I4) -> 954523885 | N4: 20 | O4: 2월납 | P4: 2
B5: 202201 | C5: 보장 | D5: 상해 | E5: 20 | F5: N | G5: 102980 | I5: =+VLOOKUP($E5,$N$2:$P$7,3,0) -> 2 | J5: =+IF(E5=0,0,G5/I5) -> 51490 | N5: 30 | O5: 3월납 | P5: 3
B6: 202201 | C6: 보장 | D6: 상해 | E6: 30 | F6: N | G6: 1206160 | I6: =+VLOOKUP($E6,$N$2:$P$7,3,0) -> 3 | J6: =+IF(E6=0,0,G6/I6) -> 402053.33 | N6: 60 | O6: 6월납 | P6: 6
B7: 202201 | C7: 보장 | D7: 상해 | E7: 60 | F7: N | G7: 479939 | I7: =+VLOOKUP($E7,$N$2:$P$7,3,0) -> 6 | J7: =+IF(E7=0,0,G7/I7) -> 79989.833 | N7: 90 | O7: 12월납 | P7: 12
B8: 202201 | C8: 보장 | D8: 상해 | E8: 90 | F8: N | G8: 16568298 | I8: =+VLOOKUP($E8,$N$2:$P$7,3,0) -> 12 | J8: =+IF(E8=0,0,G8/I8) -> 1380691.5
B9: 202201 | C9: 보장 | D9: 운전자 | E9: 10 | F9: N | G9: 9840920028 | I9: =+VLOOKUP($E9,$N$2:$P$7,3,0) -> 1 | J9: =+IF(E9=0,0,G9/I9) -> 9840920028
B10: 202201 | C10: 보장 | D10: 운전자 | E10: 10 | F10: Y | G10: 535589107 | I10: =+VLOOKUP($E10,$N$2:$P$7,3,0) -> 1 | J10: =+IF(E10=0,0,G10/I10) -> 535589107
B11: 202201 | C11: 보장 | D11: 운전자 | E11: 30 | F11: N | G11: 1837610 | I11: =+VLOOKUP($E11,$N$2:$P$7,3,0) -> 3 | J11: =+IF(E11=0,0,G11/I11) -> 612536.67
B12: 202201 | C12: 보장 | D12: 운전자 | E12: 90 | F12: N | G12: 1799753 | I12: =+VLOOKUP($E12,$N$2:$P$7,3,0) -> 12 | J12: =+IF(E12=0,0,G12/I12) -> 149979.42
B13: 202201 | C13: 보장 | D13: 운전자 | E13: 90 | F13: Y | G13: 938688 | I13: =+VLOOKUP($E13,$N$2:$P$7,3,0) -> 12 | J13: =+IF(E13=0,0,G13/I13) -> 78224
B14: 202201 | C14: 보장 | D14: 질병 | E14: 10 | F14: N | G14: 20797714458 | I14: =+VLOOKUP($E14,$N$2:$P$7,3,0) -> 1 | J14: =+IF(E14=0,0,G14/I14) -> 20797714458
B15: 202201 | C15: 보장 | D15: 질병 | E15: 10 | F15: Y | G15: 25536942 | I15: =+VLOOKUP($E15,$N$2:$P$7,3,0) -> 1 | J15: =+IF(E15=0,0,G15/I15) -> 25536942
B16: 202201 | C16: 보장 | D16: 질병 | E16: 30 | F16: N | G16: 240651 | I16: =+VLOOKUP($E16,$N$2:$P$7,3,0) -> 3 | J16: =+IF(E16=0,0,G16/I16) -> 80217
B17: 202201 | C17: 재물 | D17: 재물 | E17: 10 | F17: N | G17: 2701386704 | I17: =+VLOOKUP($E17,$N$2:$P$7,3,0) -> 1 | J17: =+IF(E17=0,0,G17/I17) -> 2701386704
B18: 202201 | C18: 재물 | D18: 재물 | E18: 10 | F18: Y | G18: 21749584 | I18: =+VLOOKUP($E18,$N$2:$P$7,3,0) -> 1 | J18: =+IF(E18=0,0,G18/I18) -> 21749584
B19: 202201 | C19: 재물 | D19: 재물 | E19: 30 | F19: N | G19: 880000 | I19: =+VLOOKUP($E19,$N$2:$P$7,3,0) -> 3 | J19: =+IF(E19=0,0,G19/I19) -> 293333.33
... B550: 202306 | C550: 저축 | D550: 저축성 | E550: 90 | F550: Y | G550: 0 | I550: =+VLOOKUP($E550,$N$2:$P$7,3,0) -> 12 | J550: =+IF(E550=0,0,G550/I550) -> 0
