Workbook

Sheet 표지
B10: 2023년 2분기
B11: Factsheet
B16: Contents
B18: I. 경영실적 Highlights
B20: Ⅱ. 보험료 현황 (Premium)
B22: Ⅲ. 종목별 보험손익 (UW Income)
B24: Ⅳ. 요약 손익계산서
B26: Ⅴ. 요약 재무상태표

Sheet Highlight
B1: I. 경영실적 Highlights
B4: 1. 보험료
K5: (단위:백만원)
B6: 구 분 | D6: 2023.1Q | E6: 2023 | J6: 2022
E7: 23.2Q | H7: 23.2Q 누계 | J7: 22.2Q | K7: 22.2Q 누계
F8: QoQ | G8: YoY | I8: YoY
B9: 장 기 | D9: 526622.1 | E9: 542771.68 | F9: 0.030666364 | G9: 0.10678236 | H9: 1069393.8 | I9: 0.095055988 | J9: 490405.07 | K9: 976565.39
B10: 일 반 | D10: 33305.628 | E10: 40553.338 | F10: 0.21761217 | G10: -0.038381729 | H10: 73858.966 | I10: -0.029090591 | J10: 42171.971 | K10: 76071.943
B11: 자 동 차 | D11: 35436.598 | E11: 31982.659 | F11: -0.097468112 | G11: -0.081064445 | H11: 67419.257 | I11: -0.092721148 | J11: 34804.029 | K11: 74309.301
B12: 총 계 | D12: 595364.32 | E12: 615307.68 | F12: 0.033497735 | G12: 0.084469872 | H12: 1210672 | I12: 0.074293994 | J12: 567381.07 | K12: 1126946.6
B13: 주) 원수보험료 기준
B15: 2. 손 익
K16: (단위:백만원)
B17: 구 분 | D17: 2023.1Q | E17: 2023 | J17: 2022
E18: 23.2Q | H18: 23.2Q 누계 | J18: 22.2Q | K18: 22.2Q 누계
F19: QoQ | G19: YoY | I19: YoY
B20: 보 험 손 익 | D20: 46982.71 | E20: 55914.913 | F20: 0.1901168 | G20: 0.21416177 | H20: 102897.62 | I20: 0.024428206 | J20: 46052.276 | K20: 100443.96
B21: - 장 기 | D21: 41589.771 | E21: 54438.629 | F21: 0.30894274 | G21: 0.18475382 | H21: 96028.4 | I21: 0.0029998327 | J21: 45949.317 | K21: 95741.192
C22: CSM 상각 | D22: 41025.948 | E22: 43313.283 | F22: 0.05575337 | G22: 0.10153051 | H22: 84339.23 | I22: 0.096422896 | J22: 39321.001 | K22: 76922.172
C23: RA 변동 | D23: 4627.1133 | E23: 4860.4814 | F23: 0.050434918 | G23: -0.16586744 | H23: 9487.5947 | I23: -0.16086607 | J23: 5826.9891 | K23: 11306.413
B24: - 일 반 | D24: 3519.1575 | E24: 2226.9782 | F24: -0.36718426 | G24: - | H24: 5746.1357 | I24: -0.29220101 | J24: -599.88842 | K24: 8118.3158
B25: - 자동차 | D25: 1873.7819 | E25: -750.69431 | F25: -1.4006306 | G25: -2.0680759 | H25: 1123.0876 | I25: -0.61675559 | J25: 702.84733 | K25: 2930.4735
B26: 투 자 손 익 | D26: 58047.354 | E26: -8488.0606 | F26: -1.1462265 | G26: - | H26: 49559.293 | I26: - | J26: -50618.61 | K26: -90593.109
B27: 영업외손익 | D27: -1627.6362 | E27: 256.89663 | F27: - | G27: - | H27: -1370.7396 | I27: - | J27: -345.97173 | K27: -1383.3551
B28: 당기순이익 | D28: 79374.582 | E28: 33597.165 | F28: -0.5767264 | G28: - | H28: 112971.75 | I28: 16.261073 | J28: -3960.7392 | K28: 6544.8854
B30: 3. 재 무
K31: (단위:백만원)
B32: 구 분 | D32: 2023. 3월 말 | H32: 2023. 6월 말
K33: (YTD)
B34: 총 자산 | D34: 14619371 | H34: 13601366 | K34: -0.069633985
B35: CSM 잔액 | D35: 1894926.9 | H35: 1963350.5 | K35: 0.036108854
B36: 자기자본 | D36: 1417967.5 | H36: 1451130.5 | K36: 0.023387721
B37: 지급여력비율 (K-ICS) | D37: 1.783 | H37: 산출중 | K37: -
B38: 주) CSM 잔액 : 원수 기준
B39: 주) 지급여력비율 : 경과조치 적용후 기준임 / 23년 6월말 기준은 확정 후 추후 공시 예정임

Sheet Premium
B1: II. 보험료 현황
M4: (단위:백만원)
B5: 구 분 | E5: 2023. 1Q | F5: 2023 | L5: 2022
F6: 23.2Q | I6: 23.2Q 누계 | L6: 22.2Q | M6: 22.2Q 누계
G7: QoQ | H7: YoY | J7: 구성비 | K7: YoY | N7: 구성비
B8: 장 기 | E8: 526622.1 | F8: 542771.68 | G8: 0.030666364 | H8: 0.10678236 | I8: 1069393.8 | J8: 0.88330595 | K8: 0.095055988 | L8: 490405.07 | M8: 976565.39 | N8: 0.86655868
C9: 보장성 | E9: 505047.68 | F9: 522690.02 | G9: 0.034932033 | H9: 0.13849542 | I9: 1027737.7 | J9: 0.84889855 | K9: 0.12869648 | L9: 459105.95 | M9: 910552.77 | N9: 0.80798216
C10: 저축성 | E10: 21574.415 | F10: 20081.658 | G10: -0.069191103 | H10: -0.35839547 | I10: 41656.073 | J10: 0.034407398 | K10: -0.36896803 | L10: 31299.121 | M10: 66012.618 | N10: 0.058576525
B11: 일 반 | E11: 33305.628 | F11: 40553.338 | G11: 0.21761217 | H11: -0.038381729 | I11: 73858.966 | J11: 0.061006586 | K11: -0.029090591 | L11: 42171.971 | M11: 76071.943 | N11: 0.067502703
B12: 자 동 차 | E12: 35436.598 | F12: 31982.659 | G12: -0.097468112 | H12: -0.081064445 | I12: 67419.257 | J12: 0.055687467 | K12: -0.092721148 | L12: 34804.029 | M12: 74309.301 | N12: 0.065938615
B13: 합 계 | E13: 595364.32 | F13: 615307.68 | G13: 0.033497735 | H13: 0.084469872 | I13: 1210672 | J13: 1 | K13: 0.074293994 | L13: 567381.07 | M13: 1126946.6 | N13: 1
B14: 주) 원수보험료 기준 | H14: =(F14-L14)/L14 -> #DIV/0!
B16: ※ 장기보험 신규 월납 실적
B17: 보장성 | E17: 10863.025 | F17: 8498.8886 | G17: -0.21763152 | H17: 0.40102586 | I17: 19361.914 | J17: 0.99371822 | K17: 0.708085 | L17: 6066.1897 | M17: 11335.451 | N17: 0.98705284
B18: 저축성 | E18: 89.7092 | F18: 32.687 | G18: -0.6356338 | H18: -0.61789389 | I18: 122.3962 | J18: 0.0062817826 | K18: -0.17681976 | L18: 85.5443 | M18: 148.687 | N18: 0.012947162
B19: 합 계 | E19: 10952.735 | F19: 8531.5756 | G19: -0.2210552 | H19: 0.38685705 | I19: 19484.31 | J19: 1 | K19: 0.696628 | L19: 6151.734 | M19: 11484.138 | N19: 1
B20: 주) 1. 보장성 : 재물 포함, 2. 저축성 : 연금 포함

Sheet UW Income
B1: III. 종목별 보험손익
L4: (단위:백만원)
B5: 구 분 | E5: 2023.1Q | F5: 2023 | K5: 2022
F6: 23.2Q | I6: 23.2Q 누계 | K6: 22.2Q | L6: 22.2Q 누계
G7: QoQ | H7: YoY | J7: YoY
B8: 장기 | C8: CSM 상각 (+) | E8: 41025.948 | F8: 43313.283 | G8: 0.05575337 | H8: 0.10153051 | I8: 84339.23 | J8: 0.096422896 | K8: 39321.001 | L8: 76922.172
C9: RA 변동 (+) | E9: 4627.1133 | F9: 4860.4814 | G9: 0.050434918 | H9: -0.16586744 | I9: 9487.5947 | J9: -0.16086607 | K9: 5826.9891 | L9: 11306.413
C10: 예상대비 실제 차이 (+) | E10: 9728.6503 | F10: 18100.099 | G10: 0.86049437 | H10: 0.2779031 | I10: 27828.749 | J10: -0.036294769 | K10: 14163.906 | L10: 28876.827
C11: - 보험금 예실차 | E11: 9916.773 | F11: 18770.655 | G11: 0.89281883 | H11: 0.043849228 | I11: 28687.428 | J11: -0.1339078 | K11: 17982.151 | L11: 33122.833
C12: - 사업비 예실차 | E12: -188.12267 | F12: -670.55548 | G12: - | H12: - | I12: -858.67815 | J12: - | K12: -3818.2454 | L12: -4246.0062
C13: 재보험 손익 (+) | E13: -4735.9648 | F13: -6448.5628 | G13: - | H13: - | I13: -11184.528 | J13: - | K13: -6687.7765 | L13: -10342.803
C14: 기타사업비 등 (-) | E14: 9055.9757 | F14: 5386.6714 | G14: -0.40518044 | H14: -0.1929842 | I14: 14442.647 | J14: 0.31041657 | K14: 6674.8029 | L14: 11021.417
C15: 보 험 손 익 | E15: 41589.771 | F15: 54438.629 | G15: 0.30894274 | H15: 0.18475382 | I15: 96028.4 | J15: 0.0029998327 | K15: 45949.317 | L15: 95741.192
B16: 일반 | C16: 보험영업수익 (+) | E16: 16574.594 | F16: 13371.928 | G16: -0.19322741 | H16: -0.21511382 | I16: 29946.521 | J16: -0.22756553 | K16: 17036.773 | L16: 38769.012
C17: 보험영업비용 (-) | E17: 13055.436 | F17: 11144.95 | G17: -0.14633648 | H17: -0.36808055 | I17: 24200.386 | J17: -0.34587754 | K17: 17636.662 | L17: 36996.72
C18: 보 험 손 익 | E18: 3519.1575 | F18: 2226.9782 | G18: -0.36718426 | H18: - | I18: 5746.1357 | J18: 2.2422066 | K18: -599.88842 | L18: 1772.2916
B19: 자동차 | C19: 보험영업수익 (+) | E19: 28141.63 | F19: 28250.959 | G19: 0.0038849631 | H19: -0.18987106 | I19: 56392.589 | J19: -0.22063463 | K19: 34872.176 | L19: 72357.062
C20: 보험영업비용 (-) | E20: 26267.848 | F20: 29001.653 | G20: 0.10407421 | H20: -0.15123725 | I20: 55269.501 | J20: -0.2039145 | K20: 34169.329 | L20: 69426.589
C21: 보 험 손 익 | E21: 1873.7819 | F21: -750.69431 | G21: -1.4006306 | H21: -2.0680759 | I21: 1123.0876 | J21: -0.61675559 | K21: 702.84733 | L21: 2930.4735
B22: 보 험 손 익 합계 | E22: 46982.71 | F22: 55914.913 | G22: 0.1901168 | H22: 0.21416177 | I22: 102897.62 | J22: 0.024428206 | K22: 46052.276 | L22: 100443.96
B23: 주) 1. (장기보험) 사업비 예실차 : 손해조사비, 보험료무관체결비, 유지비, 투자관리비 예실차
B24: 2. (장기보험) 기타사업비 등 : 간접비, 손실요소관련비용 등
B25: 3. (일반,자동차보험) 발생손해액 : 발생보험금, 발생사고요소조정, 발생손해조사비 등
B26: 4. (일반,자동차보험) 보험영업수익 : 보험수익-재보험서비스비용
B27: 5. (일반,자동차보험) 보험영업비용 : 보험서비스비용-재보험수익+기타사업비용

Sheet IS
B1: IV. 요약 손익계산서
B4: 본 페이지는 DART 공시 제79기 반기보고서 > III. 재무에 관한 사항 1. 요약재무정보를 참고하여 주시기 바랍니다.

Sheet BS
B1: V. 요약 재무상태표
B4: 본 페이지는 DART 공시 제79기 반기보고서 > III. 재무에 관한 사항 1. 요약재무정보를 참고하여 주시기 바랍니다.

Sheet >>경영기획팀back

Sheet 월별
H6: 202112 | I6: =+H7 -> 202203 | J6: =+I7 -> 202206 | K6: =+J7 -> 202209 | L6: =+K7 -> 202212 | M6: =+L7 -> 202303 | N6: =+M7 -> 202306 | O6: =+N7 -> 202309
H7: 202203 | I7: =+H7+3 -> 202206 | J7: =+I7+3 -> 202209 | K7: =+J7+3 -> 202212 | L7: =+H7+100 -> 202303 | M7: =+I7+100 -> 202306 | N7: =+J7+100 -> 202309 | O7: =+K7+100 -> 202312
H8: 2022 | I8: 2022 | J8: 2022 | K8: 2022 | L8: 2023 | M8: 2023 | N8: 2023 | O8: 2023 | Q8: =+VALUE(LEFT(Q11,4)) -> 2022 | R8: =+VALUE(LEFT(R11,4)) -> 2022 | S8: =+VALUE(LEFT(S11,4)) -> 2022 | T8: =+VALUE(LEFT(T11,4)) -> 2022 | U8: =+VALUE(LEFT(U11,4)) -> 2022 | V8: =+VALUE(LEFT(V11,4)) -> 2022 | W8: =+VALUE(LEFT(W11,4)) -> 2022 | X8: =+VALUE(LEFT(X11,4)) -> 2022 | ... AN8: =+VALUE(LEFT(AN11,4)) -> 2023
C9: (단위 : 백만원) | H9: 1Q | I9: 2Q | J9: 3Q | K9: 4Q | L9: 1Q | M9: 2Q | N9: 3Q | O9: 4Q | Q9: 1Q | R9: 1Q | S9: 1Q | T9: 2Q | U9: 2Q | V9: 2Q | W9: 3Q | X9: 3Q | Y9: 3Q | Z9: 4Q | AA9: 4Q | AB9: 4Q | AC9: 1Q | AD9: 1Q | AE9: 1Q | AF9: 2Q | AG9: 2Q | AH9: 2Q | AI9: 3Q | AJ9: 3Q | AK9: 3Q | AL9: 4Q | AM9: 4Q | AN9: 4Q
C10: 1. 보험료
A11: 2022 | B11: 2023 | C11: 구분 | H11: 2022 | L11: 2023 | Q11: 202201 | R11: =+Q11+1 -> 202202 | S11: =+R11+1 -> 202203 | T11: =+S11+1 -> 202204 | U11: =+T11+1 -> 202205 | V11: =+U11+1 -> 202206 | W11: =+V11+1 -> 202207 | X11: =+W11+1 -> 202208 | Y11: =+X11+1 -> 202209 | ... AB11: =+AA11+1 -> 202212 | AC11: =+Q11+100 -> 202301 | AD11: =+R11+100 -> 202302 | AE11: =+S11+100 -> 202303 | AF11: =+T11+100 -> 202304 | AG11: =+U11+100 -> 202305 | AH11: =+V11+100 -> 202306 | AI11: =+W11+100 -> 202307 | AJ11: =+X11+100 -> 202308 | ... AN11: =+AB11+100 -> 202312
A12: 2Q누계 | B12: 2Q누계 | H12: 1Q | I12: 2Q | J12: 3Q | K12: 4Q | L12: 1Q | M12: 2Q | N12: 3Q | O12: 4Q
A13: =+H13+I13 -> 976565.39 | B13: =+L13+M13 -> 1069393.8 | C13: 장기 | H13: =+SUMIFS($Q13:$AN13,$Q$8:$AN$8,H$8,$Q$9:$AN$9,H$9) -> 486160.32 | I13: =+SUMIFS($Q13:$AN13,$Q$8:$AN$8,I$8,$Q$9:$AN$9,I$9) -> 490405.07 | J13: =+SUMIFS($Q13:$AN13,$Q$8:$AN$8,J$8,$Q$9:$AN$9,J$9) -> 499449.79 | K13: =+SUMIFS($Q13:$AN13,$Q$8:$AN$8,K$8,$Q$9:$AN$9,K$9) -> 574600.4 | L13: =+SUMIFS($Q13:$AN13,$Q$8:$AN$8,L$8,$Q$9:$AN$9,L$9) -> 526622.1 | M13: =+SUMIFS($Q13:$AN13,$Q$8:$AN$8,M$8,$Q$9:$AN$9,M$9) -> 542771.68 | N13: =+SUMIFS($Q13:$AN13,$Q$8:$AN$8,N$8,$Q$9:$AN$9,N$9) -> 0 | O13: =+SUMIFS($Q13:$AN13,$Q$8:$AN$8,O$8,$Q$9:$AN$9,O$9) -> 0 | Q13: =+SUMIFS('R'!$G:$G,'R'!$B:$B,월별!Q$11)/1000000 -> 161679.66 | R13: =+SUMIFS('R'!$G:$G,'R'!$B:$B,월별!R$11)/1000000 -> 160373.36 | S13: =+SUMIFS('R'!$G:$G,'R'!$B:$B,월별!S$11)/1000000 -> 164107.3 | T13: =+SUMIFS('R'!$G:$G,'R'!$B:$B,월별!T$11)/1000000 -> 162960.55 | U13: =+SUMIFS('R'!$G:$G,'R'!$B:$B,월별!U$11)/1000000 -> 163462.15 | V13: =+SUMIFS('R'!$G:$G,'R'!$B:$B,월별!V$11)/1000000 -> 163982.37 | W13: =+SUMIFS('R'!$G:$G,'R'!$B:$B,월별!W$11)/1000000 -> 165823.04 | X13: =+SUMIFS('R'!$G:$G,'R'!$B:$B,월별!X$11)/1000000 -> 166170.62 | ... AH13: =+SUMIFS('R'!$G:$G,'R'!$B:$B,월별!AH$11)/1000000 -> 182963.12
A14: =+H14+I14 -> 11484.138 | B14: =+L14+M14 -> 19484.31 | D14: 신규월납 | H14: =+SUMIFS($Q14:$AN14,$Q$8:$AN$8,H$8,$Q$9:$AN$9,H$9) -> 5332.4041 | I14: =+SUMIFS($Q14:$AN14,$Q$8:$AN$8,I$8,$Q$9:$AN$9,I$9) -> 6151.734 | J14: =+SUMIFS($Q14:$AN14,$Q$8:$AN$8,J$8,$Q$9:$AN$9,J$9) -> 8179.6113 | K14: =+SUMIFS($Q14:$AN14,$Q$8:$AN$8,K$8,$Q$9:$AN$9,K$9) -> 8855.5615 | L14: =+SUMIFS($Q14:$AN14,$Q$8:$AN$8,L$8,$Q$9:$AN$9,L$9) -> 10952.735 | M14: =+SUMIFS($Q14:$AN14,$Q$8:$AN$8,M$8,$Q$9:$AN$9,M$9) -> 8531.5756 | N14: =+SUMIFS($Q14:$AN14,$Q$8:$AN$8,N$8,$Q$9:$AN$9,N$9) -> 0 | O14: =+SUMIFS($Q14:$AN14,$Q$8:$AN$8,O$8,$Q$9:$AN$9,O$9) -> 0 | Q14: =+SUMIFS('R'!$G:$G,'R'!$B:$B,월별!Q$11,'R'!$F:$F,"Y",'R'!$E:$E,"10")/1000000 -> 1575.1103 | R14: =+SUMIFS('R'!$G:$G,'R'!$B:$B,월별!R$11,'R'!$F:$F,"Y",'R'!$E:$E,"10")/1000000 -> 1530.7436 | S14: =+SUMIFS('R'!$G:$G,'R'!$B:$B,월별!S$11,'R'!$F:$F,"Y",'R'!$E:$E,"10")/1000000 -> 2226.5502 | T14: =+SUMIFS('R'!$G:$G,'R'!$B:$B,월별!T$11,'R'!$F:$F,"Y",'R'!$E:$E,"10")/1000000 -> 1859.1214 | U14: =+SUMIFS('R'!$G:$G,'R'!$B:$B,월별!U$11,'R'!$F:$F,"Y",'R'!$E:$E,"10")/1000000 -> 2005.5925 | V14: =+SUMIFS('R'!$G:$G,'R'!$B:$B,월별!V$11,'R'!$F:$F,"Y",'R'!$E:$E,"10")/1000000 -> 2287.0201 | W14: =+SUMIFS('R'!$G:$G,'R'!$B:$B,월별!W$11,'R'!$F:$F,"Y",'R'!$E:$E,"10")/1000000 -> 2642.3031 | X14: =+SUMIFS('R'!$G:$G,'R'!$B:$B,월별!X$11,'R'!$F:$F,"Y",'R'!$E:$E,"10")/1000000 -> 2649.7983 | ... AH14: =+SUMIFS('R'!$G:$G,'R'!$B:$B,월별!AH$11,'R'!$F:$F,"Y",'R'!$E:$E,"10")/1000000 -> 3386.0545
A15: =+H15+I15 -> 76071.943 | B15: =+L15+M15 -> 73858.966 | C15: 일반 | H15: =+SUMIFS($Q15:$AN15,$Q$8:$AN$8,H$8,$Q$9:$AN$9,H$9) -> 33899.973 | I15: =+SUMIFS($Q15:$AN15,$Q$8:$AN$8,I$8,$Q$9:$AN$9,I$9) -> 42171.971 | J15: =+SUMIFS($Q15:$AN15,$Q$8:$AN$8,J$8,$Q$9:$AN$9,J$9) -> 31894.665 | K15: =+SUMIFS($Q15:$AN15,$Q$8:$AN$8,K$8,$Q$9:$AN$9,K$9) -> 32764.057 | L15: =+SUMIFS($Q15:$AN15,$Q$8:$AN$8,L$8,$Q$9:$AN$9,L$9) -> 33305.628 | M15: =+SUMIFS($Q15:$AN15,$Q$8:$AN$8,M$8,$Q$9:$AN$9,M$9) -> 40553.338 | N15: =+SUMIFS($Q15:$AN15,$Q$8:$AN$8,N$8,$Q$9:$AN$9,N$9) -> 0 | O15: =+SUMIFS($Q15:$AN15,$Q$8:$AN$8,O$8,$Q$9:$AN$9,O$9) -> 0 | Q15: =+'[1]K-IFRS_당월'!GD5 -> 16655.657 | R15: =+'[1]K-IFRS_당월'!GE5 -> 6880.6089 | S15: =+'[1]K-IFRS_당월'!GF5 -> 10363.707 | T15: =+'[1]K-IFRS_당월'!GG5 -> 11195.858 | U15: =+'[1]K-IFRS_당월'!GH5 -> 9008.2238 | V15: =+'[1]K-IFRS_당월'!GI5 -> 21967.889 | W15: =+'[1]K-IFRS_당월'!GJ5 -> 15276.625 | X15: =+'[1]K-IFRS_당월'!GK5 -> 7861.4188 | ... AH15: =+'[1]K-IFRS_당월'!GU5 -> 20677.629
A16: =+H16+I16 -> 74309.301 | B16: =+L16+M16 -> 67419.257 | C16: 자동차 | H16: =+SUMIFS($Q16:$AN16,$Q$8:$AN$8,H$8,$Q$9:$AN$9,H$9) -> 39505.272 | I16: =+SUMIFS($Q16:$AN16,$Q$8:$AN$8,I$8,$Q$9:$AN$9,I$9) -> 34804.029 | J16: =+SUMIFS($Q16:$AN16,$Q$8:$AN$8,J$8,$Q$9:$AN$9,J$9) -> 32561.484 | K16: =+SUMIFS($Q16:$AN16,$Q$8:$AN$8,K$8,$Q$9:$AN$9,K$9) -> 30988.353 | L16: =+SUMIFS($Q16:$AN16,$Q$8:$AN$8,L$8,$Q$9:$AN$9,L$9) -> 35436.598 | M16: =+SUMIFS($Q16:$AN16,$Q$8:$AN$8,M$8,$Q$9:$AN$9,M$9) -> 31982.659 | N16: =+SUMIFS($Q16:$AN16,$Q$8:$AN$8,N$8,$Q$9:$AN$9,N$9) -> 0 | O16: =+SUMIFS($Q16:$AN16,$Q$8:$AN$8,O$8,$Q$9:$AN$9,O$9) -> 0 | Q16: =+'[1]K-IFRS_당월'!GD16 -> 14178.193 | R16: =+'[1]K-IFRS_당월'!GE16 -> 11934.633 | S16: =+'[1]K-IFRS_당월'!GF16 -> 13392.446 | T16: =+'[1]K-IFRS_당월'!GG16 -> 11769.173 | U16: =+'[1]K-IFRS_당월'!GH16 -> 11588.794 | V16: =+'[1]K-IFRS_당월'!GI16 -> 11446.062 | W16: =+'[1]K-IFRS_당월'!GJ16 -> 10847.355 | X16: =+'[1]K-IFRS_당월'!GK16 -> 11506.804 | ... AH16: =+'[1]K-IFRS_당월'!GU16 -> 10135.811
A17: =+H17+I17 -> 1126946.6 | B17: =+L17+M17 -> 1210672 | C17: 합계 | H17: =+H16+H15+H13 -> 559565.56 | I17: =+I16+I15+I13 -> 567381.07 | J17: =+J16+J15+J13 -> 563905.94 | K17: =+K16+K15+K13 -> 638352.81 | L17: =+L16+L15+L13 -> 595364.32 | M17: =+M16+M15+M13 -> 615307.68 | N17: =+N16+N15+N13 -> 0 | O17: =+O16+O15+O13 -> 0 | Q17: =+Q16+Q15+Q13 -> 192513.51 | R17: =+R16+R15+R13 -> 179188.6 | S17: =+S16+S15+S13 -> 187863.45 | T17: =+T16+T15+T13 -> 185925.58 | U17: =+U16+U15+U13 -> 184059.17 | V17: =+V16+V15+V13 -> 197396.32 | W17: =+W16+W15+W13 -> 191947.02 | X17: =+X16+X15+X13 -> 185538.85 | ... AH17: =+AH16+AH15+AH13 -> 213776.56
A19: =+H19+I19 -> 11484.138 | B19: =+L19+M19 -> 19484.31 | C19: 장기 신규월납 | H19: =+H14 -> 5332.4041 | I19: =+I14 -> 6151.734 | J19: =+J14 -> 8179.6113 | K19: =+K14 -> 8855.5615 | L19: =+L14 -> 10952.735 | M19: =+M14 -> 8531.5756 | N19: =+N14 -> 0 | O19: =+O14 -> 0 | Q19: =+Q14 -> 1575.1103 | R19: =+R14 -> 1530.7436 | S19: =+S14 -> 2226.5502 | T19: =+T14 -> 1859.1214 | U19: =+U14 -> 2005.5925 | V19: =+V14 -> 2287.0201 | W19: =+W14 -> 2642.3031 | X19: =+X14 -> 2649.7983 | ... AH19: =+AH14 -> 3386.0545
A20: =+H20+I20 -> 11335.451 | B20: =+L20+M20 -> 19361.914 | D20: 보장성 | H20: =+H23+H24 -> 5269.2614 | I20: =+I23+I24 -> 6066.1897 | J20: =+J23+J24 -> 8116.551 | K20: =+K23+K24 -> 8809.1053 | L20: =+L23+L24 -> 10863.025 | M20: =+M23+M24 -> 8498.8886 | N20: =+N23+N24 -> 0 | O20: =+O23+O24 -> 0 | Q20: =+Q23+Q24 -> 1537.3995 | R20: =+R23+R24 -> 1521.2782 | S20: =+S23+S24 -> 2210.5837 | T20: =+T23+T24 -> 1834.9014 | U20: =+U23+U24 -> 1968.8225 | V20: =+V23+V24 -> 2262.4658 | W20: =+W23+W24 -> 2618.5178 | X20: =+X23+X24 -> 2621.5499 | ... AH20: =+AH23+AH24 -> 3377.4721
A21: =+H21+I21 -> 148.687 | B21: =+L21+M21 -> 122.3962 | D21: 저축성 | H21: =+H25 -> 63.1427 | I21: =+I25 -> 85.5443 | J21: =+J25 -> 63.0603 | K21: =+K25 -> 46.4562 | L21: =+L25 -> 89.7092 | M21: =+M25 -> 32.687 | N21: =+N25 -> 0 | O21: =+O25 -> 0 | Q21: =+Q25 -> 37.7108 | R21: =+R25 -> 9.4654 | S21: =+S25 -> 15.9665 | T21: =+T25 -> 24.22 | U21: =+U25 -> 36.77 | V21: =+V25 -> 24.5543 | W21: =+W25 -> 23.7853 | X21: =+X25 -> 28.2484 | ... AH21: =+AH25 -> 8.5824
D23: 보장 | H23: =+SUMIFS($Q23:$AN23,$Q$8:$AN$8,H$8,$Q$9:$AN$9,H$9) -> 5209.354 | I23: =+SUMIFS($Q23:$AN23,$Q$8:$AN$8,I$8,$Q$9:$AN$9,I$9) -> 6013.3136 | J23: =+SUMIFS($Q23:$AN23,$Q$8:$AN$8,J$8,$Q$9:$AN$9,J$9) -> 8062.1804 | K23: =+SUMIFS($Q23:$AN23,$Q$8:$AN$8,K$8,$Q$9:$AN$9,K$9) -> 8770.7595 | L23: =+SUMIFS($Q23:$AN23,$Q$8:$AN$8,L$8,$Q$9:$AN$9,L$9) -> 10810.304 | M23: =+SUMIFS($Q23:$AN23,$Q$8:$AN$8,M$8,$Q$9:$AN$9,M$9) -> 8445.3097 | N23: =+SUMIFS($Q23:$AN23,$Q$8:$AN$8,N$8,$Q$9:$AN$9,N$9) -> 0 | O23: =+SUMIFS($Q23:$AN23,$Q$8:$AN$8,O$8,$Q$9:$AN$9,O$9) -> 0 | Q23: =+SUMIFS('R'!$G:$G,'R'!$B:$B,월별!Q$11,'R'!$F:$F,"Y",'R'!$E:$E,"10",'R'!$C:$C,월별!$D23)/1000000 -> 1515.6499 | R23: =+SUMIFS('R'!$G:$G,'R'!$B:$B,월별!R$11,'R'!$F:$F,"Y",'R'!$E:$E,"10",'R'!$C:$C,월별!$D23)/1000000 -> 1501.5421 | S23: =+SUMIFS('R'!$G:$G,'R'!$B:$B,월별!S$11,'R'!$F:$F,"Y",'R'!$E:$E,"10",'R'!$C:$C,월별!$D23)/1000000 -> 2192.1619 | T23: =+SUMIFS('R'!$G:$G,'R'!$B:$B,월별!T$11,'R'!$F:$F,"Y",'R'!$E:$E,"10",'R'!$C:$C,월별!$D23)/1000000 -> 1817.0042 | U23: =+SUMIFS('R'!$G:$G,'R'!$B:$B,월별!U$11,'R'!$F:$F,"Y",'R'!$E:$E,"10",'R'!$C:$C,월별!$D23)/1000000 -> 1951.3577 | V23: =+SUMIFS('R'!$G:$G,'R'!$B:$B,월별!V$11,'R'!$F:$F,"Y",'R'!$E:$E,"10",'R'!$C:$C,월별!$D23)/1000000 -> 2244.9517 | W23: =+SUMIFS('R'!$G:$G,'R'!$B:$B,월별!W$11,'R'!$F:$F,"Y",'R'!$E:$E,"10",'R'!$C:$C,월별!$D23)/1000000 -> 2597.5211 | X23: =+SUMIFS('R'!$G:$G,'R'!$B:$B,월별!X$11,'R'!$F:$F,"Y",'R'!$E:$E,"10",'R'!$C:$C,월별!$D23)/1000000 -> 2605.9244 | ... AH23: =+SUMIFS('R'!$G:$G,'R'!$B:$B,월별!AH$11,'R'!$F:$F,"Y",'R'!$E:$E,"10",'R'!$C:$C,월별!$D23)/1000000 -> 3364.593
D24: 재물 | H24: =+SUMIFS($Q24:$AN24,$Q$8:$AN$8,H$8,$Q$9:$AN$9,H$9) -> 59.907438 | I24: =+SUMIFS($Q24:$AN24,$Q$8:$AN$8,I$8,$Q$9:$AN$9,I$9) -> 52.876055 | J24: =+SUMIFS($Q24:$AN24,$Q$8:$AN$8,J$8,$Q$9:$AN$9,J$9) -> 54.370607 | K24: =+SUMIFS($Q24:$AN24,$Q$8:$AN$8,K$8,$Q$9:$AN$9,K$9) -> 38.345743 | L24: =+SUMIFS($Q24:$AN24,$Q$8:$AN$8,L$8,$Q$9:$AN$9,L$9) -> 52.721254 | M24: =+SUMIFS($Q24:$AN24,$Q$8:$AN$8,M$8,$Q$9:$AN$9,M$9) -> 53.578954 | N24: =+SUMIFS($Q24:$AN24,$Q$8:$AN$8,N$8,$Q$9:$AN$9,N$9) -> 0 | O24: =+SUMIFS($Q24:$AN24,$Q$8:$AN$8,O$8,$Q$9:$AN$9,O$9) -> 0 | Q24: =+SUMIFS('R'!$G:$G,'R'!$B:$B,월별!Q$11,'R'!$F:$F,"Y",'R'!$E:$E,"10",'R'!$C:$C,월별!$D24)/1000000 -> 21.749584 | R24: =+SUMIFS('R'!$G:$G,'R'!$B:$B,월별!R$11,'R'!$F:$F,"Y",'R'!$E:$E,"10",'R'!$C:$C,월별!$D24)/1000000 -> 19.736097 | S24: =+SUMIFS('R'!$G:$G,'R'!$B:$B,월별!S$11,'R'!$F:$F,"Y",'R'!$E:$E,"10",'R'!$C:$C,월별!$D24)/1000000 -> 18.421757 | T24: =+SUMIFS('R'!$G:$G,'R'!$B:$B,월별!T$11,'R'!$F:$F,"Y",'R'!$E:$E,"10",'R'!$C:$C,월별!$D24)/1000000 -> 17.89715 | U24: =+SUMIFS('R'!$G:$G,'R'!$B:$B,월별!U$11,'R'!$F:$F,"Y",'R'!$E:$E,"10",'R'!$C:$C,월별!$D24)/1000000 -> 17.464805 | V24: =+SUMIFS('R'!$G:$G,'R'!$B:$B,월별!V$11,'R'!$F:$F,"Y",'R'!$E:$E,"10",'R'!$C:$C,월별!$D24)/1000000 -> 17.5141 | W24: =+SUMIFS('R'!$G:$G,'R'!$B:$B,월별!W$11,'R'!$F:$F,"Y",'R'!$E:$E,"10",'R'!$C:$C,월별!$D24)/1000000 -> 20.996716 | X24: =+SUMIFS('R'!$G:$G,'R'!$B:$B,월별!X$11,'R'!$F:$F,"Y",'R'!$E:$E,"10",'R'!$C:$C,월별!$D24)/1000000 -> 15.625521 | ... AH24: =+SUMIFS('R'!$G:$G,'R'!$B:$B,월별!AH$11,'R'!$F:$F,"Y",'R'!$E:$E,"10",'R'!$C:$C,월별!$D24)/1000000 -> 12.879067
D25: 저축 | H25: =+SUMIFS($Q25:$AN25,$Q$8:$AN$8,H$8,$Q$9:$AN$9,H$9) -> 63.1427 | I25: =+SUMIFS($Q25:$AN25,$Q$8:$AN$8,I$8,$Q$9:$AN$9,I$9) -> 85.5443 | J25: =+SUMIFS($Q25:$AN25,$Q$8:$AN$8,J$8,$Q$9:$AN$9,J$9) -> 63.0603 | K25: =+SUMIFS($Q25:$AN25,$Q$8:$AN$8,K$8,$Q$9:$AN$9,K$9) -> 46.4562 | L25: =+SUMIFS($Q25:$AN25,$Q$8:$AN$8,L$8,$Q$9:$AN$9,L$9) -> 89.7092 | M25: =+SUMIFS($Q25:$AN25,$Q$8:$AN$8,M$8,$Q$9:$AN$9,M$9) -> 32.687 | N25: =+SUMIFS($Q25:$AN25,$Q$8:$AN$8,N$8,$Q$9:$AN$9,N$9) -> 0 | O25: =+SUMIFS($Q25:$AN25,$Q$8:$AN$8,O$8,$Q$9:$AN$9,O$9) -> 0 | Q25: =+SUMIFS('R'!$G:$G,'R'!$B:$B,월별!Q$11,'R'!$F:$F,"Y",'R'!$E:$E,"10",'R'!$C:$C,월별!$D25)/1000000 -> 37.7108 | R25: =+SUMIFS('R'!$G:$G,'R'!$B:$B,월별!R$11,'R'!$F:$F,"Y",'R'!$E:$E,"10",'R'!$C:$C,월별!$D25)/1000000 -> 9.4654 | S25: =+SUMIFS('R'!$G:$G,'R'!$B:$B,월별!S$11,'R'!$F:$F,"Y",'R'!$E:$E,"10",'R'!$C:$C,월별!$D25)/1000000 -> 15.9665 | T25: =+SUMIFS('R'!$G:$G,'R'!$B:$B,월별!T$11,'R'!$F:$F,"Y",'R'!$E:$E,"10",'R'!$C:$C,월별!$D25)/1000000 -> 24.22 | U25: =+SUMIFS('R'!$G:$G,'R'!$B:$B,월별!U$11,'R'!$F:$F,"Y",'R'!$E:$E,"10",'R'!$C:$C,월별!$D25)/1000000 -> 36.77 | V25: =+SUMIFS('R'!$G:$G,'R'!$B:$B,월별!V$11,'R'!$F:$F,"Y",'R'!$E:$E,"10",'R'!$C:$C,월별!$D25)/1000000 -> 24.5543 | W25: =+SUMIFS('R'!$G:$G,'R'!$B:$B,월별!W$11,'R'!$F:$F,"Y",'R'!$E:$E,"10",'R'!$C:$C,월별!$D25)/1000000 -> 23.7853 | X25: =+SUMIFS('R'!$G:$G,'R'!$B:$B,월별!X$11,'R'!$F:$F,"Y",'R'!$E:$E,"10",'R'!$C:$C,월별!$D25)/1000000 -> 28.2484 | ... AH25: =+SUMIFS('R'!$G:$G,'R'!$B:$B,월별!AH$11,'R'!$F:$F,"Y",'R'!$E:$E,"10",'R'!$C:$C,월별!$D25)/1000000 -> 8.5824
C28: 2. 손익
C29: 구분 | H29: 2022 | L29: 2023 | Q29: 202201 | R29: =+Q29+1 -> 202202 | S29: =+R29+1 -> 202203 | T29: =+S29+1 -> 202204 | U29: =+T29+1 -> 202205 | V29: =+U29+1 -> 202206 | W29: =+V29+1 -> 202207 | X29: =+W29+1 -> 202208 | Y29: =+X29+1 -> 202209 | ... AB29: =+AA29+1 -> 202212 | AC29: =+Q29+100 -> 202301 | AD29: =+R29+100 -> 202302 | AE29: =+S29+100 -> 202303 | AF29: =+T29+100 -> 202304 | AG29: =+U29+100 -> 202305 | AH29: =+V29+100 -> 202306 | AI29: =+W29+100 -> 202307 | AJ29: =+X29+100 -> 202308 | ... AN29: =+AB29+100 -> 202312
H30: 1Q | I30: 2Q | J30: 3Q | K30: 4Q | L30: 1Q | M30: 2Q | N30: 3Q | O30: 4Q
A31: =+H31+I31 -> 100443.96 | B31: =+L31+M31 -> 102897.62 | C31: 보험손익 | H31: =+SUMIFS($Q31:$AN31,$Q$8:$AN$8,H$8,$Q$9:$AN$9,H$9) -> 54391.682 | I31: =+SUMIFS($Q31:$AN31,$Q$8:$AN$8,I$8,$Q$9:$AN$9,I$9) -> 46052.276 | J31: =+SUMIFS($Q31:$AN31,$Q$8:$AN$8,J$8,$Q$9:$AN$9,J$9) -> 52444.335 | K31: =+SUMIFS($Q31:$AN31,$Q$8:$AN$8,K$8,$Q$9:$AN$9,K$9) -> 17044.781 | L31: =+SUMIFS($Q31:$AN31,$Q$8:$AN$8,L$8,$Q$9:$AN$9,L$9) -> 46982.71 | M31: =+SUMIFS($Q31:$AN31,$Q$8:$AN$8,M$8,$Q$9:$AN$9,M$9) -> 55914.913 | N31: =+SUMIFS($Q31:$AN31,$Q$8:$AN$8,N$8,$Q$9:$AN$9,N$9) -> 0 | O31: =+SUMIFS($Q31:$AN31,$Q$8:$AN$8,O$8,$Q$9:$AN$9,O$9) -> 0 | Q31: =+Q32+Q48+Q56 -> 0 | R31: =+R32+R48+R56 -> 0 | S31: =+S32+S48+S56 -> 54391.682 | T31: =+T32+T48+T56 -> 0 | U31: =+U32+U48+U56 -> 0 | V31: =+V32+V48+V56 -> 46052.276 | W31: =+W32+W48+W56 -> 0 | X31: =+X32+X48+X56 -> 0 | ... AN31: =+AN32+AN48+AN56 -> 0
A32: =+H32+I32 -> 95741.192 | B32: =+L32+M32 -> 96028.4 | D32: 장기보험 | H32: =+SUMIFS($Q32:$AN32,$Q$8:$AN$8,H$8,$Q$9:$AN$9,H$9) -> 49791.875 | I32: =+SUMIFS($Q32:$AN32,$Q$8:$AN$8,I$8,$Q$9:$AN$9,I$9) -> 45949.317 | J32: =+SUMIFS($Q32:$AN32,$Q$8:$AN$8,J$8,$Q$9:$AN$9,J$9) -> 51697.28 | K32: =+SUMIFS($Q32:$AN32,$Q$8:$AN$8,K$8,$Q$9:$AN$9,K$9) -> 36904.995 | L32: =+SUMIFS($Q32:$AN32,$Q$8:$AN$8,L$8,$Q$9:$AN$9,L$9) -> 41589.771 | M32: =+SUMIFS($Q32:$AN32,$Q$8:$AN$8,M$8,$Q$9:$AN$9,M$9) -> 54438.629 | N32: =+SUMIFS($Q32:$AN32,$Q$8:$AN$8,N$8,$Q$9:$AN$9,N$9) -> 0 | O32: =+SUMIFS($Q32:$AN32,$Q$8:$AN$8,O$8,$Q$9:$AN$9,O$9) -> 0 | Q32: =+Q33+Q34+Q35+Q43-Q44 -> 0 | R32: =+R33+R34+R35+R43-R44 -> 0 | S32: =+S33+S34+S35+S43-S44 -> 49791.875 | T32: =+T33+T34+T35+T43-T44 -> 0 | U32: =+U33+U34+U35+U43-U44 -> 0 | V32: =+V33+V34+V35+V43-V44 -> 45949.317 | W32: =+W33+W34+W35+W43-W44 -> 0 | X32: =+X33+X34+X35+X43-X44 -> 0 | ... AN32: =+AN33+AN34+AN35+AN43-AN44 -> 0
A33: =+H33+I33 -> 76922.172 | B33: =+L33+M33 -> 84339.23 | E33: CSM상각 | H33: =+SUMIFS($Q33:$AN33,$Q$8:$AN$8,H$8,$Q$9:$AN$9,H$9) -> 37601.17 | I33: =+SUMIFS($Q33:$AN33,$Q$8:$AN$8,I$8,$Q$9:$AN$9,I$9) -> 39321.001 | J33: =+SUMIFS($Q33:$AN33,$Q$8:$AN$8,J$8,$Q$9:$AN$9,J$9) -> 40752.417 | K33: =+SUMIFS($Q33:$AN33,$Q$8:$AN$8,K$8,$Q$9:$AN$9,K$9) -> 39788.39 | L33: =+SUMIFS($Q33:$AN33,$Q$8:$AN$8,L$8,$Q$9:$AN$9,L$9) -> 41025.948 | M33: =+SUMIFS($Q33:$AN33,$Q$8:$AN$8,M$8,$Q$9:$AN$9,M$9) -> 43313.283 | N33: =+SUMIFS($Q33:$AN33,$Q$8:$AN$8,N$8,$Q$9:$AN$9,N$9) -> 0 | O33: =+SUMIFS($Q33:$AN33,$Q$8:$AN$8,O$8,$Q$9:$AN$9,O$9) -> 0 | S33: =+'[2]실적(당월)'!O89 -> 37601.17 | V33: =+'[2]실적(당월)'!P89 -> 39321.001 | Y33: =+'[2]실적(당월)'!Q89 -> 40752.417 | AB33: =+'[2]실적(당월)'!R89 -> 39788.39 | AC33: =+'[2]실적(당월)'!S89 -> 13344.977 | AD33: =+'[2]실적(당월)'!T89 -> 13623.057 | AE33: =+'[2]실적(당월)'!U89 -> 14057.914 | AF33: =+'[2]실적(당월)'!V89 -> 14342.513 | AG33: =+'[2]실적(당월)'!W89 -> 14161.914 | AH33: =+'[2]실적(당월)'!X89 -> 14808.856
A34: =+H34+I34 -> 11306.413 | B34: =+L34+M34 -> 9487.5947 | E34: RA변동 | H34: =+SUMIFS($Q34:$AN34,$Q$8:$AN$8,H$8,$Q$9:$AN$9,H$9) -> 5479.4238 | I34: =+SUMIFS($Q34:$AN34,$Q$8:$AN$8,I$8,$Q$9:$AN$9,I$9) -> 5826.9891 | J34: =+SUMIFS($Q34:$AN34,$Q$8:$AN$8,J$8,$Q$9:$AN$9,J$9) -> 5719.1427 | K34: =+SUMIFS($Q34:$AN34,$Q$8:$AN$8,K$8,$Q$9:$AN$9,K$9) -> 5217.3595 | L34: =+SUMIFS($Q34:$AN34,$Q$8:$AN$8,L$8,$Q$9:$AN$9,L$9) -> 4627.1133 | M34: =+SUMIFS($Q34:$AN34,$Q$8:$AN$8,M$8,$Q$9:$AN$9,M$9) -> 4860.4814 | N34: =+SUMIFS($Q34:$AN34,$Q$8:$AN$8,N$8,$Q$9:$AN$9,N$9) -> 0 | O34: =+SUMIFS($Q34:$AN34,$Q$8:$AN$8,O$8,$Q$9:$AN$9,O$9) -> 0 | S34: =+'[2]실적(당월)'!O93 -> 5479.4238 | V34: =+'[2]실적(당월)'!P93 -> 5826.9891 | Y34: =+'[2]실적(당월)'!Q93 -> 5719.1427 | AB34: =+'[2]실적(당월)'!R93 -> 5217.3595 | AC34: =+'[2]실적(당월)'!S93 -> 1736.765 | AD34: =+'[2]실적(당월)'!T93 -> 1461.1722 | AE34: =+'[2]실적(당월)'!U93 -> 1429.1761 | AF34: =+'[2]실적(당월)'!V93 -> 1793.139 | AG34: =+'[2]실적(당월)'!W93 -> 1523.9465 | AH34: =+'[2]실적(당월)'!X93 -> 1543.3959
A35: =+H35+I35 -> 28876.827 | B35: =+L35+M35 -> 27828.749 | E35: 예실차 | H35: =+SUMIFS($Q35:$AN35,$Q$8:$AN$8,H$8,$Q$9:$AN$9,H$9) -> 14712.921 | I35: =+SUMIFS($Q35:$AN35,$Q$8:$AN$8,I$8,$Q$9:$AN$9,I$9) -> 14163.906 | J35: =+SUMIFS($Q35:$AN35,$Q$8:$AN$8,J$8,$Q$9:$AN$9,J$9) -> 14028.034 | K35: =+SUMIFS($Q35:$AN35,$Q$8:$AN$8,K$8,$Q$9:$AN$9,K$9) -> 62.35913 | L35: =+SUMIFS($Q35:$AN35,$Q$8:$AN$8,L$8,$Q$9:$AN$9,L$9) -> 9728.6503 | M35: =+SUMIFS($Q35:$AN35,$Q$8:$AN$8,M$8,$Q$9:$AN$9,M$9) -> 18100.099 | N35: =+SUMIFS($Q35:$AN35,$Q$8:$AN$8,N$8,$Q$9:$AN$9,N$9) -> 0 | O35: =+SUMIFS($Q35:$AN35,$Q$8:$AN$8,O$8,$Q$9:$AN$9,O$9) -> 0 | Q35: =+Q36+Q39 -> 0 | R35: =+R36+R39 -> 0 | S35: =+S36+S39 -> 14712.921 | T35: =+T36+T39 -> 0 | U35: =+U36+U39 -> 0 | V35: =+V36+V39 -> 14163.906 | W35: =+W36+W39 -> 0 | X35: =+X36+X39 -> 0 | ... AN35: =+AN36+AN39 -> 0
A36: =+H36+I36 -> 33122.833 | B36: =+L36+M36 -> 28687.428 | F36: 보험금 | H36: =+SUMIFS($Q36:$AN36,$Q$8:$AN$8,H$8,$Q$9:$AN$9,H$9) -> 15140.682 | I36: =+SUMIFS($Q36:$AN36,$Q$8:$AN$8,I$8,$Q$9:$AN$9,I$9) -> 17982.151 | J36: =+SUMIFS($Q36:$AN36,$Q$8:$AN$8,J$8,$Q$9:$AN$9,J$9) -> 17780.674 | K36: =+SUMIFS($Q36:$AN36,$Q$8:$AN$8,K$8,$Q$9:$AN$9,K$9) -> 5168.6799 | L36: =+SUMIFS($Q36:$AN36,$Q$8:$AN$8,L$8,$Q$9:$AN$9,L$9) -> 9916.773 | M36: =+SUMIFS($Q36:$AN36,$Q$8:$AN$8,M$8,$Q$9:$AN$9,M$9) -> 18770.655 | N36: =+SUMIFS($Q36:$AN36,$Q$8:$AN$8,N$8,$Q$9:$AN$9,N$9) -> 0 | O36: =+SUMIFS($Q36:$AN36,$Q$8:$AN$8,O$8,$Q$9:$AN$9,O$9) -> 0 | Q36: =+Q37+Q38 -> 0 | R36: =+R37+R38 -> 0 | S36: =+S37+S38 -> 15140.682 | T36: =+T37+T38 -> 0 | U36: =+U37+U38 -> 0 | V36: =+V37+V38 -> 17982.151 | W36: =+W37+W38 -> 0 | X36: =+X37+X38 -> 0 | ... AN36: =+AN37+AN38 -> 0
A37: =+H37+I37 -> 31355.855 | B37: =+L37+M37 -> 27237.915 | G37: 보험금 | H37: =+SUMIFS($Q37:$AN37,$Q$8:$AN$8,H$8,$Q$9:$AN$9,H$9) -> 14402.622 | I37: =+SUMIFS($Q37:$AN37,$Q$8:$AN$8,I$8,$Q$9:$AN$9,I$9) -> 16953.233 | J37: =+SUMIFS($Q37:$AN37,$Q$8:$AN$8,J$8,$Q$9:$AN$9,J$9) -> 17029.9 | K37: =+SUMIFS($Q37:$AN37,$Q$8:$AN$8,K$8,$Q$9:$AN$9,K$9) -> 4509.5823 | L37: =+SUMIFS($Q37:$AN37,$Q$8:$AN$8,L$8,$Q$9:$AN$9,L$9) -> 9239.9406 | M37: =+SUMIFS($Q37:$AN37,$Q$8:$AN$8,M$8,$Q$9:$AN$9,M$9) -> 17997.974 | N37: =+SUMIFS($Q37:$AN37,$Q$8:$AN$8,N$8,$Q$9:$AN$9,N$9) -> 0 | O37: =+SUMIFS($Q37:$AN37,$Q$8:$AN$8,O$8,$Q$9:$AN$9,O$9) -> 0 | S37: =+'[2]실적(당월)'!O94-('[2]실적(당월)'!O100+'[2]실적(당월)'!O105) -> 14402.622 | V37: =+'[2]실적(당월)'!P94-('[2]실적(당월)'!P100+'[2]실적(당월)'!P105) -> 16953.233 | Y37: =+'[2]실적(당월)'!Q94-('[2]실적(당월)'!Q100+'[2]실적(당월)'!Q105) -> 17029.9 | AB37: =+'[2]실적(당월)'!R94-('[2]실적(당월)'!R100+'[2]실적(당월)'!R105) -> 4509.5823 | AC37: =+'[2]실적(당월)'!S94-('[2]실적(당월)'!S100+'[2]실적(당월)'!S105) -> 2024.7341 | AD37: =+'[2]실적(당월)'!T94-('[2]실적(당월)'!T100+'[2]실적(당월)'!T105) -> 520.36954 | AE37: =+'[2]실적(당월)'!U94-('[2]실적(당월)'!U100+'[2]실적(당월)'!U105) -> 6694.8369 | AF37: =+'[2]실적(당월)'!V94-('[2]실적(당월)'!V100+'[2]실적(당월)'!V105) -> 7140.2661 | AG37: =+'[2]실적(당월)'!W94-('[2]실적(당월)'!W100+'[2]실적(당월)'!W105) -> 4701.1582 | AH37: =+'[2]실적(당월)'!X94-('[2]실적(당월)'!X100+'[2]실적(당월)'!X105) -> 6156.5499
A38: =+H38+I38 -> 1766.9783 | B38: =+L38+M38 -> 1449.5128 | G38: 손조비 | H38: =+SUMIFS($Q38:$AN38,$Q$8:$AN$8,H$8,$Q$9:$AN$9,H$9) -> 738.06059 | I38: =+SUMIFS($Q38:$AN38,$Q$8:$AN$8,I$8,$Q$9:$AN$9,I$9) -> 1028.9177 | J38: =+SUMIFS($Q38:$AN38,$Q$8:$AN$8,J$8,$Q$9:$AN$9,J$9) -> 750.77438 | K38: =+SUMIFS($Q38:$AN38,$Q$8:$AN$8,K$8,$Q$9:$AN$9,K$9) -> 659.0976 | L38: =+SUMIFS($Q38:$AN38,$Q$8:$AN$8,L$8,$Q$9:$AN$9,L$9) -> 676.83236 | M38: =+SUMIFS($Q38:$AN38,$Q$8:$AN$8,M$8,$Q$9:$AN$9,M$9) -> 772.68042 | N38: =+SUMIFS($Q38:$AN38,$Q$8:$AN$8,N$8,$Q$9:$AN$9,N$9) -> 0 | O38: =+SUMIFS($Q38:$AN38,$Q$8:$AN$8,O$8,$Q$9:$AN$9,O$9) -> 0 | S38: =+'[2]실적(당월)'!O95-'[2]실적(당월)'!O111 -> 738.06059 | V38: =+'[2]실적(당월)'!P95-'[2]실적(당월)'!P111 -> 1028.9177 | Y38: =+'[2]실적(당월)'!Q95-'[2]실적(당월)'!Q111 -> 750.77438 | AB38: =+'[2]실적(당월)'!R95-'[2]실적(당월)'!R111 -> 659.0976 | AC38: =+'[2]실적(당월)'!S95-'[2]실적(당월)'!S111 -> 258.10804 | AD38: =+'[2]실적(당월)'!T95-'[2]실적(당월)'!T111 -> 179.00923 | AE38: =+'[2]실적(당월)'!U95-'[2]실적(당월)'!U111 -> 239.71509 | AF38: =+'[2]실적(당월)'!V95-'[2]실적(당월)'!V111 -> 279.85212 | AG38: =+'[2]실적(당월)'!W95-'[2]실적(당월)'!W111 -> 267.65315 | AH38: =+'[2]실적(당월)'!X95-'[2]실적(당월)'!X111 -> 225.17516
A39: =+H39+I39 -> -4246.0062 | B39: =+L39+M39 -> -858.67815 | F39: 사업비 | H39: =+SUMIFS($Q39:$AN39,$Q$8:$AN$8,H$8,$Q$9:$AN$9,H$9) -> -427.76078 | I39: =+SUMIFS($Q39:$AN39,$Q$8:$AN$8,I$8,$Q$9:$AN$9,I$9) -> -3818.2454 | J39: =+SUMIFS($Q39:$AN39,$Q$8:$AN$8,J$8,$Q$9:$AN$9,J$9) -> -3752.6403 | K39: =+SUMIFS($Q39:$AN39,$Q$8:$AN$8,K$8,$Q$9:$AN$9,K$9) -> -5106.3207 | L39: =+SUMIFS($Q39:$AN39,$Q$8:$AN$8,L$8,$Q$9:$AN$9,L$9) -> -188.12267 | M39: =+SUMIFS($Q39:$AN39,$Q$8:$AN$8,M$8,$Q$9:$AN$9,M$9) -> -670.55548 | N39: =+SUMIFS($Q39:$AN39,$Q$8:$AN$8,N$8,$Q$9:$AN$9,N$9) -> 0 | O39: =+SUMIFS($Q39:$AN39,$Q$8:$AN$8,O$8,$Q$9:$AN$9,O$9) -> 0 | Q39: =+Q40+Q41+Q42 -> 0 | R39: =+R40+R41+R42 -> 0 | S39: =+S40+S41+S42 -> -427.76078 | T39: =+T40+T41+T42 -> 0 | U39: =+U40+U41+U42 -> 0 | V39: =+V40+V41+V42 -> -3818.2454 | W39: =+W40+W41+W42 -> 0 | X39: =+X40+X41+X42 -> 0 | ... AN39: =+AN40+AN41+AN42 -> 0
A40: =+H40+I40 -> -4531.0455 | B40: =+L40+M40 -> -1780.2972 | G40: 무관체결비 | H40: =+SUMIFS($Q40:$AN40,$Q$8:$AN$8,H$8,$Q$9:$AN$9,H$9) -> -2234.5442 | I40: =+SUMIFS($Q40:$AN40,$Q$8:$AN$8,I$8,$Q$9:$AN$9,I$9) -> -2296.5013 | J40: =+SUMIFS($Q40:$AN40,$Q$8:$AN$8,J$8,$Q$9:$AN$9,J$9) -> -2151.3222 | K40: =+SUMIFS($Q40:$AN40,$Q$8:$AN$8,K$8,$Q$9:$AN$9,K$9) -> -2483.294 | L40: =+SUMIFS($Q40:$AN40,$Q$8:$AN$8,L$8,$Q$9:$AN$9,L$9) -> -577.07875 | M40: =+SUMIFS($Q40:$AN40,$Q$8:$AN$8,M$8,$Q$9:$AN$9,M$9) -> -1203.2185 | N40: =+SUMIFS($Q40:$AN40,$Q$8:$AN$8,N$8,$Q$9:$AN$9,N$9) -> 0 | O40: =+SUMIFS($Q40:$AN40,$Q$8:$AN$8,O$8,$Q$9:$AN$9,O$9) -> 0 | S40: =+'[2]실적(당월)'!O96-'[2]실적(당월)'!O113 -> -2234.5442 | V40: =+'[2]실적(당월)'!P96-'[2]실적(당월)'!P113 -> -2296.5013 | Y40: =+'[2]실적(당월)'!Q96-'[2]실적(당월)'!Q113 -> -2151.3222 | AB40: =+'[2]실적(당월)'!R96-'[2]실적(당월)'!R113 -> -2483.294 | AC40: =+'[2]실적(당월)'!S96-'[2]실적(당월)'!S113 -> -327.83561 | AD40: =+'[2]실적(당월)'!T96-'[2]실적(당월)'!T113 -> -47.91728 | AE40: =+'[2]실적(당월)'!U96-'[2]실적(당월)'!U113 -> -201.32585 | AF40: =+'[2]실적(당월)'!V96-'[2]실적(당월)'!V113 -> -576.79208 | AG40: =+'[2]실적(당월)'!W96-'[2]실적(당월)'!W113 -> -240.29192 | AH40: =+'[2]실적(당월)'!X96-'[2]실적(당월)'!X113 -> -386.13448
A41: =+H41+I41 -> -223.36267 | B41: =+L41+M41 -> 1031.178 | G41: 유지비 | H41: =+SUMIFS($Q41:$AN41,$Q$8:$AN$8,H$8,$Q$9:$AN$9,H$9) -> 1558.0447 | I41: =+SUMIFS($Q41:$AN41,$Q$8:$AN$8,I$8,$Q$9:$AN$9,I$9) -> -1781.4073 | J41: =+SUMIFS($Q41:$AN41,$Q$8:$AN$8,J$8,$Q$9:$AN$9,J$9) -> -1832.1477 | K41: =+SUMIFS($Q41:$AN41,$Q$8:$AN$8,K$8,$Q$9:$AN$9,K$9) -> -2748.3488 | L41: =+SUMIFS($Q41:$AN41,$Q$8:$AN$8,L$8,$Q$9:$AN$9,L$9) -> 421.01851 | M41: =+SUMIFS($Q41:$AN41,$Q$8:$AN$8,M$8,$Q$9:$AN$9,M$9) -> 610.15954 | N41: =+SUMIFS($Q41:$AN41,$Q$8:$AN$8,N$8,$Q$9:$AN$9,N$9) -> 0 | O41: =+SUMIFS($Q41:$AN41,$Q$8:$AN$8,O$8,$Q$9:$AN$9,O$9) -> 0 | S41: =+'[2]실적(당월)'!O97-'[2]실적(당월)'!O114 -> 1558.0447 | V41: =+'[2]실적(당월)'!P97-'[2]실적(당월)'!P114 -> -1781.4073 | Y41: =+'[2]실적(당월)'!Q97-'[2]실적(당월)'!Q114 -> -1832.1477 | AB41: =+'[2]실적(당월)'!R97-'[2]실적(당월)'!R114 -> -2748.3488 | AC41: =+'[2]실적(당월)'!S97-'[2]실적(당월)'!S114 -> -701.86625 | AD41: =+'[2]실적(당월)'!T97-'[2]실적(당월)'!T114 -> -229.935 | AE41: =+'[2]실적(당월)'!U97-'[2]실적(당월)'!U114 -> 1352.8198 | AF41: =+'[2]실적(당월)'!V97-'[2]실적(당월)'!V114 -> -229.1134 | AG41: =+'[2]실적(당월)'!W97-'[2]실적(당월)'!W114 -> 304.07918 | AH41: =+'[2]실적(당월)'!X97-'[2]실적(당월)'!X114 -> 535.19376
A42: =+H42+I42 -> 508.40198 | B42: =+L42+M42 -> -109.55896 | G42: 투자관리비 | H42: =+SUMIFS($Q42:$AN42,$Q$8:$AN$8,H$8,$Q$9:$AN$9,H$9) -> 248.73871 | I42: =+SUMIFS($Q42:$AN42,$Q$8:$AN$8,I$8,$Q$9:$AN$9,I$9) -> 259.66327 | J42: =+SUMIFS($Q42:$AN42,$Q$8:$AN$8,J$8,$Q$9:$AN$9,J$9) -> 230.82955 | K42: =+SUMIFS($Q42:$AN42,$Q$8:$AN$8,K$8,$Q$9:$AN$9,K$9) -> 125.32207 | L42: =+SUMIFS($Q42:$AN42,$Q$8:$AN$8,L$8,$Q$9:$AN$9,L$9) -> -32.062427 | M42: =+SUMIFS($Q42:$AN42,$Q$8:$AN$8,M$8,$Q$9:$AN$9,M$9) -> -77.496533 | N42: =+SUMIFS($Q42:$AN42,$Q$8:$AN$8,N$8,$Q$9:$AN$9,N$9) -> 0 | O42: =+SUMIFS($Q42:$AN42,$Q$8:$AN$8,O$8,$Q$9:$AN$9,O$9) -> 0 | S42: =+'[2]실적(당월)'!O98-'[2]실적(당월)'!O115 -> 248.73871 | V42: =+'[2]실적(당월)'!P98-'[2]실적(당월)'!P115 -> 259.66327 | Y42: =+'[2]실적(당월)'!Q98-'[2]실적(당월)'!Q115 -> 230.82955 | AB42: =+'[2]실적(당월)'!R98-'[2]실적(당월)'!R115 -> 125.32207 | AC42: =+'[2]실적(당월)'!S98-'[2]실적(당월)'!S115 -> -59.21679 | AD42: =+'[2]실적(당월)'!T98-'[2]실적(당월)'!T115 -> -4.039187 | AE42: =+'[2]실적(당월)'!U98-'[2]실적(당월)'!U115 -> 31.19355 | AF42: =+'[2]실적(당월)'!V98-'[2]실적(당월)'!V115 -> 6.850659 | AG42: =+'[2]실적(당월)'!W98-'[2]실적(당월)'!W115 -> -52.344052 | AH42: =+'[2]실적(당월)'!X98-'[2]실적(당월)'!X115 -> -32.00314
A43: =+H43+I43 -> -10342.803 | B43: =+L43+M43 -> -11184.528 | E43: 재보험손익 | H43: =+SUMIFS($Q43:$AN43,$Q$8:$AN$8,H$8,$Q$9:$AN$9,H$9) -> -3655.0265 | I43: =+SUMIFS($Q43:$AN43,$Q$8:$AN$8,I$8,$Q$9:$AN$9,I$9) -> -6687.7765 | J43: =+SUMIFS($Q43:$AN43,$Q$8:$AN$8,J$8,$Q$9:$AN$9,J$9) -> -3821.2064 | K43: =+SUMIFS($Q43:$AN43,$Q$8:$AN$8,K$8,$Q$9:$AN$9,K$9) -> -4902.2751 | L43: =+SUMIFS($Q43:$AN43,$Q$8:$AN$8,L$8,$Q$9:$AN$9,L$9) -> -4735.9648 | M43: =+SUMIFS($Q43:$AN43,$Q$8:$AN$8,M$8,$Q$9:$AN$9,M$9) -> -6448.5628 | N43: =+SUMIFS($Q43:$AN43,$Q$8:$AN$8,N$8,$Q$9:$AN$9,N$9) -> 0 | O43: =+SUMIFS($Q43:$AN43,$Q$8:$AN$8,O$8,$Q$9:$AN$9,O$9) -> 0 | S43: =+'[2]실적(당월)'!O117 -> -3655.0265 | V43: =+'[2]실적(당월)'!P117 -> -6687.7765 | Y43: =+'[2]실적(당월)'!Q117 -> -3821.2064 | AB43: =+'[2]실적(당월)'!R117 -> -4902.2751 | AC43: =+'[2]실적(당월)'!S117 -> -4285.1759 | AD43: =+'[2]실적(당월)'!T117 -> -1131.8851 | AE43: =+'[2]실적(당월)'!U117 -> 681.09626 | AF43: =+'[2]실적(당월)'!V117 -> -4389.1513 | AG43: =+'[2]실적(당월)'!W117 -> -381.87669 | AH43: =+'[2]실적(당월)'!X117 -> -1677.5348
A44: =+H44+I44 -> 11021.417 | B44: =+L44+M44 -> 14442.647 | E44: 기타사업비 등 | H44: =+SUMIFS($Q44:$AN44,$Q$8:$AN$8,H$8,$Q$9:$AN$9,H$9) -> 4346.6138 | I44: =+SUMIFS($Q44:$AN44,$Q$8:$AN$8,I$8,$Q$9:$AN$9,I$9) -> 6674.8029 | J44: =+SUMIFS($Q44:$AN44,$Q$8:$AN$8,J$8,$Q$9:$AN$9,J$9) -> 4981.1083 | K44: =+SUMIFS($Q44:$AN44,$Q$8:$AN$8,K$8,$Q$9:$AN$9,K$9) -> 3260.8385 | L44: =+SUMIFS($Q44:$AN44,$Q$8:$AN$8,L$8,$Q$9:$AN$9,L$9) -> 9055.9757 | M44: =+SUMIFS($Q44:$AN44,$Q$8:$AN$8,M$8,$Q$9:$AN$9,M$9) -> 5386.6714 | N44: =+SUMIFS($Q44:$AN44,$Q$8:$AN$8,N$8,$Q$9:$AN$9,N$9) -> 0 | O44: =+SUMIFS($Q44:$AN44,$Q$8:$AN$8,O$8,$Q$9:$AN$9,O$9) -> 0 | Q44: =+Q45+Q46+Q47 -> 0 | R44: =+R45+R46+R47 -> 0 | S44: =+S45+S46+S47 -> 4346.6138 | T44: =+T45+T46+T47 -> 0 | U44: =+U45+U46+U47 -> 0 | V44: =+V45+V46+V47 -> 6674.8029 | W44: =+W45+W46+W47 -> 0 | X44: =+X45+X46+X47 -> 0 | ... AN44: =+AN45+AN46+AN47 -> 0
A45: =+H45+I45 -> 2584.2186 | B45: =+L45+M45 -> 8535.1783 | F45: 간접비 | H45: =+SUMIFS($Q45:$AN45,$Q$8:$AN$8,H$8,$Q$9:$AN$9,H$9) -> 1556.6562 | I45: =+SUMIFS($Q45:$AN45,$Q$8:$AN$8,I$8,$Q$9:$AN$9,I$9) -> 1027.5624 | J45: =+SUMIFS($Q45:$AN45,$Q$8:$AN$8,J$8,$Q$9:$AN$9,J$9) -> 1921.9373 | K45: =+SUMIFS($Q45:$AN45,$Q$8:$AN$8,K$8,$Q$9:$AN$9,K$9) -> 2667.3324 | L45: =+SUMIFS($Q45:$AN45,$Q$8:$AN$8,L$8,$Q$9:$AN$9,L$9) -> 4365.1806 | M45: =+SUMIFS($Q45:$AN45,$Q$8:$AN$8,M$8,$Q$9:$AN$9,M$9) -> 4169.9977 | N45: =+SUMIFS($Q45:$AN45,$Q$8:$AN$8,N$8,$Q$9:$AN$9,N$9) -> 0 | O45: =+SUMIFS($Q45:$AN45,$Q$8:$AN$8,O$8,$Q$9:$AN$9,O$9) -> 0 | S45: =+'[2]실적(당월)'!O116 -> 1556.6562 | V45: =+'[2]실적(당월)'!P116 -> 1027.5624 | Y45: =+'[2]실적(당월)'!Q116 -> 1921.9373 | AB45: =+'[2]실적(당월)'!R116 -> 2667.3324 | AC45: =+'[2]실적(당월)'!S116 -> 2695.5387 | AD45: =+'[2]실적(당월)'!T116 -> 2200.1914 | AE45: =+'[2]실적(당월)'!U116 -> -530.54951 | AF45: =+'[2]실적(당월)'!V116 -> 1477.9338 | AG45: =+'[2]실적(당월)'!W116 -> 1578.9874 | AH45: =+'[2]실적(당월)'!X116 -> 1113.0765
A46: =+H46+I46 -> 13296.995 | B46: =+L46+M46 -> 5695.0108 | F46: 손실비용(원수) | H46: =+SUMIFS($Q46:$AN46,$Q$8:$AN$8,H$8,$Q$9:$AN$9,H$9) -> 5200.3439 | I46: =+SUMIFS($Q46:$AN46,$Q$8:$AN$8,I$8,$Q$9:$AN$9,I$9) -> 8096.6512 | J46: =+SUMIFS($Q46:$AN46,$Q$8:$AN$8,J$8,$Q$9:$AN$9,J$9) -> 5285.8227 | K46: =+SUMIFS($Q46:$AN46,$Q$8:$AN$8,K$8,$Q$9:$AN$9,K$9) -> 4017.319 | L46: =+SUMIFS($Q46:$AN46,$Q$8:$AN$8,L$8,$Q$9:$AN$9,L$9) -> 4570.2309 | M46: =+SUMIFS($Q46:$AN46,$Q$8:$AN$8,M$8,$Q$9:$AN$9,M$9) -> 1124.7798 | N46: =+SUMIFS($Q46:$AN46,$Q$8:$AN$8,N$8,$Q$9:$AN$9,N$9) -> 0 | O46: =+SUMIFS($Q46:$AN46,$Q$8:$AN$8,O$8,$Q$9:$AN$9,O$9) -> 0 | S46: =+'[2]실적(당월)'!O112 -> 5200.3439 | V46: =+'[2]실적(당월)'!P112 -> 8096.6512 | Y46: =+'[2]실적(당월)'!Q112 -> 5285.8227 | AB46: =+'[2]실적(당월)'!R112 -> 4017.319 | AC46: =+'[2]실적(당월)'!S112 -> 4522.0618 | AD46: =+'[2]실적(당월)'!T112 -> 26.10173 | AE46: =+'[2]실적(당월)'!U112 -> 22.067362 | AF46: =+'[2]실적(당월)'!V112 -> 790.48345 | AG46: =+'[2]실적(당월)'!W112 -> 240.65057 | AH46: =+'[2]실적(당월)'!X112 -> 93.64582
A47: =+H47+I47 -> -4859.7969 | B47: =+L47+M47 -> 212.45808 | F47: 기타사업비_영업외잡손실가계정 | H47: =+SUMIFS($Q47:$AN47,$Q$8:$AN$8,H$8,$Q$9:$AN$9,H$9) -> -2410.3863 | I47: =+SUMIFS($Q47:$AN47,$Q$8:$AN$8,I$8,$Q$9:$AN$9,I$9) -> -2449.4107 | J47: =+SUMIFS($Q47:$AN47,$Q$8:$AN$8,J$8,$Q$9:$AN$9,J$9) -> -2226.6517 | K47: =+SUMIFS($Q47:$AN47,$Q$8:$AN$8,K$8,$Q$9:$AN$9,K$9) -> -3423.8129 | L47: =+SUMIFS($Q47:$AN47,$Q$8:$AN$8,L$8,$Q$9:$AN$9,L$9) -> 120.56416 | M47: =+SUMIFS($Q47:$AN47,$Q$8:$AN$8,M$8,$Q$9:$AN$9,M$9) -> 91.893918 | N47: =+SUMIFS($Q47:$AN47,$Q$8:$AN$8,N$8,$Q$9:$AN$9,N$9) -> 0 | O47: =+SUMIFS($Q47:$AN47,$Q$8:$AN$8,O$8,$Q$9:$AN$9,O$9) -> 0 | S47: ='[2]실적(당월)'!O195 -> -2410.3863 | V47: ='[2]실적(당월)'!P195 -> -2449.4107 | Y47: ='[2]실적(당월)'!Q195 -> -2226.6517 | AB47: ='[2]실적(당월)'!R195 -> -3423.8129 | AC47: ='[2]실적(당월)'!S195 -> 0.399207 | AD47: ='[2]실적(당월)'!T195 -> 766.73376 | AE47: ='[2]실적(당월)'!U195 -> -646.56881 | AF47: ='[2]실적(당월)'!V195 -> 434.59955 | AG47: ='[2]실적(당월)'!W195 -> -324.12721 | AH47: ='[2]실적(당월)'!X195 -> -18.578426
A48: =+H48+I48 -> 1772.2916 | B48: =+L48+M48 -> 5746.1357 | D48: 일반보험 | H48: =+SUMIFS($Q48:$AN48,$Q$8:$AN$8,H$8,$Q$9:$AN$9,H$9) -> 2372.1801 | I48: =+SUMIFS($Q48:$AN48,$Q$8:$AN$8,I$8,$Q$9:$AN$9,I$9) -> -599.88842 | J48: =+SUMIFS($Q48:$AN48,$Q$8:$AN$8,J$8,$Q$9:$AN$9,J$9) -> -1639.5897 | K48: =+SUMIFS($Q48:$AN48,$Q$8:$AN$8,K$8,$Q$9:$AN$9,K$9) -> -9759.4345 | L48: =+SUMIFS($Q48:$AN48,$Q$8:$AN$8,L$8,$Q$9:$AN$9,L$9) -> 3519.1575 | M48: =+SUMIFS($Q48:$AN48,$Q$8:$AN$8,M$8,$Q$9:$AN$9,M$9) -> 2226.9782 | N48: =+SUMIFS($Q48:$AN48,$Q$8:$AN$8,N$8,$Q$9:$AN$9,N$9) -> 0 | O48: =+SUMIFS($Q48:$AN48,$Q$8:$AN$8,O$8,$Q$9:$AN$9,O$9) -> 0 | Q48: =+Q49-Q52 -> 0 | R48: =+R49-R52 -> 0 | S48: =+S49-S52 -> 2372.1801 | T48: =+T49-T52 -> 0 | U48: =+U49-U52 -> 0 | V48: =+V49-V52 -> -599.88842 | W48: =+W49-W52 -> 0 | X48: =+X49-X52 -> 0 | ... AN48: =+AN49-AN52 -> 0
A49: =+H49+I49 -> 38769.012 | B49: =+L49+M49 -> 29946.521 | E49: 보험영업수익 | H49: =+SUMIFS($Q49:$AN49,$Q$8:$AN$8,H$8,$Q$9:$AN$9,H$9) -> 21732.239 | I49: =+SUMIFS($Q49:$AN49,$Q$8:$AN$8,I$8,$Q$9:$AN$9,I$9) -> 17036.773 | J49: =+SUMIFS($Q49:$AN49,$Q$8:$AN$8,J$8,$Q$9:$AN$9,J$9) -> 19564.783 | K49: =+SUMIFS($Q49:$AN49,$Q$8:$AN$8,K$8,$Q$9:$AN$9,K$9) -> 19545.856 | L49: =+SUMIFS($Q49:$AN49,$Q$8:$AN$8,L$8,$Q$9:$AN$9,L$9) -> 16574.594 | M49: =+SUMIFS($Q49:$AN49,$Q$8:$AN$8,M$8,$Q$9:$AN$9,M$9) -> 13371.928 | N49: =+SUMIFS($Q49:$AN49,$Q$8:$AN$8,N$8,$Q$9:$AN$9,N$9) -> 0 | O49: =+SUMIFS($Q49:$AN49,$Q$8:$AN$8,O$8,$Q$9:$AN$9,O$9) -> 0 | Q49: =+Q50-Q51 -> 0 | R49: =+R50-R51 -> 0 | S49: =+S50-S51 -> 21732.239 | T49: =+T50-T51 -> 0 | U49: =+U50-U51 -> 0 | V49: =+V50-V51 -> 17036.773 | W49: =+W50-W51 -> 0 | X49: =+X50-X51 -> 0 | ... AN49: =+AN50-AN51 -> 0
A50: =+H50+I50 -> 91298.348 | B50: =+L50+M50 -> 76306.966 | F50: 보험수익 | H50: =+SUMIFS($Q50:$AN50,$Q$8:$AN$8,H$8,$Q$9:$AN$9,H$9) -> 46210.477 | I50: =+SUMIFS($Q50:$AN50,$Q$8:$AN$8,I$8,$Q$9:$AN$9,I$9) -> 45087.871 | J50: =+SUMIFS($Q50:$AN50,$Q$8:$AN$8,J$8,$Q$9:$AN$9,J$9) -> 40910.997 | K50: =+SUMIFS($Q50:$AN50,$Q$8:$AN$8,K$8,$Q$9:$AN$9,K$9) -> 39511.566 | L50: =+SUMIFS($Q50:$AN50,$Q$8:$AN$8,L$8,$Q$9:$AN$9,L$9) -> 36481.039 | M50: =+SUMIFS($Q50:$AN50,$Q$8:$AN$8,M$8,$Q$9:$AN$9,M$9) -> 39825.927 | N50: =+SUMIFS($Q50:$AN50,$Q$8:$AN$8,N$8,$Q$9:$AN$9,N$9) -> 0 | O50: =+SUMIFS($Q50:$AN50,$Q$8:$AN$8,O$8,$Q$9:$AN$9,O$9) -> 0 | S50: =+'[2]실적(당월)'!O8 -> 46210.477 | V50: =+'[2]실적(당월)'!P8 -> 45087.871 | Y50: =+'[2]실적(당월)'!Q8 -> 40910.997 | AB50: =+'[2]실적(당월)'!R8 -> 39511.566 | AC50: =+'[2]실적(당월)'!S8 -> 12229.733 | AD50: =+'[2]실적(당월)'!T8 -> 11436.576 | AE50: =+'[2]실적(당월)'!U8 -> 12814.73 | AF50: =+'[2]실적(당월)'!V8 -> 12224.32 | AG50: =+'[2]실적(당월)'!W8 -> 13470.391 | AH50: =+'[2]실적(당월)'!X8 -> 14131.216
A51: =+H51+I51 -> 52529.336 | B51: =+L51+M51 -> 46360.444 | F51: 재보험서비스비용 | H51: =+SUMIFS($Q51:$AN51,$Q$8:$AN$8,H$8,$Q$9:$AN$9,H$9) -> 24478.238 | I51: =+SUMIFS($Q51:$AN51,$Q$8:$AN$8,I$8,$Q$9:$AN$9,I$9) -> 28051.098 | J51: =+SUMIFS($Q51:$AN51,$Q$8:$AN$8,J$8,$Q$9:$AN$9,J$9) -> 21346.215 | K51: =+SUMIFS($Q51:$AN51,$Q$8:$AN$8,K$8,$Q$9:$AN$9,K$9) -> 19965.71 | L51: =+SUMIFS($Q51:$AN51,$Q$8:$AN$8,L$8,$Q$9:$AN$9,L$9) -> 19906.445 | M51: =+SUMIFS($Q51:$AN51,$Q$8:$AN$8,M$8,$Q$9:$AN$9,M$9) -> 26453.999 | N51: =+SUMIFS($Q51:$AN51,$Q$8:$AN$8,N$8,$Q$9:$AN$9,N$9) -> 0 | O51: =+SUMIFS($Q51:$AN51,$Q$8:$AN$8,O$8,$Q$9:$AN$9,O$9) -> 0 | S51: =+'[2]실적(당월)'!O44 -> 24478.238 | V51: =+'[2]실적(당월)'!P44 -> 28051.098 | Y51: =+'[2]실적(당월)'!Q44 -> 21346.215 | AB51: =+'[2]실적(당월)'!R44 -> 19965.71 | AC51: =+'[2]실적(당월)'!S44 -> 7091.0074 | AD51: =+'[2]실적(당월)'!T44 -> 6179.2973 | AE51: =+'[2]실적(당월)'!U44 -> 6636.1406 | AF51: =+'[2]실적(당월)'!V44 -> 13123.266 | AG51: =+'[2]실적(당월)'!W44 -> 8006.118 | AH51: =+'[2]실적(당월)'!X44 -> 5324.615
A52: =+H52+I52 -> 36996.72 | B52: =+L52+M52 -> 24200.386 | E52: 보험영업비용 | H52: =+SUMIFS($Q52:$AN52,$Q$8:$AN$8,H$8,$Q$9:$AN$9,H$9) -> 19360.059 | I52: =+SUMIFS($Q52:$AN52,$Q$8:$AN$8,I$8,$Q$9:$AN$9,I$9) -> 17636.662 | J52: =+SUMIFS($Q52:$AN52,$Q$8:$AN$8,J$8,$Q$9:$AN$9,J$9) -> 21204.372 | K52: =+SUMIFS($Q52:$AN52,$Q$8:$AN$8,K$8,$Q$9:$AN$9,K$9) -> 29305.291 | L52: =+SUMIFS($Q52:$AN52,$Q$8:$AN$8,L$8,$Q$9:$AN$9,L$9) -> 13055.436 | M52: =+SUMIFS($Q52:$AN52,$Q$8:$AN$8,M$8,$Q$9:$AN$9,M$9) -> 11144.95 | N52: =+SUMIFS($Q52:$AN52,$Q$8:$AN$8,N$8,$Q$9:$AN$9,N$9) -> 0 | O52: =+SUMIFS($Q52:$AN52,$Q$8:$AN$8,O$8,$Q$9:$AN$9,O$9) -> 0 | Q52: =+Q53-Q54+Q55 -> 0 | R52: =+R53-R54+R55 -> 0 | S52: =+S53-S54+S55 -> 19360.059 | T52: =+T53-T54+T55 -> 0 | U52: =+U53-U54+U55 -> 0 | V52: =+V53-V54+V55 -> 17636.662 | W52: =+W53-W54+W55 -> 0 | X52: =+X53-X54+X55 -> 0 | ... AN52: =+AN53-AN54+AN55 -> 0
A53: =+H53+I53 -> 52734.433 | B53: =+L53+M53 -> 19520.967 | F53: 보험영업비용 | H53: =+SUMIFS($Q53:$AN53,$Q$8:$AN$8,H$8,$Q$9:$AN$9,H$9) -> 30188.12 | I53: =+SUMIFS($Q53:$AN53,$Q$8:$AN$8,I$8,$Q$9:$AN$9,I$9) -> 22546.313 | J53: =+SUMIFS($Q53:$AN53,$Q$8:$AN$8,J$8,$Q$9:$AN$9,J$9) -> 6767.5555 | K53: =+SUMIFS($Q53:$AN53,$Q$8:$AN$8,K$8,$Q$9:$AN$9,K$9) -> 35552.737 | L53: =+SUMIFS($Q53:$AN53,$Q$8:$AN$8,L$8,$Q$9:$AN$9,L$9) -> 20628.062 | M53: =+SUMIFS($Q53:$AN53,$Q$8:$AN$8,M$8,$Q$9:$AN$9,M$9) -> -1107.0955 | N53: =+SUMIFS($Q53:$AN53,$Q$8:$AN$8,N$8,$Q$9:$AN$9,N$9) -> 0 | O53: =+SUMIFS($Q53:$AN53,$Q$8:$AN$8,O$8,$Q$9:$AN$9,O$9) -> 0 | S53: =+'[2]실적(당월)'!O10 -> 30188.12 | V53: =+'[2]실적(당월)'!P10 -> 22546.313 | Y53: =+'[2]실적(당월)'!Q10 -> 6767.5555 | AB53: =+'[2]실적(당월)'!R10 -> 35552.737 | AC53: =+'[2]실적(당월)'!S10 -> 12505.096 | AD53: =+'[2]실적(당월)'!T10 -> -97.828207 | AE53: =+'[2]실적(당월)'!U10 -> 8220.794 | AF53: =+'[2]실적(당월)'!V10 -> 5215.0869 | AG53: =+'[2]실적(당월)'!W10 -> -10784.101 | AH53: =+'[2]실적(당월)'!X10 -> 4461.9188
A54: =+H54+I54 -> 29596.027 | B54: =+L54+M54 -> 7758.8878 | F54: 재보험수익 | H54: =+SUMIFS($Q54:$AN54,$Q$8:$AN$8,H$8,$Q$9:$AN$9,H$9) -> 17746.577 | I54: =+SUMIFS($Q54:$AN54,$Q$8:$AN$8,I$8,$Q$9:$AN$9,I$9) -> 11849.451 | J54: =+SUMIFS($Q54:$AN54,$Q$8:$AN$8,J$8,$Q$9:$AN$9,J$9) -> -8016.0418 | K54: =+SUMIFS($Q54:$AN54,$Q$8:$AN$8,K$8,$Q$9:$AN$9,K$9) -> 12113.402 | L54: =+SUMIFS($Q54:$AN54,$Q$8:$AN$8,L$8,$Q$9:$AN$9,L$9) -> 13876.129 | M54: =+SUMIFS($Q54:$AN54,$Q$8:$AN$8,M$8,$Q$9:$AN$9,M$9) -> -6117.2411 | N54: =+SUMIFS($Q54:$AN54,$Q$8:$AN$8,N$8,$Q$9:$AN$9,N$9) -> 0 | O54: =+SUMIFS($Q54:$AN54,$Q$8:$AN$8,O$8,$Q$9:$AN$9,O$9) -> 0 | S54: =+'[2]실적(당월)'!O29 -> 17746.577 | V54: =+'[2]실적(당월)'!P29 -> 11849.451 | Y54: =+'[2]실적(당월)'!Q29 -> -8016.0418 | AB54: =+'[2]실적(당월)'!R29 -> 12113.402 | AC54: =+'[2]실적(당월)'!S29 -> 9255.7171 | AD54: =+'[2]실적(당월)'!T29 -> -90.723732 | AE54: =+'[2]실적(당월)'!U29 -> 4711.1356 | AF54: =+'[2]실적(당월)'!V29 -> 2541.7315 | AG54: =+'[2]실적(당월)'!W29 -> -11025.744 | AH54: =+'[2]실적(당월)'!X29 -> 2366.7717
A55: =+H55+I55 -> 13858.315 | B55: =+L55+M55 -> 12438.307 | F55: 기타사업비용 | H55: =+SUMIFS($Q55:$AN55,$Q$8:$AN$8,H$8,$Q$9:$AN$9,H$9) -> 6918.5157 | I55: =+SUMIFS($Q55:$AN55,$Q$8:$AN$8,I$8,$Q$9:$AN$9,I$9) -> 6939.7993 | J55: =+SUMIFS($Q55:$AN55,$Q$8:$AN$8,J$8,$Q$9:$AN$9,J$9) -> 6420.775 | K55: =+SUMIFS($Q55:$AN55,$Q$8:$AN$8,K$8,$Q$9:$AN$9,K$9) -> 5865.9552 | L55: =+SUMIFS($Q55:$AN55,$Q$8:$AN$8,L$8,$Q$9:$AN$9,L$9) -> 6303.503 | M55: =+SUMIFS($Q55:$AN55,$Q$8:$AN$8,M$8,$Q$9:$AN$9,M$9) -> 6134.8039 | N55: =+SUMIFS($Q55:$AN55,$Q$8:$AN$8,N$8,$Q$9:$AN$9,N$9) -> 0 | O55: =+SUMIFS($Q55:$AN55,$Q$8:$AN$8,O$8,$Q$9:$AN$9,O$9) -> 0 | S55: =+'[2]실적(당월)'!O24 -> 6918.5157 | V55: =+'[2]실적(당월)'!P24 -> 6939.7993 | Y55: =+'[2]실적(당월)'!Q24 -> 6420.775 | AB55: =+'[2]실적(당월)'!R24 -> 5865.9552 | AC55: =+'[2]실적(당월)'!S24 -> 2235.878 | AD55: =+'[2]실적(당월)'!T24 -> 1625.6828 | AE55: =+'[2]실적(당월)'!U24 -> 2441.9423 | AF55: =+'[2]실적(당월)'!V24 -> 1972.9301 | AG55: =+'[2]실적(당월)'!W24 -> 1996.4318 | AH55: =+'[2]실적(당월)'!X24 -> 2165.442
A56: =+H56+I56 -> 2930.4735 | B56: =+L56+M56 -> 1123.0876 | D56: 자동차보험 | H56: =+SUMIFS($Q56:$AN56,$Q$8:$AN$8,H$8,$Q$9:$AN$9,H$9) -> 2227.6262 | I56: =+SUMIFS($Q56:$AN56,$Q$8:$AN$8,I$8,$Q$9:$AN$9,I$9) -> 702.84733 | J56: =+SUMIFS($Q56:$AN56,$Q$8:$AN$8,J$8,$Q$9:$AN$9,J$9) -> 2386.6447 | K56: =+SUMIFS($Q56:$AN56,$Q$8:$AN$8,K$8,$Q$9:$AN$9,K$9) -> -10100.78 | L56: =+SUMIFS($Q56:$AN56,$Q$8:$AN$8,L$8,$Q$9:$AN$9,L$9) -> 1873.7819 | M56: =+SUMIFS($Q56:$AN56,$Q$8:$AN$8,M$8,$Q$9:$AN$9,M$9) -> -750.69431 | N56: =+SUMIFS($Q56:$AN56,$Q$8:$AN$8,N$8,$Q$9:$AN$9,N$9) -> 0 | O56: =+SUMIFS($Q56:$AN56,$Q$8:$AN$8,O$8,$Q$9:$AN$9,O$9) -> 0 | Q56: =+Q57-Q60 -> 0 | R56: =+R57-R60 -> 0 | S56: =+S57-S60 -> 2227.6262 | T56: =+T57-T60 -> 0 | U56: =+U57-U60 -> 0 | V56: =+V57-V60 -> 702.84733 | W56: =+W57-W60 -> 0 | X56: =+X57-X60 -> 0 | ... AN56: =+AN57-AN60 -> 0
A57: =+H57+I57 -> 72357.062 | B57: =+L57+M57 -> 56392.589 | E57: 보험영업수익 | H57: =+SUMIFS($Q57:$AN57,$Q$8:$AN$8,H$8,$Q$9:$AN$9,H$9) -> 37484.887 | I57: =+SUMIFS($Q57:$AN57,$Q$8:$AN$8,I$8,$Q$9:$AN$9,I$9) -> 34872.176 | J57: =+SUMIFS($Q57:$AN57,$Q$8:$AN$8,J$8,$Q$9:$AN$9,J$9) -> 33244.084 | K57: =+SUMIFS($Q57:$AN57,$Q$8:$AN$8,K$8,$Q$9:$AN$9,K$9) -> 30807.294 | L57: =+SUMIFS($Q57:$AN57,$Q$8:$AN$8,L$8,$Q$9:$AN$9,L$9) -> 28141.63 | M57: =+SUMIFS($Q57:$AN57,$Q$8:$AN$8,M$8,$Q$9:$AN$9,M$9) -> 28250.959 | N57: =+SUMIFS($Q57:$AN57,$Q$8:$AN$8,N$8,$Q$9:$AN$9,N$9) -> 0 | O57: =+SUMIFS($Q57:$AN57,$Q$8:$AN$8,O$8,$Q$9:$AN$9,O$9) -> 0 | Q57: =+Q58-Q59 -> 0 | R57: =+R58-R59 -> 0 | S57: =+S58-S59 -> 37484.887 | T57: =+T58-T59 -> 0 | U57: =+U58-U59 -> 0 | V57: =+V58-V59 -> 34872.176 | W57: =+W58-W59 -> 0 | X57: =+X58-X59 -> 0 | ... AN57: =+AN58-AN59 -> 0
A58: =+H58+I58 -> 81236.359 | B58: =+L58+M58 -> 62538.315 | F58: 보험수익 | H58: =+SUMIFS($Q58:$AN58,$Q$8:$AN$8,H$8,$Q$9:$AN$9,H$9) -> 41909.243 | I58: =+SUMIFS($Q58:$AN58,$Q$8:$AN$8,I$8,$Q$9:$AN$9,I$9) -> 39327.117 | J58: =+SUMIFS($Q58:$AN58,$Q$8:$AN$8,J$8,$Q$9:$AN$9,J$9) -> 37620.98 | K58: =+SUMIFS($Q58:$AN58,$Q$8:$AN$8,K$8,$Q$9:$AN$9,K$9) -> 34997.132 | L58: =+SUMIFS($Q58:$AN58,$Q$8:$AN$8,L$8,$Q$9:$AN$9,L$9) -> 31619.312 | M58: =+SUMIFS($Q58:$AN58,$Q$8:$AN$8,M$8,$Q$9:$AN$9,M$9) -> 30919.004 | N58: =+SUMIFS($Q58:$AN58,$Q$8:$AN$8,N$8,$Q$9:$AN$9,N$9) -> 0 | O58: =+SUMIFS($Q58:$AN58,$Q$8:$AN$8,O$8,$Q$9:$AN$9,O$9) -> 0 | S58: =+'[2]실적(당월)'!O48 -> 41909.243 | V58: =+'[2]실적(당월)'!P48 -> 39327.117 | Y58: =+'[2]실적(당월)'!Q48 -> 37620.98 | AB58: =+'[2]실적(당월)'!R48 -> 34997.132 | AC58: =+'[2]실적(당월)'!S48 -> 11075.514 | AD58: =+'[2]실적(당월)'!T48 -> 9778.5378 | AE58: =+'[2]실적(당월)'!U48 -> 10765.26 | AF58: =+'[2]실적(당월)'!V48 -> 10054.011 | AG58: =+'[2]실적(당월)'!W48 -> 10671.758 | AH58: =+'[2]실적(당월)'!X48 -> 10193.235
A59: =+H59+I59 -> 8879.297 | B59: =+L59+M59 -> 6145.7267 | F59: 재보험서비스비용 | H59: =+SUMIFS($Q59:$AN59,$Q$8:$AN$8,H$8,$Q$9:$AN$9,H$9) -> 4424.356 | I59: =+SUMIFS($Q59:$AN59,$Q$8:$AN$8,I$8,$Q$9:$AN$9,I$9) -> 4454.9409 | J59: =+SUMIFS($Q59:$AN59,$Q$8:$AN$8,J$8,$Q$9:$AN$9,J$9) -> 4376.8952 | K59: =+SUMIFS($Q59:$AN59,$Q$8:$AN$8,K$8,$Q$9:$AN$9,K$9) -> 4189.8382 | L59: =+SUMIFS($Q59:$AN59,$Q$8:$AN$8,L$8,$Q$9:$AN$9,L$9) -> 3477.682 | M59: =+SUMIFS($Q59:$AN59,$Q$8:$AN$8,M$8,$Q$9:$AN$9,M$9) -> 2668.0447 | N59: =+SUMIFS($Q59:$AN59,$Q$8:$AN$8,N$8,$Q$9:$AN$9,N$9) -> 0 | O59: =+SUMIFS($Q59:$AN59,$Q$8:$AN$8,O$8,$Q$9:$AN$9,O$9) -> 0 | S59: =+'[2]실적(당월)'!O84 -> 4424.356 | V59: =+'[2]실적(당월)'!P84 -> 4454.9409 | Y59: =+'[2]실적(당월)'!Q84 -> 4376.8952 | AB59: =+'[2]실적(당월)'!R84 -> 4189.8382 | AC59: =+'[2]실적(당월)'!S84 -> 1314.7612 | AD59: =+'[2]실적(당월)'!T84 -> 1100.2571 | AE59: =+'[2]실적(당월)'!U84 -> 1062.6637 | AF59: =+'[2]실적(당월)'!V84 -> 941.41876 | AG59: =+'[2]실적(당월)'!W84 -> 942.01598 | AH59: =+'[2]실적(당월)'!X84 -> 784.60999
A60: =+H60+I60 -> 69426.589 | B60: =+L60+M60 -> 55269.501 | E60: 보험영업비용 | H60: =+SUMIFS($Q60:$AN60,$Q$8:$AN$8,H$8,$Q$9:$AN$9,H$9) -> 35257.26 | I60: =+SUMIFS($Q60:$AN60,$Q$8:$AN$8,I$8,$Q$9:$AN$9,I$9) -> 34169.329 | J60: =+SUMIFS($Q60:$AN60,$Q$8:$AN$8,J$8,$Q$9:$AN$9,J$9) -> 30857.44 | K60: =+SUMIFS($Q60:$AN60,$Q$8:$AN$8,K$8,$Q$9:$AN$9,K$9) -> 40908.074 | L60: =+SUMIFS($Q60:$AN60,$Q$8:$AN$8,L$8,$Q$9:$AN$9,L$9) -> 26267.848 | M60: =+SUMIFS($Q60:$AN60,$Q$8:$AN$8,M$8,$Q$9:$AN$9,M$9) -> 29001.653 | N60: =+SUMIFS($Q60:$AN60,$Q$8:$AN$8,N$8,$Q$9:$AN$9,N$9) -> 0 | O60: =+SUMIFS($Q60:$AN60,$Q$8:$AN$8,O$8,$Q$9:$AN$9,O$9) -> 0 | Q60: =+Q61-Q62+Q63 -> 0 | R60: =+R61-R62+R63 -> 0 | S60: =+S61-S62+S63 -> 35257.26 | T60: =+T61-T62+T63 -> 0 | U60: =+U61-U62+U63 -> 0 | V60: =+V61-V62+V63 -> 34169.329 | W60: =+W61-W62+W63 -> 0 | X60: =+X61-X62+X63 -> 0 | ... AN60: =+AN61-AN62+AN63 -> 0
A61: =+H61+I61 -> 59453.705 | B61: =+L61+M61 -> 44447.041 | F61: 보험영업비용 | H61: =+SUMIFS($Q61:$AN61,$Q$8:$AN$8,H$8,$Q$9:$AN$9,H$9) -> 30512.723 | I61: =+SUMIFS($Q61:$AN61,$Q$8:$AN$8,I$8,$Q$9:$AN$9,I$9) -> 28940.982 | J61: =+SUMIFS($Q61:$AN61,$Q$8:$AN$8,J$8,$Q$9:$AN$9,J$9) -> 27730.012 | K61: =+SUMIFS($Q61:$AN61,$Q$8:$AN$8,K$8,$Q$9:$AN$9,K$9) -> 37819.826 | L61: =+SUMIFS($Q61:$AN61,$Q$8:$AN$8,L$8,$Q$9:$AN$9,L$9) -> 20245.942 | M61: =+SUMIFS($Q61:$AN61,$Q$8:$AN$8,M$8,$Q$9:$AN$9,M$9) -> 24201.099 | N61: =+SUMIFS($Q61:$AN61,$Q$8:$AN$8,N$8,$Q$9:$AN$9,N$9) -> 0 | O61: =+SUMIFS($Q61:$AN61,$Q$8:$AN$8,O$8,$Q$9:$AN$9,O$9) -> 0 | S61: =+'[2]실적(당월)'!O50 -> 30512.723 | V61: =+'[2]실적(당월)'!P50 -> 28940.982 | Y61: =+'[2]실적(당월)'!Q50 -> 27730.012 | AB61: =+'[2]실적(당월)'!R50 -> 37819.826 | AC61: =+'[2]실적(당월)'!S50 -> 7980.3228 | AD61: =+'[2]실적(당월)'!T50 -> 7494.1659 | AE61: =+'[2]실적(당월)'!U50 -> 4771.4536 | AF61: =+'[2]실적(당월)'!V50 -> 8134.1104 | AG61: =+'[2]실적(당월)'!W50 -> 8177.3665 | AH61: =+'[2]실적(당월)'!X50 -> 7889.6221
A62: =+H62+I62 -> 5471.7657 | B62: =+L62+M62 -> 3906.2627 | F62: 재보험수익 | H62: =+SUMIFS($Q62:$AN62,$Q$8:$AN$8,H$8,$Q$9:$AN$9,H$9) -> 2937.2017 | I62: =+SUMIFS($Q62:$AN62,$Q$8:$AN$8,I$8,$Q$9:$AN$9,I$9) -> 2534.564 | J62: =+SUMIFS($Q62:$AN62,$Q$8:$AN$8,J$8,$Q$9:$AN$9,J$9) -> 4388.8485 | K62: =+SUMIFS($Q62:$AN62,$Q$8:$AN$8,K$8,$Q$9:$AN$9,K$9) -> 4472.2887 | L62: =+SUMIFS($Q62:$AN62,$Q$8:$AN$8,L$8,$Q$9:$AN$9,L$9) -> 1742.9281 | M62: =+SUMIFS($Q62:$AN62,$Q$8:$AN$8,M$8,$Q$9:$AN$9,M$9) -> 2163.3345 | N62: =+SUMIFS($Q62:$AN62,$Q$8:$AN$8,N$8,$Q$9:$AN$9,N$9) -> 0 | O62: =+SUMIFS($Q62:$AN62,$Q$8:$AN$8,O$8,$Q$9:$AN$9,O$9) -> 0 | S62: =+'[2]실적(당월)'!O69 -> 2937.2017 | V62: =+'[2]실적(당월)'!P69 -> 2534.564 | Y62: =+'[2]실적(당월)'!Q69 -> 4388.8485 | AB62: =+'[2]실적(당월)'!R69 -> 4472.2887 | AC62: =+'[2]실적(당월)'!S69 -> 316.9974 | AD62: =+'[2]실적(당월)'!T69 -> 1312.2915 | AE62: =+'[2]실적(당월)'!U69 -> 113.63925 | AF62: =+'[2]실적(당월)'!V69 -> 871.38599 | AG62: =+'[2]실적(당월)'!W69 -> 792.9604 | AH62: =+'[2]실적(당월)'!X69 -> 498.98815
A63: =+H63+I63 -> 15444.65 | B63: =+L63+M63 -> 14728.722 | F63: 기타사업비용 | H63: =+SUMIFS($Q63:$AN63,$Q$8:$AN$8,H$8,$Q$9:$AN$9,H$9) -> 7681.7391 | I63: =+SUMIFS($Q63:$AN63,$Q$8:$AN$8,I$8,$Q$9:$AN$9,I$9) -> 7762.9109 | J63: =+SUMIFS($Q63:$AN63,$Q$8:$AN$8,J$8,$Q$9:$AN$9,J$9) -> 7516.276 | K63: =+SUMIFS($Q63:$AN63,$Q$8:$AN$8,K$8,$Q$9:$AN$9,K$9) -> 7560.5363 | L63: =+SUMIFS($Q63:$AN63,$Q$8:$AN$8,L$8,$Q$9:$AN$9,L$9) -> 7764.8336 | M63: =+SUMIFS($Q63:$AN63,$Q$8:$AN$8,M$8,$Q$9:$AN$9,M$9) -> 6963.8887 | N63: =+SUMIFS($Q63:$AN63,$Q$8:$AN$8,N$8,$Q$9:$AN$9,N$9) -> 0 | O63: =+SUMIFS($Q63:$AN63,$Q$8:$AN$8,O$8,$Q$9:$AN$9,O$9) -> 0 | S63: =+'[2]실적(당월)'!O64 -> 7681.7391 | V63: =+'[2]실적(당월)'!P64 -> 7762.9109 | Y63: =+'[2]실적(당월)'!Q64 -> 7516.276 | AB63: =+'[2]실적(당월)'!R64 -> 7560.5363 | AC63: =+'[2]실적(당월)'!S64 -> 2469.4615 | AD63: =+'[2]실적(당월)'!T64 -> 2274.2249 | AE63: =+'[2]실적(당월)'!U64 -> 3021.1472 | AF63: =+'[2]실적(당월)'!V64 -> 2237.9847 | AG63: =+'[2]실적(당월)'!W64 -> 2620.4587 | AH63: =+'[2]실적(당월)'!X64 -> 2105.4453
A64: =+H64+I64 -> -90593.109 | B64: =+L64+M64 -> 49559.293 | C64: 투자손익 | H64: =+SUMIFS($Q64:$AN64,$Q$8:$AN$8,H$8,$Q$9:$AN$9,H$9) -> -39974.499 | I64: =+SUMIFS($Q64:$AN64,$Q$8:$AN$8,I$8,$Q$9:$AN$9,I$9) -> -50618.61 | J64: =+SUMIFS($Q64:$AN64,$Q$8:$AN$8,J$8,$Q$9:$AN$9,J$9) -> -56659.652 | K64: =+SUMIFS($Q64:$AN64,$Q$8:$AN$8,K$8,$Q$9:$AN$9,K$9) -> -112149.07 | L64: =+SUMIFS($Q64:$AN64,$Q$8:$AN$8,L$8,$Q$9:$AN$9,L$9) -> 58047.354 | M64: =+SUMIFS($Q64:$AN64,$Q$8:$AN$8,M$8,$Q$9:$AN$9,M$9) -> -8488.0606 | N64: =+SUMIFS($Q64:$AN64,$Q$8:$AN$8,N$8,$Q$9:$AN$9,N$9) -> 0 | O64: =+SUMIFS($Q64:$AN64,$Q$8:$AN$8,O$8,$Q$9:$AN$9,O$9) -> 0 | Q64: =+Q65-Q68 -> 0 | R64: =+R65-R68 -> 0 | S64: =+S65-S68 -> -39974.499 | T64: =+T65-T68 -> 0 | U64: =+U65-U68 -> 0 | V64: =+V65-V68 -> -50618.61 | W64: =+W65-W68 -> 0 | X64: =+X65-X68 -> 0 | ... AN64: =+AN65-AN68 -> 0
A65: =+H65+I65 -> 86969.87 | B65: =+L65+M65 -> 256990.69 | D65: 투자영업이익 | H65: =+SUMIFS($Q65:$AN65,$Q$8:$AN$8,H$8,$Q$9:$AN$9,H$9) -> 48794.576 | I65: =+SUMIFS($Q65:$AN65,$Q$8:$AN$8,I$8,$Q$9:$AN$9,I$9) -> 38175.294 | J65: =+SUMIFS($Q65:$AN65,$Q$8:$AN$8,J$8,$Q$9:$AN$9,J$9) -> 33572.476 | K65: =+SUMIFS($Q65:$AN65,$Q$8:$AN$8,K$8,$Q$9:$AN$9,K$9) -> -20782.462 | L65: =+SUMIFS($Q65:$AN65,$Q$8:$AN$8,L$8,$Q$9:$AN$9,L$9) -> 159728.36 | M65: =+SUMIFS($Q65:$AN65,$Q$8:$AN$8,M$8,$Q$9:$AN$9,M$9) -> 97262.325 | N65: =+SUMIFS($Q65:$AN65,$Q$8:$AN$8,N$8,$Q$9:$AN$9,N$9) -> 0 | O65: =+SUMIFS($Q65:$AN65,$Q$8:$AN$8,O$8,$Q$9:$AN$9,O$9) -> 0 | Q65: =+Q66+Q67 -> 0 | R65: =+R66+R67 -> 0 | S65: =+S66+S67 -> 48794.576 | T65: =+T66+T67 -> 0 | U65: =+U66+U67 -> 0 | V65: =+V66+V67 -> 38175.294 | W65: =+W66+W67 -> 0 | X65: =+X66+X67 -> 0 | ... AN65: =+AN66+AN67 -> 0
A66: =+H66+I66 -> -14804.368 | B66: =+L66+M66 -> 134030.13 | E66: 일반계정 | H66: =+SUMIFS($Q66:$AN66,$Q$8:$AN$8,H$8,$Q$9:$AN$9,H$9) -> -46.919701 | I66: =+SUMIFS($Q66:$AN66,$Q$8:$AN$8,I$8,$Q$9:$AN$9,I$9) -> -14757.448 | J66: =+SUMIFS($Q66:$AN66,$Q$8:$AN$8,J$8,$Q$9:$AN$9,J$9) -> -13909.638 | K66: =+SUMIFS($Q66:$AN66,$Q$8:$AN$8,K$8,$Q$9:$AN$9,K$9) -> -58327.516 | L66: =+SUMIFS($Q66:$AN66,$Q$8:$AN$8,L$8,$Q$9:$AN$9,L$9) -> 111624.42 | M66: =+SUMIFS($Q66:$AN66,$Q$8:$AN$8,M$8,$Q$9:$AN$9,M$9) -> 22405.707 | N66: =+SUMIFS($Q66:$AN66,$Q$8:$AN$8,N$8,$Q$9:$AN$9,N$9) -> 0 | O66: =+SUMIFS($Q66:$AN66,$Q$8:$AN$8,O$8,$Q$9:$AN$9,O$9) -> 0 | S66: =(+[2]투자손익월별!H72+[2]투자손익월별!H92+[2]투자손익월별!H96-[2]투자손익월별!H95)*100-S78 -> -46.919701 | V66: =(+[2]투자손익월별!I72+[2]투자손익월별!I92+[2]투자손익월별!I96-[2]투자손익월별!I95)*100-V78 -> -14757.448 | Y66: =(+[2]투자손익월별!J72+[2]투자손익월별!J92+[2]투자손익월별!J96-[2]투자손익월별!J95)*100-Y78 -> -13909.638 | AB66: =(+[2]투자손익월별!K72+[2]투자손익월별!K92+[2]투자손익월별!K96-[2]투자손익월별!K95)*100-AB78 -> -58327.516 | AC66: =(+[2]투자손익월별!L72+[2]투자손익월별!L92+[2]투자손익월별!L96-[2]투자손익월별!L95)*100-AC78 -> 86045.146 | AD66: =(+[2]투자손익월별!M72+[2]투자손익월별!M92+[2]투자손익월별!M96-[2]투자손익월별!M95)*100-AD78 -> -19348.171 | AE66: =(+[2]투자손익월별!N72+[2]투자손익월별!N92+[2]투자손익월별!N96-[2]투자손익월별!N95)*100-AE78 -> 44927.449 | AF66: =(+[2]투자손익월별!O72+[2]투자손익월별!O92+[2]투자손익월별!O96-[2]투자손익월별!O95)*100-AF78 -> 20469.967 | AG66: =(+[2]투자손익월별!P72+[2]투자손익월별!P92+[2]투자손익월별!P96-[2]투자손익월별!P95)*100-AG78 -> 9209.2932 | AH66: =(+[2]투자손익월별!Q72+[2]투자손익월별!Q92+[2]투자손익월별!Q96-[2]투자손익월별!Q95)*100-AH78 -> -7273.553
A67: =+H67+I67 -> 101774.24 | B67: =+L67+M67 -> 122960.56 | E67: 퇴직계정 | H67: =+SUMIFS($Q67:$AN67,$Q$8:$AN$8,H$8,$Q$9:$AN$9,H$9) -> 48841.495 | I67: =+SUMIFS($Q67:$AN67,$Q$8:$AN$8,I$8,$Q$9:$AN$9,I$9) -> 52932.742 | J67: =+SUMIFS($Q67:$AN67,$Q$8:$AN$8,J$8,$Q$9:$AN$9,J$9) -> 47482.114 | K67: =+SUMIFS($Q67:$AN67,$Q$8:$AN$8,K$8,$Q$9:$AN$9,K$9) -> 37545.054 | L67: =+SUMIFS($Q67:$AN67,$Q$8:$AN$8,L$8,$Q$9:$AN$9,L$9) -> 48103.939 | M67: =+SUMIFS($Q67:$AN67,$Q$8:$AN$8,M$8,$Q$9:$AN$9,M$9) -> 74856.619 | N67: =+SUMIFS($Q67:$AN67,$Q$8:$AN$8,N$8,$Q$9:$AN$9,N$9) -> 0 | O67: =+SUMIFS($Q67:$AN67,$Q$8:$AN$8,O$8,$Q$9:$AN$9,O$9) -> 0 | S67: =(+[2]투자손익월별!H104+[2]투자손익월별!H124+[2]투자손익월별!H128)*100-S79 -> 48841.495 | V67: =(+[2]투자손익월별!I104+[2]투자손익월별!I124+[2]투자손익월별!I128)*100-V79 -> 52932.742 | Y67: =(+[2]투자손익월별!J104+[2]투자손익월별!J124+[2]투자손익월별!J128)*100-Y79 -> 47482.114 | AB67: =(+[2]투자손익월별!K104+[2]투자손익월별!K124+[2]투자손익월별!K128)*100-AB79 -> 37545.054 | AC67: =(+[2]투자손익월별!L104+[2]투자손익월별!L124+[2]투자손익월별!L128)*100-AC79 -> 30735.827 | AD67: =(+[2]투자손익월별!M104+[2]투자손익월별!M124+[2]투자손익월별!M128)*100-AD79 -> 3753.9445 | AE67: =(+[2]투자손익월별!N104+[2]투자손익월별!N124+[2]투자손익월별!N128)*100-AE79 -> 13614.168 | AF67: =(+[2]투자손익월별!O104+[2]투자손익월별!O124+[2]투자손익월별!O128)*100-AF79 -> 25582.942 | AG67: =(+[2]투자손익월별!P104+[2]투자손익월별!P124+[2]투자손익월별!P128)*100-AG79 -> 15372.736 | AH67: =(+[2]투자손익월별!Q104+[2]투자손익월별!Q124+[2]투자손익월별!Q128)*100-AH79 -> 33900.941
A68: =+H68+I68 -> 177562.98 | B68: =+L68+M68 -> 207431.4 | D68: 보험금융비용 등 | H68: =+SUMIFS($Q68:$AN68,$Q$8:$AN$8,H$8,$Q$9:$AN$9,H$9) -> 88769.075 | I68: =+SUMIFS($Q68:$AN68,$Q$8:$AN$8,I$8,$Q$9:$AN$9,I$9) -> 88793.904 | J68: =+SUMIFS($Q68:$AN68,$Q$8:$AN$8,J$8,$Q$9:$AN$9,J$9) -> 90232.128 | K68: =+SUMIFS($Q68:$AN68,$Q$8:$AN$8,K$8,$Q$9:$AN$9,K$9) -> 91366.611 | L68: =+SUMIFS($Q68:$AN68,$Q$8:$AN$8,L$8,$Q$9:$AN$9,L$9) -> 101681.01 | M68: =+SUMIFS($Q68:$AN68,$Q$8:$AN$8,M$8,$Q$9:$AN$9,M$9) -> 105750.39 | N68: =+SUMIFS($Q68:$AN68,$Q$8:$AN$8,N$8,$Q$9:$AN$9,N$9) -> 0 | O68: =+SUMIFS($Q68:$AN68,$Q$8:$AN$8,O$8,$Q$9:$AN$9,O$9) -> 0 | Q68: =+Q69+Q70 -> 0 | R68: =+R69+R70 -> 0 | S68: =+S69+S70 -> 88769.075 | T68: =+T69+T70 -> 0 | U68: =+U69+U70 -> 0 | V68: =+V69+V70 -> 88793.904 | W68: =+W69+W70 -> 0 | X68: =+X69+X70 -> 0 | ... AN68: =+AN69+AN70 -> 0
A69: =+H69+I69 -> 74698.403 | B69: =+L69+M69 -> 71316.307 | E69: 보험금융비용 | H69: =+SUMIFS($Q69:$AN69,$Q$8:$AN$8,H$8,$Q$9:$AN$9,H$9) -> 37479.551 | I69: =+SUMIFS($Q69:$AN69,$Q$8:$AN$8,I$8,$Q$9:$AN$9,I$9) -> 37218.852 | J69: =+SUMIFS($Q69:$AN69,$Q$8:$AN$8,J$8,$Q$9:$AN$9,J$9) -> 35714.572 | K69: =+SUMIFS($Q69:$AN69,$Q$8:$AN$8,K$8,$Q$9:$AN$9,K$9) -> 34479.368 | L69: =+SUMIFS($Q69:$AN69,$Q$8:$AN$8,L$8,$Q$9:$AN$9,L$9) -> 35980.923 | M69: =+SUMIFS($Q69:$AN69,$Q$8:$AN$8,M$8,$Q$9:$AN$9,M$9) -> 35335.384 | N69: =+SUMIFS($Q69:$AN69,$Q$8:$AN$8,N$8,$Q$9:$AN$9,N$9) -> 0 | O69: =+SUMIFS($Q69:$AN69,$Q$8:$AN$8,O$8,$Q$9:$AN$9,O$9) -> 0 | S69: =(+[2]투자손익월별!H94)*100 -> 37479.551 | V69: =(+[2]투자손익월별!I94)*100 -> 37218.852 | Y69: =(+[2]투자손익월별!J94)*100 -> 35714.572 | AB69: =(+[2]투자손익월별!K94)*100 -> 34479.368 | AC69: =(+[2]투자손익월별!L94)*100 -> 10892.481 | AD69: =(+[2]투자손익월별!M94)*100 -> 11241.706 | AE69: =(+[2]투자손익월별!N94)*100 -> 13846.737 | AF69: =(+[2]투자손익월별!O94)*100 -> 12757.415 | AG69: =(+[2]투자손익월별!P94)*100 -> 10052.686 | AH69: =(+[2]투자손익월별!Q94)*100 -> 12525.282
A70: =+H70+I70 -> 102864.58 | B70: =+L70+M70 -> 136115.09 | E70: 퇴직연금부담이자 등 | H70: =+SUMIFS($Q70:$AN70,$Q$8:$AN$8,H$8,$Q$9:$AN$9,H$9) -> 51289.523 | I70: =+SUMIFS($Q70:$AN70,$Q$8:$AN$8,I$8,$Q$9:$AN$9,I$9) -> 51575.052 | J70: =+SUMIFS($Q70:$AN70,$Q$8:$AN$8,J$8,$Q$9:$AN$9,J$9) -> 54517.557 | K70: =+SUMIFS($Q70:$AN70,$Q$8:$AN$8,K$8,$Q$9:$AN$9,K$9) -> 56887.243 | L70: =+SUMIFS($Q70:$AN70,$Q$8:$AN$8,L$8,$Q$9:$AN$9,L$9) -> 65700.086 | M70: =+SUMIFS($Q70:$AN70,$Q$8:$AN$8,M$8,$Q$9:$AN$9,M$9) -> 70415.002 | N70: =+SUMIFS($Q70:$AN70,$Q$8:$AN$8,N$8,$Q$9:$AN$9,N$9) -> 0 | O70: =+SUMIFS($Q70:$AN70,$Q$8:$AN$8,O$8,$Q$9:$AN$9,O$9) -> 0 | S70: =(+[2]투자손익월별!H125)*100 -> 51289.523 | V70: =(+[2]투자손익월별!I125)*100 -> 51575.052 | Y70: =(+[2]투자손익월별!J125)*100 -> 54517.557 | AB70: =(+[2]투자손익월별!K125)*100 -> 56887.243 | AC70: =(+[2]투자손익월별!L125)*100 -> 22071.081 | AD70: =(+[2]투자손익월별!M125)*100 -> 20800.539 | AE70: =(+[2]투자손익월별!N125)*100 -> 22828.466 | AF70: =(+[2]투자손익월별!O125)*100 -> 23104.949 | AG70: =(+[2]투자손익월별!P125)*100 -> 23904.447 | AH70: =(+[2]투자손익월별!Q125)*100 -> 23405.607
A71: =+H71+I71 -> -1383.3551 | B71: =+L71+M71 -> -1370.7396 | C71: 영업외손익 | H71: =+SUMIFS($Q71:$AN71,$Q$8:$AN$8,H$8,$Q$9:$AN$9,H$9) -> -1037.3834 | I71: =+SUMIFS($Q71:$AN71,$Q$8:$AN$8,I$8,$Q$9:$AN$9,I$9) -> -345.97173 | J71: =+SUMIFS($Q71:$AN71,$Q$8:$AN$8,J$8,$Q$9:$AN$9,J$9) -> 2020.847 | K71: =+SUMIFS($Q71:$AN71,$Q$8:$AN$8,K$8,$Q$9:$AN$9,K$9) -> -7238.3745 | L71: =+SUMIFS($Q71:$AN71,$Q$8:$AN$8,L$8,$Q$9:$AN$9,L$9) -> -1627.6362 | M71: =+SUMIFS($Q71:$AN71,$Q$8:$AN$8,M$8,$Q$9:$AN$9,M$9) -> 256.89663 | N71: =+SUMIFS($Q71:$AN71,$Q$8:$AN$8,N$8,$Q$9:$AN$9,N$9) -> 0 | O71: =+SUMIFS($Q71:$AN71,$Q$8:$AN$8,O$8,$Q$9:$AN$9,O$9) -> 0 | S71: =+'[2]실적(당월)'!O181+S77 -> -1037.3834 | V71: =+'[2]실적(당월)'!P181+V77 -> -345.97173 | Y71: =+'[2]실적(당월)'!Q181+Y77 -> 2020.847 | AB71: =+'[2]실적(당월)'!R181+AB77 -> -7238.3745 | AC71: =+'[2]실적(당월)'!S181+AC77 -> -436.83456 | AD71: =+'[2]실적(당월)'!T181+AD77 -> 73.765162 | AE71: =+'[2]실적(당월)'!U181+AE77 -> -1264.5668 | AF71: =+'[2]실적(당월)'!V181+AF77 -> 85.621055 | AG71: =+'[2]실적(당월)'!W181+AG77 -> 8.59267 | AH71: =+'[2]실적(당월)'!X181+AH77 -> 162.6829
A72: =+H72+I72 -> 8467.493 | B72: =+L72+M72 -> 151086.18 | C72: 세전이익 | H72: =+SUMIFS($Q72:$AN72,$Q$8:$AN$8,H$8,$Q$9:$AN$9,H$9) -> 13379.799 | I72: =+SUMIFS($Q72:$AN72,$Q$8:$AN$8,I$8,$Q$9:$AN$9,I$9) -> -4912.3062 | J72: =+SUMIFS($Q72:$AN72,$Q$8:$AN$8,J$8,$Q$9:$AN$9,J$9) -> -2194.4709 | K72: =+SUMIFS($Q72:$AN72,$Q$8:$AN$8,K$8,$Q$9:$AN$9,K$9) -> -102342.67 | L72: =+SUMIFS($Q72:$AN72,$Q$8:$AN$8,L$8,$Q$9:$AN$9,L$9) -> 103402.43 | M72: =+SUMIFS($Q72:$AN72,$Q$8:$AN$8,M$8,$Q$9:$AN$9,M$9) -> 47683.749 | N72: =+SUMIFS($Q72:$AN72,$Q$8:$AN$8,N$8,$Q$9:$AN$9,N$9) -> 0 | O72: =+SUMIFS($Q72:$AN72,$Q$8:$AN$8,O$8,$Q$9:$AN$9,O$9) -> 0 | Q72: =+Q31+Q64+Q71 -> 0 | R72: =+R31+R64+R71 -> 0 | S72: =+S31+S64+S71 -> 13379.799 | T72: =+T31+T64+T71 -> 0 | U72: =+U31+U64+U71 -> 0 | V72: =+V31+V64+V71 -> -4912.3062 | W72: =+W31+W64+W71 -> 0 | X72: =+X31+X64+X71 -> 0 | ... AN72: =+AN31+AN64+AN71 -> 0
A73: =+H73+I73 -> 1922.6077 | B73: =+L73+M73 -> 38114.43 | C73: 법인세비용 | H73: =+SUMIFS($Q73:$AN73,$Q$8:$AN$8,H$8,$Q$9:$AN$9,H$9) -> 2874.1747 | I73: =+SUMIFS($Q73:$AN73,$Q$8:$AN$8,I$8,$Q$9:$AN$9,I$9) -> -951.56703 | J73: =+SUMIFS($Q73:$AN73,$Q$8:$AN$8,J$8,$Q$9:$AN$9,J$9) -> -918.70895 | K73: =+SUMIFS($Q73:$AN73,$Q$8:$AN$8,K$8,$Q$9:$AN$9,K$9) -> -29194.263 | L73: =+SUMIFS($Q73:$AN73,$Q$8:$AN$8,L$8,$Q$9:$AN$9,L$9) -> 24027.846 | M73: =+SUMIFS($Q73:$AN73,$Q$8:$AN$8,M$8,$Q$9:$AN$9,M$9) -> 14086.584 | N73: =+SUMIFS($Q73:$AN73,$Q$8:$AN$8,N$8,$Q$9:$AN$9,N$9) -> 0 | O73: =+SUMIFS($Q73:$AN73,$Q$8:$AN$8,O$8,$Q$9:$AN$9,O$9) -> 0 | Q73: =+Q72-Q74 -> 0 | R73: =+R72-R74 -> 0 | S73: =+S72-S74 -> 2874.1747 | T73: =+T72-T74 -> 0 | U73: =+U72-U74 -> 0 | V73: =+V72-V74 -> -951.56703 | W73: =+W72-W74 -> 0 | X73: =+X72-X74 -> 0 | ... AN73: =+AN72-AN74 -> 0
A74: =+H74+I74 -> 6544.8854 | B74: =+L74+M74 -> 112971.75 | C74: 당기순이익 | H74: =+SUMIFS($Q74:$AN74,$Q$8:$AN$8,H$8,$Q$9:$AN$9,H$9) -> 10505.625 | I74: =+SUMIFS($Q74:$AN74,$Q$8:$AN$8,I$8,$Q$9:$AN$9,I$9) -> -3960.7392 | J74: =+SUMIFS($Q74:$AN74,$Q$8:$AN$8,J$8,$Q$9:$AN$9,J$9) -> -1275.7619 | K74: =+SUMIFS($Q74:$AN74,$Q$8:$AN$8,K$8,$Q$9:$AN$9,K$9) -> -73148.403 | L74: =+SUMIFS($Q74:$AN74,$Q$8:$AN$8,L$8,$Q$9:$AN$9,L$9) -> 79374.582 | M74: =+SUMIFS($Q74:$AN74,$Q$8:$AN$8,M$8,$Q$9:$AN$9,M$9) -> 33597.165 | N74: =+SUMIFS($Q74:$AN74,$Q$8:$AN$8,N$8,$Q$9:$AN$9,N$9) -> 0 | O74: =+SUMIFS($Q74:$AN74,$Q$8:$AN$8,O$8,$Q$9:$AN$9,O$9) -> 0 | S74: =+[3]공시용_PL!$D$29/1000000 -> 10505.625 | V74: =+[4]공시용_PL!$D$29/1000000-SUM(Q74:U74) -> -3960.7392 | Y74: =+[5]공시용_PL!$D$29/1000000-SUM(Q74:X74) -> -1275.7619 | AB74: =+[6]공시용_PL!$D$29/1000000-SUM(Q74:AA74) -> -73148.403 | AE74: =+[7]공시용_PL!$D$29/1000000 -> 79374.582 | AH74: =+[8]공시용_PL!$D$29/1000000-SUM(AC74:AG74) -> 33597.165
H75: =+H73/H72*100 -> 21.481449 | I75: =+I73/I72*100 -> 19.371085 | J75: =+J73/J72*100 -> 41.864714 | K75: =+K73/K72*100 -> 28.525994 | L75: =+L73/L72*100 -> 23.237217 | M75: =+M73/M72*100 -> 29.541687
H76: =+SUM($H$73:H73)/SUM($H$72:H72)*100 -> 21.481449 | I76: =+SUM($H$73:I73)/SUM($H$72:I72)*100 -> 22.705748 | J76: =+SUM($H$73:J73)/SUM($H$72:J72)*100 -> 16.00343 | K76: =+SUM($H$73:K73)/SUM($H$72:K72)*100 -> 29.343676 | L76: =+SUM($L$73:L73)/SUM($L$72:L72)*100 -> 23.237217 | M76: =+SUM($L$73:M73)/SUM($L$72:M72)*100 -> 25.226947
C77: 지분법평가손익(계정합산) | H77: =+SUMIFS($Q77:$AN77,$Q$8:$AN$8,H$8,$Q$9:$AN$9,H$9) -> 0 | I77: =+SUMIFS($Q77:$AN77,$Q$8:$AN$8,I$8,$Q$9:$AN$9,I$9) -> -196.61265 | J77: =+SUMIFS($Q77:$AN77,$Q$8:$AN$8,J$8,$Q$9:$AN$9,J$9) -> -44.09894 | K77: =+SUMIFS($Q77:$AN77,$Q$8:$AN$8,K$8,$Q$9:$AN$9,K$9) -> -85.792642 | L77: =+SUMIFS($Q77:$AN77,$Q$8:$AN$8,L$8,$Q$9:$AN$9,L$9) -> -207.72906 | M77: =+SUMIFS($Q77:$AN77,$Q$8:$AN$8,M$8,$Q$9:$AN$9,M$9) -> -188.44669 | N77: =+SUMIFS($Q77:$AN77,$Q$8:$AN$8,N$8,$Q$9:$AN$9,N$9) -> 0 | O77: =+SUMIFS($Q77:$AN77,$Q$8:$AN$8,O$8,$Q$9:$AN$9,O$9) -> 0 | S77: =+S78+S79 -> 0 | V77: =+V78+V79 -> -196.61265 | Y77: =+Y78+Y79 -> -44.09894 | AB77: =+AB78+AB79 -> -85.792642 | AC77: =+AC78+AC79 -> 0 | AD77: =+AD78+AD79 -> 0 | AE77: =+AE78+AE79 -> -207.72906 | AF77: =+AF78+AF79 -> 0 | AG77: =+AG78+AG79 -> 0 | AH77: =+AH78+AH79 -> -188.44669
D78: 일반계정 | H78: =+SUMIFS($Q78:$AN78,$Q$8:$AN$8,H$8,$Q$9:$AN$9,H$9) -> 0 | I78: =+SUMIFS($Q78:$AN78,$Q$8:$AN$8,I$8,$Q$9:$AN$9,I$9) -> -196.61265 | J78: =+SUMIFS($Q78:$AN78,$Q$8:$AN$8,J$8,$Q$9:$AN$9,J$9) -> -44.09894 | K78: =+SUMIFS($Q78:$AN78,$Q$8:$AN$8,K$8,$Q$9:$AN$9,K$9) -> -85.792642 | L78: =+SUMIFS($Q78:$AN78,$Q$8:$AN$8,L$8,$Q$9:$AN$9,L$9) -> -207.72906 | M78: =+SUMIFS($Q78:$AN78,$Q$8:$AN$8,M$8,$Q$9:$AN$9,M$9) -> -188.44669 | N78: =+SUMIFS($Q78:$AN78,$Q$8:$AN$8,N$8,$Q$9:$AN$9,N$9) -> 0 | O78: =+SUMIFS($Q78:$AN78,$Q$8:$AN$8,O$8,$Q$9:$AN$9,O$9) -> 0 | S78: =+[2]투자손익월별!H84*100 -> 0 | V78: =+[2]투자손익월별!I84*100 -> -196.61265 | Y78: =+[2]투자손익월별!J84*100 -> -44.09894 | AB78: =+[2]투자손익월별!K84*100 -> -85.792642 | AC78: =+[2]투자손익월별!L84*100 -> 0 | AD78: =+[2]투자손익월별!M84*100 -> 0 | AE78: =+[2]투자손익월별!N84*100 -> -207.72906 | AF78: =+[2]투자손익월별!O84*100 -> 0 | AG78: =+[2]투자손익월별!P84*100 -> 0 | AH78: =+[2]투자손익월별!Q84*100 -> -188.44669
D79: 퇴직계정 | H79: =+SUMIFS($Q79:$AN79,$Q$8:$AN$8,H$8,$Q$9:$AN$9,H$9) -> 0 | I79: =+SUMIFS($Q79:$AN79,$Q$8:$AN$8,I$8,$Q$9:$AN$9,I$9) -> 0 | J79: =+SUMIFS($Q79:$AN79,$Q$8:$AN$8,J$8,$Q$9:$AN$9,J$9) -> 0 | K79: =+SUMIFS($Q79:$AN79,$Q$8:$AN$8,K$8,$Q$9:$AN$9,K$9) -> 0 | L79: =+SUMIFS($Q79:$AN79,$Q$8:$AN$8,L$8,$Q$9:$AN$9,L$9) -> 0 | M79: =+SUMIFS($Q79:$AN79,$Q$8:$AN$8,M$8,$Q$9:$AN$9,M$9) -> 0 | N79: =+SUMIFS($Q79:$AN79,$Q$8:$AN$8,N$8,$Q$9:$AN$9,N$9) -> 0 | O79: =+SUMIFS($Q79:$AN79,$Q$8:$AN$8,O$8,$Q$9:$AN$9,O$9) -> 0 | S79: =+[2]투자손익월별!H116*100 -> 0 | V79: =+[2]투자손익월별!I116*100 -> 0 | Y79: =+[2]투자손익월별!J116*100 -> 0 | AB79: =+[2]투자손익월별!K116*100 -> 0 | AC79: =+[2]투자손익월별!L116*100 -> 0 | AD79: =+[2]투자손익월별!M116*100 -> 0 | AE79: =+[2]투자손익월별!N116*100 -> 0 | AF79: =+[2]투자손익월별!O116*100 -> 0 | AG79: =+[2]투자손익월별!P116*100 -> 0 | AH79: =+[2]투자손익월별!Q116*100 -> 0
C81: 자산총계 | H81: =+SUMIFS($Q81:$AN81,$Q$11:$AN$11,H$7) -> 17657867 | I81: =+SUMIFS($Q81:$AN81,$Q$11:$AN$11,I$7) -> 17259680 | J81: =+SUMIFS($Q81:$AN81,$Q$11:$AN$11,J$7) -> 17396000 | K81: =+SUMIFS($Q81:$AN81,$Q$11:$AN$11,K$7) -> 16791949 | L81: =+SUMIFS($Q81:$AN81,$Q$11:$AN$11,L$7) -> 14619371 | M81: =+SUMIFS($Q81:$AN81,$Q$11:$AN$11,M$7) -> 13601366 | N81: =+SUMIFS($Q81:$AN81,$Q$11:$AN$11,N$7) -> 0 | O81: =+SUMIFS($Q81:$AN81,$Q$11:$AN$11,O$7) -> 0 | S81: =+[3]공시용_BS!$D$22/1000000 -> 17657867 | V81: =+[4]공시용_BS!$D$22/1000000 -> 17259680 | Y81: =+[5]공시용_BS!$D$22/1000000 -> 17396000 | AB81: =+[6]공시용_BS!$D$22/1000000 -> 16791949 | AE81: =+[7]공시용_BS!$D$22/1000000 -> 14619371 | AH81: =+[8]공시용_BS!$D$22/1000000 -> 13601366
C82: CSM기말잔액(원수) | H82: =+SUMIFS($Q82:$AN82,$Q$11:$AN$11,H$7) -> 1642090.5 | I82: =+SUMIFS($Q82:$AN82,$Q$11:$AN$11,I$7) -> 1682942.5 | J82: =+SUMIFS($Q82:$AN82,$Q$11:$AN$11,J$7) -> 1720687.9 | K82: =+SUMIFS($Q82:$AN82,$Q$11:$AN$11,K$7) -> 1780876.3 | L82: =+SUMIFS($Q82:$AN82,$Q$11:$AN$11,L$7) -> 1850191.5 | M82: =+SUMIFS($Q82:$AN82,$Q$11:$AN$11,M$7) -> 1934268.9 | N82: =+SUMIFS($Q82:$AN82,$Q$11:$AN$11,N$7) -> 0 | O82: =+SUMIFS($Q82:$AN82,$Q$11:$AN$11,O$7) -> 0 | S82: =+S88*100 -> 1642090.5 | V82: =+V88*100 -> 1682942.5 | Y82: =+Y88*100 -> 1720687.9 | AB82: =+AB88*100 -> 1780876.3 | AC82: =+AC88*100 -> 1800462.6 | AD82: =+AD88*100 -> 1802099 | AE82: =+AE88*100 -> 1850191.5 | AF82: =+AF88*100 -> 1894926.9 | AG82: =+AG88*100 -> 1913632.4 | AH82: =+AH88*100 -> 1934268.9
C83: 자본총계 | H83: =+SUMIFS($Q83:$AN83,$Q$11:$AN$11,H$7) -> 1742813.8 | I83: =+SUMIFS($Q83:$AN83,$Q$11:$AN$11,I$7) -> 1996023.9 | J83: =+SUMIFS($Q83:$AN83,$Q$11:$AN$11,J$7) -> 2134905.4 | K83: =+SUMIFS($Q83:$AN83,$Q$11:$AN$11,K$7) -> 2024314.4 | L83: =+SUMIFS($Q83:$AN83,$Q$11:$AN$11,L$7) -> 1417967.5 | M83: =+SUMIFS($Q83:$AN83,$Q$11:$AN$11,M$7) -> 1451130.5 | N83: =+SUMIFS($Q83:$AN83,$Q$11:$AN$11,N$7) -> 0 | O83: =+SUMIFS($Q83:$AN83,$Q$11:$AN$11,O$7) -> 0 | S83: =+[3]공시용_BS!$D$44/1000000 -> 1742813.8 | V83: =+[4]공시용_BS!$D$44/1000000 -> 1996023.9 | Y83: =+[5]공시용_BS!$D$44/1000000 -> 2134905.4 | AB83: =+[6]공시용_BS!$D$44/1000000 -> 2024314.4 | AE83: =+[7]공시용_BS!$D$44/1000000 -> 1417967.5 | AH83: =+[8]공시용_BS!$D$44/1000000 -> 1451130.5
C85: 3. CSM무브먼트 | O85: (단위 : 억원)
C86: 구분 | H86: 2022 | L86: 2023 | Q86: 202201 | R86: =+Q86+1 -> 202202 | S86: =+R86+1 -> 202203 | T86: =+S86+1 -> 202204 | U86: =+T86+1 -> 202205 | V86: =+U86+1 -> 202206 | W86: =+V86+1 -> 202207 | X86: =+W86+1 -> 202208 | Y86: =+X86+1 -> 202209 | ... AB86: =+AA86+1 -> 202212 | AC86: =+Q86+100 -> 202301 | AD86: =+R86+100 -> 202302 | AE86: =+S86+100 -> 202303 | AF86: =+T86+100 -> 202304 | AG86: =+U86+100 -> 202305 | AH86: =+V86+100 -> 202306 | AI86: =+W86+100 -> 202307 | AJ86: =+X86+100 -> 202308 | ... AN86: =+AB86+100 -> 202312
H87: 1Q | I87: 2Q | J87: 3Q | K87: 4Q | L87: 1Q | M87: 2Q | N87: 3Q | O87: 4Q
C88: 기초CSM | H88: =+S88 -> 16420.905 | I88: =+H93 -> 16829.425 | J88: =+I93 -> 17206.879 | K88: =+J93 -> 17808.763 | L88: =+K93 -> 18004.626 | M88: =+L93 -> 18949.269 | N88: =+M93 -> 19633.505 | O88: =+N93 -> 19633.505 | S88: =+'[2]CSM상각률(당월)'!$F$11 -> 16420.905 | V88: =+'[2]CSM상각률(당월)'!$I$11 -> 16829.425 | Y88: =+'[2]CSM상각률(당월)'!$L$11 -> 17206.879 | AB88: =+'[2]CSM상각률(당월)'!$O$11 -> 17808.763 | AC88: =+'[2]CSM상각률(당월)'!$V$11 -> 18004.626 | AD88: =+'[2]CSM상각률(당월)'!$Y$11 -> 18020.99 | AE88: =+'[2]CSM상각률(당월)'!$AB$11 -> 18501.915 | AF88: =+'[2]CSM상각률(당월)'!$AE$11 -> 18949.269 | AG88: =+'[2]CSM상각률(당월)'!$AH$11 -> 19136.324 | AH88: =+'[2]CSM상각률(당월)'!$AK$11 -> 19342.689
D89: 신계약CSM | H89: =+SUMIFS($Q89:$AN89,$Q$8:$AN$8,H$8,$Q$9:$AN$9,H$9) -> 722.13556 | I89: =+SUMIFS($Q89:$AN89,$Q$8:$AN$8,I$8,$Q$9:$AN$9,I$9) -> 788.65575 | J89: =+SUMIFS($Q89:$AN89,$Q$8:$AN$8,J$8,$Q$9:$AN$9,J$9) -> 1153.1675 | K89: =+SUMIFS($Q89:$AN89,$Q$8:$AN$8,K$8,$Q$9:$AN$9,K$9) -> 1272.4148 | L89: =+SUMIFS($Q89:$AN89,$Q$8:$AN$8,L$8,$Q$9:$AN$9,L$9) -> 1551.4854 | M89: =+SUMIFS($Q89:$AN89,$Q$8:$AN$8,M$8,$Q$9:$AN$9,M$9) -> 1099.5243 | N89: =+SUMIFS($Q89:$AN89,$Q$8:$AN$8,N$8,$Q$9:$AN$9,N$9) -> 0 | O89: =+SUMIFS($Q89:$AN89,$Q$8:$AN$8,O$8,$Q$9:$AN$9,O$9) -> 0 | S89: =+'[2]CSM상각률(당월)'!$F$12 -> 722.13556 | V89: =+'[2]CSM상각률(당월)'!$I$12 -> 788.65575 | Y89: =+'[2]CSM상각률(당월)'!$L$12 -> 1153.1675 | AB89: =+'[2]CSM상각률(당월)'!$O$12 -> 1272.4148 | AC89: =+'[2]CSM상각률(당월)'!$V$12 -> 487.86977 | AD89: =+'[2]CSM상각률(당월)'!$Y$12 -> 556.22067 | AE89: =+'[2]CSM상각률(당월)'!$AB$12 -> 507.39493 | AF89: =+'[2]CSM상각률(당월)'!$AE$12 -> 354.54691 | AG89: =+'[2]CSM상각률(당월)'!$AH$12 -> 315.91798 | AH89: =+'[2]CSM상각률(당월)'!$AK$12 -> 429.05943
D90: 이자부리 | H90: =+SUMIFS($Q90:$AN90,$Q$8:$AN$8,H$8,$Q$9:$AN$9,H$9) -> 154.33664 | I90: =+SUMIFS($Q90:$AN90,$Q$8:$AN$8,I$8,$Q$9:$AN$9,I$9) -> 160.94475 | J90: =+SUMIFS($Q90:$AN90,$Q$8:$AN$8,J$8,$Q$9:$AN$9,J$9) -> 169.67471 | K90: =+SUMIFS($Q90:$AN90,$Q$8:$AN$8,K$8,$Q$9:$AN$9,K$9) -> 177.68697 | L90: =+SUMIFS($Q90:$AN90,$Q$8:$AN$8,L$8,$Q$9:$AN$9,L$9) -> 182.67838 | M90: =+SUMIFS($Q90:$AN90,$Q$8:$AN$8,M$8,$Q$9:$AN$9,M$9) -> 195.26127 | N90: =+SUMIFS($Q90:$AN90,$Q$8:$AN$8,N$8,$Q$9:$AN$9,N$9) -> 0 | O90: =+SUMIFS($Q90:$AN90,$Q$8:$AN$8,O$8,$Q$9:$AN$9,O$9) -> 0 | S90: =+'[2]CSM상각률(당월)'!$F$14 -> 154.33664 | V90: =+'[2]CSM상각률(당월)'!$I$14 -> 160.94475 | Y90: =+'[2]CSM상각률(당월)'!$L$14 -> 169.67471 | AB90: =+'[2]CSM상각률(당월)'!$O$14 -> 177.68697 | AC90: =+'[2]CSM상각률(당월)'!$V$14 -> 58.700287 | AD90: =+'[2]CSM상각률(당월)'!$Y$14 -> 60.914266 | AE90: =+'[2]CSM상각률(당월)'!$AB$14 -> 63.063825 | AF90: =+'[2]CSM상각률(당월)'!$AE$14 -> 62.244906 | AG90: =+'[2]CSM상각률(당월)'!$AH$14 -> 63.593393 | AH90: =+'[2]CSM상각률(당월)'!$AK$14 -> 69.422966
D91: CSM조정 | H91: =+SUMIFS($Q91:$AN91,$Q$8:$AN$8,H$8,$Q$9:$AN$9,H$9) -> -91.939769 | I91: =+SUMIFS($Q91:$AN91,$Q$8:$AN$8,I$8,$Q$9:$AN$9,I$9) -> -178.93677 | J91: =+SUMIFS($Q91:$AN91,$Q$8:$AN$8,J$8,$Q$9:$AN$9,J$9) -> -313.43365 | K91: =+SUMIFS($Q91:$AN91,$Q$8:$AN$8,K$8,$Q$9:$AN$9,K$9) -> -856.35567 | L91: =+SUMIFS($Q91:$AN91,$Q$8:$AN$8,L$8,$Q$9:$AN$9,L$9) -> -379.26112 | M91: =+SUMIFS($Q91:$AN91,$Q$8:$AN$8,M$8,$Q$9:$AN$9,M$9) -> -177.41638 | N91: =+SUMIFS($Q91:$AN91,$Q$8:$AN$8,N$8,$Q$9:$AN$9,N$9) -> 0 | O91: =+SUMIFS($Q91:$AN91,$Q$8:$AN$8,O$8,$Q$9:$AN$9,O$9) -> 0 | S91: =+SUM('[2]CSM상각률(당월)'!$F$13,'[2]CSM상각률(당월)'!$F$15:$F$20) -> -91.939769 | V91: =+SUM('[2]CSM상각률(당월)'!$I$13,'[2]CSM상각률(당월)'!$I$15:$I$20) -> -178.93677 | Y91: =+SUM('[2]CSM상각률(당월)'!$L$13,'[2]CSM상각률(당월)'!$L$15:$L$20) -> -313.43365 | AB91: =+SUM('[2]CSM상각률(당월)'!$O$13,'[2]CSM상각률(당월)'!$O$15:$O$20) -> -856.35567 | AC91: =+SUM('[2]CSM상각률(당월)'!$V$13,'[2]CSM상각률(당월)'!$V$15:$V$20) -> -396.75626 | AD91: =+SUM('[2]CSM상각률(당월)'!$Y$13,'[2]CSM상각률(당월)'!$Y$15:$Y$20) -> 0.020864901 | AE91: =+SUM('[2]CSM상각률(당월)'!$AB$13,'[2]CSM상각률(당월)'!$AB$15:$AB$20) -> 17.47427 | AF91: =+SUM('[2]CSM상각률(당월)'!$AE$13,'[2]CSM상각률(당월)'!$AE$15:$AE$20) -> -86.311996 | AG91: =+SUM('[2]CSM상각률(당월)'!$AH$13,'[2]CSM상각률(당월)'!$AH$15:$AH$20) -> -31.527074 | AH91: =+SUM('[2]CSM상각률(당월)'!$AK$13,'[2]CSM상각률(당월)'!$AK$15:$AK$20) -> -59.577311
D92: CSM상각 | H92: =+SUMIFS($Q92:$AN92,$Q$8:$AN$8,H$8,$Q$9:$AN$9,H$9) -> -376.0117 | I92: =+SUMIFS($Q92:$AN92,$Q$8:$AN$8,I$8,$Q$9:$AN$9,I$9) -> -393.21001 | J92: =+SUMIFS($Q92:$AN92,$Q$8:$AN$8,J$8,$Q$9:$AN$9,J$9) -> -407.52417 | K92: =+SUMIFS($Q92:$AN92,$Q$8:$AN$8,K$8,$Q$9:$AN$9,K$9) -> -397.8839 | L92: =+SUMIFS($Q92:$AN92,$Q$8:$AN$8,L$8,$Q$9:$AN$9,L$9) -> -410.25948 | M92: =+SUMIFS($Q92:$AN92,$Q$8:$AN$8,M$8,$Q$9:$AN$9,M$9) -> -433.13283 | N92: =+SUMIFS($Q92:$AN92,$Q$8:$AN$8,N$8,$Q$9:$AN$9,N$9) -> 0 | O92: =+SUMIFS($Q92:$AN92,$Q$8:$AN$8,O$8,$Q$9:$AN$9,O$9) -> 0 | S92: =+'[2]CSM상각률(당월)'!$F$21 -> -376.0117 | V92: =+'[2]CSM상각률(당월)'!$I$21 -> -393.21001 | Y92: =+'[2]CSM상각률(당월)'!$L$21 -> -407.52417 | AB92: =+'[2]CSM상각률(당월)'!$O$21 -> -397.8839 | AC92: =+'[2]CSM상각률(당월)'!$V$21 -> -133.44977 | AD92: =+'[2]CSM상각률(당월)'!$Y$21 -> -136.23057 | AE92: =+'[2]CSM상각률(당월)'!$AB$21 -> -140.57914 | AF92: =+'[2]CSM상각률(당월)'!$AE$21 -> -143.42513 | AG92: =+'[2]CSM상각률(당월)'!$AH$21 -> -141.61909 | AH92: =+'[2]CSM상각률(당월)'!$AK$21 -> -148.08861
C93: 기말CSM | H93: =+SUM(H88:H92) -> 16829.425 | I93: =+SUM(I88:I92) -> 17206.879 | J93: =+SUM(J88:J92) -> 17808.763 | K93: =+SUM(K88:K92) -> 18004.626 | L93: =+SUM(L88:L92) -> 18949.269 | M93: =+SUM(M88:M92) -> 19633.505 | N93: =+SUM(N88:N92) -> 19633.505 | O93: =+SUM(O88:O92) -> 19633.505 | Q93: =+SUM(Q88:Q92) -> 0 | R93: =+SUM(R88:R92) -> 0 | S93: =+SUM(S88:S92) -> 16829.425 | T93: =+SUM(T88:T92) -> 0 | U93: =+SUM(U88:U92) -> 0 | V93: =+SUM(V88:V92) -> 17206.879 | W93: =+SUM(W88:W92) -> 0 | X93: =+SUM(X88:X92) -> 0 | ... AN93: =+SUM(AN88:AN92) -> 0
C96: 원수검증 | Q96: =+[9]월별!EB5-Q13/100 -> 0 | R96: =+[9]월별!EC5-R13/100 -> 0 | S96: =+[9]월별!ED5-S13/100 -> 0 | T96: =+[9]월별!EE5-T13/100 -> 0 | U96: =+[9]월별!EF5-U13/100 -> 0 | V96: =+[9]월별!EG5-V13/100 -> 0 | W96: =+[9]월별!EH5-W13/100 -> 0 | X96: =+[9]월별!EI5-X13/100 -> 0 | ... AH96: =+[9]월별!ES5-AH13/100 -> 0
C97: 원수검증 | Q97: =+[9]월별!EB6-Q14/100 -> 0 | R97: =+[9]월별!EC6-R14/100 -> 0 | S97: =+[9]월별!ED6-S14/100 -> 0 | T97: =+[9]월별!EE6-T14/100 -> 0 | U97: =+[9]월별!EF6-U14/100 -> 0 | V97: =+[9]월별!EG6-V14/100 -> 0 | W97: =+[9]월별!EH6-W14/100 -> 0 | X97: =+[9]월별!EI6-X14/100 -> 0 | ... AH97: =+[9]월별!ES6-AH14/100 -> 0
C98: 원수검증 | Q98: =+Q19-Q20-Q21 -> 6.3948846e-14 | R98: =+R19-R20-R21 -> 4.4408921e-14 | S98: =+S19-S20-S21 -> 0 | T98: =+T19-T20-T21 -> 2.8421709e-14 | U98: =+U19-U20-U21 -> 0 | V98: =+V19-V20-V21 -> 2.3803182e-13 | W98: =+W19-W20-W21 -> 0 | X98: =+X19-X20-X21 -> -5.3290705e-14 | ... AH98: =+AH19-AH20-AH21 -> -2.2026825e-13
C99: 원수검증 | Q99: =+[9]월별!EB13+[9]월별!EB20-Q20/100 -> 0 | R99: =+[9]월별!EC13+[9]월별!EC20-R20/100 -> 0 | S99: =+[9]월별!ED13+[9]월별!ED20-S20/100 -> 0 | T99: =+[9]월별!EE13+[9]월별!EE20-T20/100 -> 0 | U99: =+[9]월별!EF13+[9]월별!EF20-U20/100 -> 0 | V99: =+[9]월별!EG13+[9]월별!EG20-V20/100 -> 0 | W99: =+[9]월별!EH13+[9]월별!EH20-W20/100 -> 0 | X99: =+[9]월별!EI13+[9]월별!EI20-X20/100 -> 0 | ... AH99: =+[9]월별!ES13+[9]월별!ES20-AH20/100 -> 0
C100: 원수검증 | Q100: =+[9]월별!EB27-Q21/100 -> 0 | R100: =+[9]월별!EC27-R21/100 -> 0 | S100: =+[9]월별!ED27-S21/100 -> 0 | T100: =+[9]월별!EE27-T21/100 -> 0 | U100: =+[9]월별!EF27-U21/100 -> 0 | V100: =+[9]월별!EG27-V21/100 -> 0 | W100: =+[9]월별!EH27-W21/100 -> 0 | X100: =+[9]월별!EI27-X21/100 -> 0 | ... AH100: =+[9]월별!ES27-AH21/100 -> 0
C101: 원수검증 | S101: =+[10]AI059!$G$153/1000-SUM($Q$17:S17) -> 0.039691 | V101: =+[11]AI059!$G$153/1000-SUM($Q$17:V17) -> 0.040533 | Y101: =+[12]AI059!$G$153/1000-SUM($Q$17:Y17) -> 0.041411 | AB101: =+[13]AI059!$G$153/1000-SUM($Q$17:AB17) -> 0.039102999 | AE101: =+[14]AI059!$G$153/1000-SUM($AC$17:AE17) -> 0.002391 | AH101: =+[15]AI059!$G$153/1000-SUM($AC$17:AH17) -> 0.305512
C102: 세전이익검증 | S102: =+[3]공시용_PL!$D$27/1000000-S72 -> 5.3175365e-05 | V102: =+[4]공시용_PL!$D$27/1000000-(V72+S72) -> 0.00019031802 | Y102: =+[5]공시용_PL!$D$27/1000000-(Y72+V72+S72) -> 0.00016500274 | AB102: =+[6]공시용_PL!$D$27/1000000-(AB72+Y72+V72+S72) -> -0.006455842 | AE102: =+[7]공시용_PL!$D$27/1000000-SUM(AC72:AE72) -> 1.0815857e-06 | AH102: =+[8]공시용_PL!$D$27/1000000-SUM(AC72:AH72) -> -3.4479308e-07
C103: 투자손익(공시용)검증 | S103: =+[3]공시용_PL!$D$9/1000000-S64 -> 5.3000025e-05 | V103: =+[4]공시용_PL!$D$9/1000000-(V64+S64) -> 0.00019300001 | Y103: =+[5]공시용_PL!$D$9/1000000-(Y64+V64+S64) -> 0.00016800023 | AB103: =+[6]공시용_PL!$D$9/1000000-(AB64+Y64+V64+S64) -> -0.0084580001 | AE103: =+[7]공시용_PL!$D$9/1000000-SUM(AC64:AE64) -> 0 | AH103: =+[8]공시용_PL!$D$9/1000000-SUM(AC64:AH64) -> -9.4587449e-11
C104: 기말CSM검증 | S104: =+'[2]CSM상각률(당월)'!$F$22-S93 -> 0 | V104: =+'[2]CSM상각률(당월)'!$I$22-V93 -> 0 | Y104: =+'[2]CSM상각률(당월)'!$L$22-Y93 -> 0 | AB104: =+'[2]CSM상각률(당월)'!$O$22-AB93 -> 0 | AC104: =+'[2]CSM상각률(당월)'!$V$22-AC93 -> 0 | AD104: =+'[2]CSM상각률(당월)'!$Y$22-AD93 -> 0 | AE104: =+'[2]CSM상각률(당월)'!$AB$22-AE93 -> 0 | AF104: =+'[2]CSM상각률(당월)'!$AE$22-AF93 -> 0 | AG104: =+'[2]CSM상각률(당월)'!$AH$22-AG93 -> 0 | AH104: =+'[2]CSM상각률(당월)'!$AK$22-AH93 -> 0

Sheet Q
C3: SELECT 기준년월 | K3: 보종월 | O3: 수입보험료
C4: , (CASE WHEN 보종중분류코드 = '21' THEN '보장' | K4: 증권번호 | O4: 증권번호
C5: WHEN 보종중분류코드 = '22' THEN '재물' | O5: 입금원인코드 = '01' << 신계약
C6: WHEN 보종중분류코드 = '23' THEN '저축'
C7: ELSE '기타' END) AS 보종중분류
C8: , (CASE WHEN 보종소분류코드 = '2A' THEN '상해'
C9: WHEN 보종소분류코드 = '2B' THEN '질병'
C10: WHEN 보종소분류코드 = '2C' THEN '운전자'
C11: WHEN 보종소분류코드 = '2G' THEN '재물'
C12: WHEN 보종소분류코드 = '2D' THEN '저축성'
C13: WHEN 보종소분류코드 = '2F' THEN '연금'
C14: ELSE '기타' END) AS 보종소분류
C15: , 납입방법구분코드, 장기신규여부
C16: , SUM(원수실적) AS 원수보험료
C17: FROM mart.마트_마케팅_영관_보종월명세
... C22: ORDER BY 기준년월, 보종중분류, 보종소분류, 납입방법구분코드, 장기신규여부

Sheet R
B1: 기준년월 | C1: 보종중분류 | D1: 보종소분류 | E1: 납입방법구분코드 | F1: 장기신규여부 | G1: 원수보험료 | J1: 신규(월납환산)보험료
B2: 202201 | C2: 보장 | D2: 상해 | E2: 0 | F2: Y | G2: 150376 | I2: =+VLOOKUP($E2,$N$2:$P$7,3,0) -> 일시납 | J2: =+IF(E2=0,0,G2/I2) -> 0 | N2: 0 | O2: 일시납 | P2: 일시납
B3: 202201 | C3: 보장 | D3: 상해 | E3: 10 | F3: N | G3: 114865900014 | I3: =+VLOOKUP($E3,$N$2:$P$7,3,0) -> 1 | J3: =+IF(E3=0,0,G3/I3) -> 114865900014 | N3: 10 | O3: 월납 | P3: 1
B4: 202201 | C4: 보장 | D4: 상해 | E4: 10 | F4: Y | G4: 954523885 | I4: =+VLOOKUP($E4,$N$2:$P$7,3,0) -> 1 | J4: =+IF(E4=0,0,G4/I4) -> 954523885 | N4: 20 | O4: 2월납 | P4: 2
B5: 202201 | C5: 보장 | D5: 상해 | E5: 20 | F5: N | G5: 102980 | I5: =+VLOOKUP($E5,$N$2:$P$7,3,0) -> 2 | J5: =+IF(E5=0,0,G5/I5) -> 51490 | N5: 30 | O5: 3월납 | P5: 3
B6: 202201 | C6: 보장 | D6: 상해 | E6: 30 | F6: N | G6: 1206160 | I6: =+VLOOKUP($E6,$N$2:$P$7,3,0) -> 3 | J6: =+IF(E6=0,0,G6/I6) -> 402053.33 | N6: 60 | O6: 6월납 | P6: 6
B7: 202201 | C7: 보장 | D7: 상해 | E7: 60 | F7: N | G7: 479939 | I7: =+VLOOKUP($E7,$N$2:$P$7,3,0) -> 6 | J7: =+IF(E7=0,0,G7/I7) -> 79989.833 | N7: 90 | O7: 12월납 | P7: 12
B8: 202201 | C8: 보장 | D8: 상해 | E8: 90 | F8: N | G8: 16568298 | I8: =+VLOOKUP($E8,$N$2:$P$7,3,0) -> 12 | J8: =+IF(E8=0,0,G8/I8) -> 1380691.5
B9: 202201 | C9: 보장 | D9: 운전자 | E9: 10 | F9: N | G9: 9840920028 | I9: =+VLOOKUP($E9,$N$2:$P$7,3,0) -> 1 | J9: =+IF(E9=0,0,G9/I9) -> 9840920028
B10: 202201 | C10: 보장 | D10: 운전자 | E10: 10 | F10: Y | G10: 535589107 | I10: =+VLOOKUP($E10,$N$2:$P$7,3,0) -> 1 | J10: =+IF(E10=0,0,G10/I10) -> 535589107
B11: 202201 | C11: 보장 | D11: 운전자 | E11: 30 | F11: N | G11: 1837610 | I11: =+VLOOKUP($E11,$N$2:$P$7,3,0) -> 3 | J11: =+IF(E11=0,0,G11/I11) -> 612536.67
B12: 202201 | C12: 보장 | D12: 운전자 | E12: 90 | F12: N | G12: 1799753 | I12: =+VLOOKUP($E12,$N$2:$P$7,3,0) -> 12 | J12: =+IF(E12=0,0,G12/I12) -> 149979.42
B13: 202201 | C13: 보장 | D13: 운전자 | E13: 90 | F13: Y | G13: 938688 | I13: =+VLOOKUP($E13,$N$2:$P$7,3,0) -> 12 | J13: =+IF(E13=0,0,G13/I13) -> 78224
B14: 202201 | C14: 보장 | D14: 질병 | E14: 10 | F14: N | G14: 20797714458 | I14: =+VLOOKUP($E14,$N$2:$P$7,3,0) -> 1 | J14: =+IF(E14=0,0,G14/I14) -> 20797714458
B15: 202201 | C15: 보장 | D15: 질병 | E15: 10 | F15: Y | G15: 25536942 | I15: =+VLOOKUP($E15,$N$2:$P$7,3,0) -> 1 | J15: =+IF(E15=0,0,G15/I15) -> 25536942
B16: 202201 | C16: 보장 | D16: 질병 | E16: 30 | F16: N | G16: 240651 | I16: =+VLOOKUP($E16,$N$2:$P$7,3,0) -> 3 | J16: =+IF(E16=0,0,G16/I16) -> 80217
B17: 202201 | C17: 재물 | D17: 재물 | E17: 10 | F17: N | G17: 2701386704 | I17: =+VLOOKUP($E17,$N$2:$P$7,3,0) -> 1 | J17: =+IF(E17=0,0,G17/I17) -> 2701386704
B18: 202201 | C18: 재물 | D18: 재물 | E18: 10 | F18: Y | G18: 21749584 | I18: =+VLOOKUP($E18,$N$2:$P$7,3,0) -> 1 | J18: =+IF(E18=0,0,G18/I18) -> 21749584
B19: 202201 | C19: 재물 | D19: 재물 | E19: 30 | F19: N | G19: 880000 | I19: =+VLOOKUP($E19,$N$2:$P$7,3,0) -> 3 | J19: =+IF(E19=0,0,G19/I19) -> 293333.33
... B550: 202306 | C550: 저축 | D550: 저축성 | E550: 90 | F550: Y | G550: 0 | I550: =+VLOOKUP($E550,$N$2:$P$7,3,0) -> 12 | J550: =+IF(E550=0,0,G550/I550) -> 0
